Workbook

Sheet Goed Bestuur
A1: Badminton Vlaanderen / Goed Bestuur | E1: Timing | I1: Status uitvoering actie/doelstelling | P1: Begroting | X1: Status resultatenrekening
A2: SD | B2: OD | C2: Actie | D2: Omschrijving | E2: 2025 | F2: 2026 | G2: 2027 | H2: 2028 | I2: 2025 | J2: 2026 | K2: 2027 | L2: 2028 | M2: Verantw | N2: Analytische code | O2: Indicator | P2: kosten | Q2: opbrengsten | R2: kosten | S2: opbrengsten | T2: kosten | U2: opbrengsten | V2: kosten | W2: opbrengsten | X2: kosten | Y2: opbrengsten | Z2: kosten | AA2: opbrengsten | AB2: kosten | AC2: opbrengsten | AD2: kosten | AE2: opbrengsten
P3: 2025 | Q3: 2025 | R3: 2026 | S3: 2026 | T3: 2027 | U3: 2027 | V3: 2028 | W3: 2028 | X3: 2025 | Y3: 2025 | Z3: 2026 | AA3: 2026 | AB3: 2027 | AC3: 2027 | AD3: 2028 | AE3: 2028
A4: SD1 - PUSH | D4: Tegen eind 2028 zal Badminton Vlaanderen haar financiële stabiliteit versterken door een diversificatie van inkomstenbronnen te realiseren, waarbij minimaal 5% van het jaarlijkse budget afkomstig is uit nieuwe bronnen die niet afhankelijk zijn van subsidies en bestaande lidmaatschapsgelden. | P4: =SUM(P5,P10) -> 2000 | Q4: =SUM(Q5,Q10) -> 0 | R4: =SUM(R5,R10) -> 3500 | S4: =SUM(S5,S10) -> 0 | T4: =SUM(T5,T10) -> 3000 | U4: =SUM(U5,U10) -> 0 | V4: =SUM(V5,V10) -> 2500 | W4: =SUM(W5,W10) -> 0 | ... AE4: =SUM(AE5,AE10) -> 0
B5: OD1 | D5: Tegen eind 2028 zal Badminton Vlaanderen een strategie voor diversificatie van inkomstbronnen implementeren, met een focus op het identificeren van subsidies en duurzame partnerschappen waarbij ten minste 3 nieuwe inkomstenbronnen worden geïdentificeerd en benaderd. | O5: Aantal nieuwe inkomstenbronnen | P5: =SUM(P6:P9) -> 500 | Q5: =SUM(Q6:Q9) -> 0 | R5: =SUM(R6:R9) -> 1000 | S5: =SUM(S6:S9) -> 0 | T5: =SUM(T6:T9) -> 1500 | U5: =SUM(U6:U9) -> 0 | V5: =SUM(V6:V9) -> 1000 | W5: =SUM(W6:W9) -> 0 | ... AE5: =SUM(AE6:AE9) -> 0
C6: A1 | D6: Uitvoeren van risico-analyse van huidige inkomsten en identificeren van gebieden voor diversificatie | M6: Directeur | N6: AW | P6: 500 | Q6: 0 | R6: 500 | S6: 0 | T6: 0 | U6: 0 | V6: 0 | W6: 0
C7: A2 | D7: Opstellen van een diversificatiestrategie | M7: Directeur | N7: AW | P7: 0 | Q7: 0 | R7: 500 | S7: 0 | T7: 1000 | U7: 0 | V7: 0 | W7: 0
C8: A3 | D8: Implementatie van diversificatiestrategie | M8: Directeur | N8: AW | P8: 0 | Q8: 0 | R8: 0 | S8: 0 | T8: 500 | U8: 0 | V8: 500 | W8: 0
C9: A4 | D9: Monitoring en evaluatie van strategie | M9: Directeur | N9: AW | P9: 0 | Q9: 0 | R9: 0 | S9: 0 | T9: 0 | U9: 0 | V9: 500 | W9: 0
B10: OD2 | D10: Tegen eind 2026 zal Badminton Vlaanderen een sponsorwervingscampagne lanceren om nieuwe sponsors aan te trekken en bestaande relaties te versterken, met als doel het genereren van minimaal €50000 aan extra inkomsten voor het komende boekjaar. | O10: Extra inkomsten dat gegenereerd zijn. | P10: =SUM(P11:P13) -> 1500 | Q10: =SUM(Q11:Q13) -> 0 | R10: =SUM(R11:R13) -> 2500 | S10: =SUM(S11:S13) -> 0 | T10: =SUM(T11:T13) -> 1500 | U10: =SUM(U11:U13) -> 0 | V10: =SUM(V11:V13) -> 1500 | W10: =SUM(W11:W13) -> 0 | ... AE10: =SUM(AE11:AE13) -> 0
C11: A1 | D11: Uitvoeren van marktonderzoek om potentiële partners te identificeren | M11: Directeur/Geraldine | N11: AW | P11: 1500 | Q11: 0 | R11: 0 | S11: 0 | T11: 0 | U11: 0 | V11: 0 | W11: 0
C12: A2 | D12: Opstellen van verschillende sponsorpakketten | M12: Directeur/Geraldine | N12: AW | P12: " | Q12: 0 | R12: 2500 | S12: 0 | T12: 0 | U12: 0 | V12: 0 | W12: 0
C13: A3 | D13: Benaderen van potentiële sponsors met op maat gemaakte voorstellen en presentatie die de voordelen van samenwerking met Badminton Vlaanderen benadrukken | M13: Directeur/Geraldine | N13: AW | P13: 0 | Q13: 0 | R13: 0 | S13: 0 | T13: 1500 | U13: 0 | V13: 1500 | W13: 0
A14: SD2 - SMASH | D14: Tegen eind 2025 zal Badminton Vlaanderen haar transparantie en interne verantwoordingsmechanismen versterken, om het vertrouwen van haar leden, clubs en belanghebbenden te vergroten en een cultuur van openheid en verantwoording te bevorderen. | P14: =SUM(P15) -> 500 | Q14: =SUM(Q15) -> 0 | R14: =SUM(R15) -> 0 | S14: =SUM(S15) -> 0 | T14: =SUM(T15) -> 0 | U14: =SUM(U15) -> 0 | V14: =SUM(V15) -> 0 | W14: =SUM(W15) -> 0 | ... AE14: =SUM(AE15) -> 0
B15: OD1 | D15: Tegen het einde van het derde kwartaal van 2025 zal Badminton Vlaanderen een transparantie-initiatief lanceren, gericht op het versterken van de communicatie en het verstrekken van toegankelijke informatie aan belanghebbenden over de activiteiten, besluitvorming en financiën van de federatie. | O15: Officiële lancering van initiatief tegen eind 2025 | P15: =SUM(P16:P19) -> 500 | Q15: =SUM(Q16:Q19) -> 0 | R15: =SUM(R16:R19) -> 0 | S15: =SUM(S16:S19) -> 0 | T15: =SUM(T16:T19) -> 0 | U15: =SUM(U16:U19) -> 0 | V15: =SUM(V16:V19) -> 0 | W15: =SUM(W16:W19) -> 0 | ... AE15: =SUM(AE16:AE19) -> 0
C16: A1 | D16: Identificeren van de belangrijkste belanghebbenden van Badminton Vlaanderen | M16: Directeur | N16: AW | P16: 500 | Q16: 0 | R16: 0 | S16: 0 | T16: 0 | U16: 0 | V16: 0 | W16: 0
C17: A2 | D17: Identificeren van de belangrijkste informatie en documenten die moeten worden opgenomen in het initiatief: Beleidsdocumenten, jaarverslagen, financiële overzichten, … | M17: Directeur | N17: AW | P17: 0 | Q17: 0 | R17: 0 | S17: 0 | T17: 0 | U17: 0 | V17: 0 | W17: 0
C18: A3 | D18: Publicatie van relevantie informatie op website + duidelijke communicatie hierover | M18: Directeur | N18: AW | P18: 0 | Q18: 0 | R18: 0 | S18: 0 | T18: 0 | U18: 0 | V18: 0 | W18: 0
C19: A4 | D19: Jaarlijkse bevraging aan leden ter evaluatie van Badminton Vlaanderen en zijn beleid | M19: Directeur | N19: AW | P19: 0 | Q19: 0 | R19: 0 | S19: 0 | T19: 0 | U19: 0 | V19: 0 | W19: 0
A20: SD3 - PUSH | D20: Doorheen de beleidsperiode zal Badminton Vlaanderen zijn goed bestuur optimaliseren, door het behalen van een minimale score van 85% gedurende de komende beleidsperiode. | P20: =SUM(P21) -> 0 | Q20: =SUM(Q21) -> 0 | R20: =SUM(R21) -> 0 | S20: =SUM(S21) -> 0 | T20: =SUM(T21) -> 0 | U20: =SUM(U21) -> 0 | V20: =SUM(V21) -> 0 | W20: =SUM(W21) -> 0 | ... AE20: =SUM(AE21) -> 0
B21: OD1 | D21: Uitvoeren van geïntegreerd goed bestuur beleid dat transparantie, democratie en interne verantwoording bevordert. | O21: Behaalde score op goed bestuur | P21: =SUM(P22:P25) -> 0 | Q21: =SUM(Q22:Q25) -> 0 | R21: =SUM(R22:R25) -> 0 | S21: =SUM(S22:S25) -> 0 | T21: =SUM(T22:T25) -> 0 | U21: =SUM(U22:U25) -> 0 | V21: =SUM(V22:V25) -> 0 | W21: =SUM(W22:W25) -> 0 | ... AE21: =SUM(AE22:AE25) -> 0
C22: A1 | D22: Creëren van richtlijnen en procedures voor transparante besluitvorming | M22: Directeur | N22: AW | P22: 0 | Q22: 0 | R22: 0 | S22: 0 | T22: 0 | U22: 0 | V22: 0 | W22: 0
C23: A2 | D23: Implementatie van procedures en jaarlijkse evaluatie van deze procedures | M23: Directeur | N23: AW | P23: 0 | Q23: 0 | R23: 0 | S23: 0 | T23: 0 | U23: 0 | V23: 0 | W23: 0
C24: A3 | D24: Jaarlijkse zelfevaluatie van bestuursorgaan en dienstencentrum | M24: Directeur | N24: AW | P24: 0 | Q24: 0 | R24: 0 | S24: 0 | T24: 0 | U24: 0 | V24: 0 | W24: 0
C25: A2 | D25: Behalen van een score van minstens 85% op goed bestuur waaronder minsten 90% op transparantie, 60% op democratie en 80% op interne verantwoording | M25: Directeur | N25: AW | P25: 0 | Q25: 0 | R25: 0 | S25: 0 | T25: 0 | U25: 0 | V25: 0 | W25: 0
P26: =SUM(P20,P14,P4) -> 2500 | Q26: =SUM(Q20,Q14,Q4) -> 0 | R26: =SUM(R20,R14,R4) -> 3500 | S26: =SUM(S20,S14,S4) -> 0 | T26: =SUM(T20,T14,T4) -> 3000 | U26: =SUM(U20,U14,U4) -> 0 | V26: =SUM(V20,V14,V4) -> 2500 | W26: =SUM(W20,W14,W4) -> 0 | ... AE26: =SUM(AE20,AE14,AE4) -> 0

Sheet Topsport
A1: NAAM/ LOGO ORGANISATIE | E1: Timing | I1: Status uitvoering actie/doelstelling | O1: Begroting wij verwijzen naar de file conform ConveantTopsport OntwerpfederatiebegrotingTOPSPORT info GertJanJoJurgen | W1: Status resultatenrekening
A2: SD | B2: OD | C2: Actie | D2: Omschrijving | E2: 2021 | F2: 2022 | G2: 2023 | H2: 2024 | I2: 2021 | J2: 2022 | K2: 2023 | L2: 2024 | M2: Verantw | N2: Ana-lytische code | O2: kosten 2021 | P2: opbrengsten 2021 | Q2: kosten 2022 | R2: opbrengsten 2022 | S2: kosten 2023 | T2: opbrengsten 2023 | U2: kosten 2024 | V2: opbrengsten 2024 | W2: kosten 2021 | X2: opbrengsten 2021 | Y2: kosten 2022 | Z2: opbrengsten 2022 | AA2: kosten 2023 | AB2: opbrengsten 2023 | AC2: kosten 2024 | AD2: opbrengsten 2024
A3: SD001 | D3: 1 Prestatatieprogramma Herensingle tegen 2022 in een tewerkstellings, defensie of studentencontract | O3: som kosten SD001 | P3: som opbrengsten SD001 | Q3: som kosten SD001 | R3: som opbrengsten SD001 | S3: som kosten SD001 | T3: som opbrengsten SD001 | U3: som kosten SD001 | V3: som opbrengsten SD001 | W3: som kosten SD001 | X3: som opbrengsten SD001 | Y3: som kosten SD001 | Z3: som opbrengsten SD001 | AA3: som kosten SD001 | AB3: som opbrengsten SD001 | AC3: som kosten SD001 | AD3: som opbrengsten SD001
B4: OD001 | D4: Badminton Vlaanderen wil jaarlijks een trainingsomgeving aanbieden die voor de atleten de grootste kans van slagen biedt in samenspraak met de topsportcommissie en die door atleten -elite coachen en technisch directeur topsport ieder kwartaal positief wordt geevalueerd en/of bijgestuurd. | O4: som kosten OD001 | P4: som opbrengsten OD001 | Q4: som kosten OD001 | R4: som opbrengsten OD001 | S4: som kosten OD001 | T4: som opbrengsten OD001 | U4: som kosten OD001 | V4: som opbrengsten OD001 | W4: som kosten OD001 | X4: som opbrengsten OD001 | Y4: som kosten OD001 | Z4: som opbrengsten OD001 | AA4: som kosten OD001 | AB4: som opbrengsten OD001 | AC4: som kosten OD001 | AD4: som opbrengsten OD001
C5: A0001 | D5: Dagelijkse trainingen organiseren begeleid door een team van elitecoachen met ervaring op het Europese- en wereldniveau
C6: A0002 | D6: Organisatie van relevante stage ifv de individuele doelstellingen - minimaal 4 per jaar
C7: A0003 | D7: Extra sparringsmogelijkheden tov de dagdagelijkse sparringomgeving creëren ifv de specifieke ontwikkeling - min 10 dagen per jaar
C8: A0004 | D8: Mogelijkheid tot dagelijkse toegang van kine
C9: A0005 | D9: Structurele mentale wordt gemonitord door speler en programmanager in min x sessies per jaar
C10: A0006 | D10: Structurele voedingsbegeleiding wordt gemonitord door speler en programmanager in min x sessies
B11: OD002 | D11: Badminton Vlaanderen wil jaarlijks een tornooiprogramma aanbieden die voor de atleten de grootste kans van slagen biedt in samenspraak met de topsportcommissie en die door atleten -elite coachen en technisch directeur topsport ieder kwartaal positief wordt geëvalueerd en/of bijgestuurd. _x000D_ | O11: som kosten OD002 | P11: som opbrengsten OD002 | Q11: som kosten OD002 | R11: som opbrengsten OD002 | S11: som kosten OD002 | T11: som opbrengsten OD002 | U11: som kosten OD002 | V11: som opbrengsten OD002 | W11: som kosten OD002 | X11: som opbrengsten OD002 | Y11: som kosten OD002 | Z11: som opbrengsten OD002 | AA11: som kosten OD002 | AB11: som opbrengsten OD002 | AC11: som kosten OD002 | AD11: som opbrengsten OD002
C12: A0001 | D12: Bepaling van de noodzakelijke jaarlijkse tornooiprogramma om tot het prestatieprofiel te komen - ieder kwartaal update met Topsportcommissie
C13: A0002 | D13: Afwerking van het jaartornooiprogramma en bijsturing ifv prestatie-evolutie waar nodig
C14: A0003 | D14: Permanente evaluatie van de KPI/results en formeel voor de topsportcommissie ieder kwartaal in rapportvorm
B15: OD003 | D15: Reserveren van €7500,- extra budget Badminton Vlaanderen voor eventuele extra tornooien/stages bij mogelijkheid Olympische kwalificatie | O15: 7500 | Q15: 7500
C16: A0001 | D16: Opstellen van tornooiprogramma waarmee de meeste kans is op Olympisch kwalificatie
A17: SD002 | D17: Tegen midden 2023 willen we via een ontwikkelingsprorgamma gemengd dubbel de criteria behalen voor het prestatieprogramma met als doel een medaille op EK 2024 | O17: som kosten SD002 | P17: som opbrengsten SD002 | Q17: som kosten SD002 | R17: som opbrengsten SD002 | S17: som kosten SD002 | T17: som opbrengsten SD002 | U17: som kosten SD002 | V17: som opbrengsten SD002 | W17: som kosten SD002 | X17: som opbrengsten SD002 | Y17: som kosten SD002 | Z17: som opbrengsten SD002 | AA17: som kosten SD002 | AB17: som opbrengsten SD002 | AC17: som kosten SD002 | AD17: som opbrengsten SD002
B18: OD003 | D18: Badminton Vlaanderen wil jaarlijks een trainingsomgeving aanbieden die voor de atleten de grootste kans van slagen biedt in samenspraak met de topsportcommissie en die door atleten -elite coachen en technisch directeur topsport ieder kwartaal positief wordt geevalueerd en/of bijgestuurd. | O18: som kosten OD003 | P18: som opbrengsten OD003 | Q18: som kosten OD003 | R18: som opbrengsten OD003 | S18: som kosten OD003 | T18: som opbrengsten OD003 | U18: som kosten OD003 | V18: som opbrengsten OD003 | W18: som kosten OD003 | X18: som opbrengsten OD003 | Y18: som kosten OD003 | Z18: som opbrengsten OD003 | AA18: som kosten OD003 | AB18: som opbrengsten OD003 | AC18: som kosten OD003 | AD18: som opbrengsten OD003
C19: A0001 | D19: Dagelijkse trainingen organiseren begeleid door een team van elitecoachen met ervaring op het Europese- en wereldniveau
C20: A0002 | D20: Organisatie van relevante stage ifv de individuele doelstellingen - minimaal 2 per jaar
C21: A0003 | D21: Extra sparringsmogelijkheden creëren tov de dagdagelijkse sparringomgeving ifv de specifieke ontwikkeling - min 1 week per jaar
C22: A0004 | D22: Mogelijkheid tot dagelijkse toegang van kine
C23: A0005 | D23: Structurele mentale wordt gemonitord door speler en programmanager in min x sessies per jaar
C24: A0006 | D24: Structurele voedingsbegeleiding wordt gemonitord door speler en programmanager in min x sessies
B25: OD004 | D25: Badminton Vlaanderen wil jaarlijks een tornooiprogramma aanbieden die voor de atleten de grootste kans van slagen biedt in samenspraak met de topsportcommissie en die door atleten -elite coachen en technisch directeur topsport ieder kwartaal positief wordt geevalueerd en/of bijgestuurd. | O25: som kosten OD004 | P25: som opbrengsten OD004 | Q25: som kosten OD004 | R25: som opbrengsten OD004 | S25: som kosten OD004 | T25: som opbrengsten OD004 | U25: som kosten OD004 | V25: som opbrengsten OD004 | W25: som kosten OD004 | X25: som opbrengsten OD004 | Y25: som kosten OD004 | Z25: som opbrengsten OD004 | AA25: som kosten OD004 | AB25: som opbrengsten OD004 | AC25: som kosten OD004 | AD25: som opbrengsten OD004
C26: A0001 | D26: Bepaling van de noodzakelijke jaarlijkse tornooiprogramma om tot het prestatieprofiel te komen - ieder kwartaal update met Topsportcommissie
C27: A0002 | D27: Afwerking van het jaartornooiprogramma en bijsturing ifv prestatie-evolutie waar nodig
C28: A0003 | D28: Permanente evaluatie van de KPI/results en formeel voor de topsportcommissie ieder kwartaal in rapportvorm
C29: A0004 | D29: Adequate tornooibegeleiding door elitecoach - assistent elite coach op basis van minimum 80% tornooibegeleiding indien de budgettaire mogelijkheden aanwezig zijn
B30: OD005 | D30: Min 1 speler aan het profparcours van Sport Vlaanderen deel te laten nemen voor een betere ondersteuning van zijn/haar carriere. | O30: som kosten OD004 | P30: som opbrengsten OD004 | Q30: som kosten OD004 | R30: som opbrengsten OD004 | S30: som kosten OD004 | T30: som opbrengsten OD004 | U30: som kosten OD004 | V30: som opbrengsten OD004 | W30: som kosten OD004 | X30: som opbrengsten OD004 | Y30: som kosten OD004 | Z30: som opbrengsten OD004 | AA30: som kosten OD004 | AB30: som opbrengsten OD004 | AC30: som kosten OD004 | AD30: som opbrengsten OD004
C31: A0001 | D31: aanvraag gebeurt uiterlijk 2020 duurtijd 21-22 medio 23
A32: SD003 | D32: Tegen einde 2024 wil Badminton Vlaanderen 2 spelers uit de topsportschool en of Vlaamse jeugdselectie kunnen plaatsen in een ontwikkelingsprogramma 2025-2028 voorbereidend op een prestatieprogramma voor de Olympiade van 2024-2028. | O32: som kosten SD001 | P32: som opbrengsten SD001 | Q32: som kosten SD001 | R32: som opbrengsten SD001 | S32: som kosten SD001 | T32: som opbrengsten SD001 | U32: som kosten SD001 | V32: som opbrengsten SD001 | W32: som kosten SD001 | X32: som opbrengsten SD001 | Y32: som kosten SD001 | Z32: som opbrengsten SD001 | AA32: som kosten SD001 | AB32: som opbrengsten SD001 | AC32: som kosten SD001 | AD32: som opbrengsten SD001
B33: OD001 | D33: Badminton Vlaanderen wil de noodzakelijke structurele trainingsomkadering van TSS behouden op minimum het niveau van de afgelopen Olympiade en streeft naar een minimale trainers omkadering van 4 VTE . | O33: som kosten OD001 | P33: som opbrengsten OD001 | Q33: som kosten OD001 | R33: som opbrengsten OD001 | S33: som kosten OD001 | T33: som opbrengsten OD001 | U33: som kosten OD001 | V33: som opbrengsten OD001 | W33: som kosten OD001 | X33: som opbrengsten OD001 | Y33: som kosten OD001 | Z33: som opbrengsten OD001 | AA33: som kosten OD001 | AB33: som opbrengsten OD001 | AC33: som kosten OD001 | AD33: som opbrengsten OD001
C34: A0001 | D34: Dagelijkse trainingen organiseren begeleid door een team van coaches volgens ons leerplan
C35: A0002 | D35: Organisatie van relevante stage ifv de individuele en graadsdoelstellingen met een minimum van 8 per olympiade
C36: A0003 | D36: Extra sparringsmogelijkheden creëren ifv de specifieke ontwikkellijn waar nodig met een minimum van 2 per jaar
C37: A0004 | D37: Binnen TSS passen we structuele voeding, mentale en fysio begeleiding toe per graad volgens ontwikkelingslijn en leerplan - chck leerplan
B38: OD002 | D38: Badminton Vlaanderen wil jaarlijks een tornooiprogramma aanbieden dat toelaat dat TSS leerlingen zich meten met de sterkste tegenstanders uit Europa binnen hun leeftijdscategorie waarbij we minimum 10 resultaten met kwartfinale of beter halen met een aanwezigheid van minimum 3 toplanden. | O38: som kosten OD002 | P38: som opbrengsten OD002 | Q38: som kosten OD002 | R38: som opbrengsten OD002 | S38: som kosten OD002 | T38: som opbrengsten OD002 | U38: som kosten OD002 | V38: som opbrengsten OD002 | W38: som kosten OD002 | X38: som opbrengsten OD002 | Y38: som kosten OD002 | Z38: som opbrengsten OD002 | AA38: som kosten OD002 | AB38: som opbrengsten OD002 | AC38: som kosten OD002 | AD38: som opbrengsten OD002
C39: A0001 | D39: Aanbieden van een specifiek TSS tornooiprogramma per graad - voor aanvang van het seizoen gepubliceerd en begeleid door TSS coach
C40: A0002 | D40: Afwerking van het jaartornooiprogramma en bijsturing ifv prestatie-evolutie waar nodig
...

Sheet Integriteit & Gezond sporten
A1: Badminton Vlaanderen / Integriteit en gezond sporten | E1: Timing | I1: Status uitvoering actie/doelstelling | P1: Begroting | X1: Status resultatenrekening
A2: SD | B2: OD | C2: Actie | D2: Omschrijving | E2: 2025 | F2: 2026 | G2: 2027 | H2: 2028 | I2: 2025 | J2: 2026 | K2: 2027 | L2: 2028 | M2: Verantw | N2: Ana-lytische code | O2: Indicator | P2: kosten | Q2: opbrengsten | R2: kosten | S2: opbrengsten | T2: kosten | U2: opbrengsten | V2: kosten | W2: opbrengsten | X2: kosten | Y2: opbrengsten | Z2: kosten | AA2: opbrengsten | AB2: kosten | AC2: opbrengsten | AD2: kosten | AE2: opbrengsten
P3: 2025 | Q3: 2025 | R3: 2026 | S3: 2026 | T3: 2027 | U3: 2027 | V3: 2028 | W3: 2028 | X3: 2025 | Y3: 2025 | Z3: 2026 | AA3: 2026 | AB3: 2027 | AC3: 2027 | AD3: 2028 | AE3: 2028
A4: SD1 - SMASH | D4: Binnen de beleidsperiode tracht Badminton Vlaanderen de betrokkenheid van clubs binnen de cluster ethisch sporten te verhogen. | P4: =SUM(P5,P8,P12,P16) -> 1500 | Q4: =SUM(Q5,Q8,Q12,Q16) -> 0 | R4: =SUM(R5,R8,R12,R16) -> 1500 | S4: =SUM(S5,S8,S12,S16) -> 0 | T4: =SUM(T5,T8,T12,T16) -> 1500 | U4: =SUM(U5,U8,U12,U16) -> 0 | V4: =SUM(V5,V8,V12,V16) -> 1500 | W4: =SUM(W5,W8,W12,W16) -> 0 | ... AE4: =SUM(AE5,AE8,AE12,AE16) -> 0
B5: OD1 | D5: Tegen eind 2028 beschikken 65% van onze clubs en 100% van onze clubs met een jeugdwerking over een aanspreekpersoon integriteit. | O5: Aantal club-API's bij clubs met een jeugdwerking | P5: =SUM(P6:P7) -> 0 | Q5: =SUM(Q6:Q7) -> 0 | R5: =SUM(R6:R7) -> 0 | S5: =SUM(S6:S7) -> 0 | T5: =SUM(T6:T7) -> 0 | U5: =SUM(U6:U7) -> 0 | V5: =SUM(V6:V7) -> 0 | W5: =SUM(W6:W7) -> 0 | ... AE5: =SUM(AE6:AE7) -> 0
C6: A1 | D6: Jaarlijks trachten we minstens 20 Club-API's op te leiden | M6: Pieter-Jan | N6: AINT | P6: 0 | Q6: 0 | R6: 0 | S6: 0 | T6: 0 | U6: 0 | V6: 0 | W6: 0
C7: A2 | D7: Jaarlijks vragen we aan de club hun actieve Club-API via het ledenbeheer up te daten | M7: Pieter-Jan | N7: AINT | P7: 0 | Q7: 0 | R7: 0 | S7: 0 | T7: 0 | U7: 0 | V7: 0 | W7: 0
B8: OD2 | D8: Tegen eind 2028 hebben 50% van onze clubs met een jeugdwerking een integriteitsbeleid opgesteld. | O8: Percentage van aantal clubs met een integriteitsbeleid | P8: =SUM(P9:P11) -> 250 | Q8: =SUM(Q9:Q11) -> 0 | R8: =SUM(R9:R11) -> 250 | S8: =SUM(S9:S11) -> 0 | T8: =SUM(T9:T11) -> 250 | U8: =SUM(U9:U11) -> 0 | V8: =SUM(V9:V11) -> 250 | W8: =SUM(W9:W11) -> 0 | ... AE8: =SUM(AE9:AE11) -> 0
C9: A1 | D9: Jaarlijks stellen we ons beleid voor aan de clubs als inspiratiebron | M9: Pieter-Jan | N9: AINT | P9: 0 | Q9: 0 | R9: 0 | S9: 0 | T9: 0 | U9: 0 | V9: 0 | W9: 0
C10: A2 | D10: Jaarlijks organiseren we een workshop voor clubbestuurders en Club-API's omtrent het opstellen en implementeren van een integriteitsbeleid | M10: Pieter-Jan | N10: AINT | P10: 250 | Q10: 0 | R10: 250 | S10: 0 | T10: 250 | U10: 0 | V10: 250 | W10: 0
C11: A2 | D11: Jaarlijks ondersteunen we minstens 5 clubs met het opstellen van hun integriteitsbeleid | M11: Pieter-Jan | N11: AINT | P11: 0 | Q11: 0 | R11: 0 | S11: 0 | T11: 0 | U11: 0 | V11: 0 | W11: 0
B12: OD3 | D12: Tegen eind 2028 neemt 50% van onze clubs met een jeugdwerking deel aan ons integriteitslabel. | O12: Percentage van deelname aan integriteitslabel | P12: =SUM(P13:P15) -> 500 | Q12: =SUM(Q13:Q15) -> 0 | R12: =SUM(R13:R15) -> 500 | S12: =SUM(S13:S15) -> 0 | T12: =SUM(T13:T15) -> 500 | U12: =SUM(U13:U15) -> 0 | V12: =SUM(V13:V15) -> 500 | W12: =SUM(W13:W15) -> 0 | ... AE12: =SUM(AE13:AE15) -> 0
C13: A1 | D13: Jaarlijks bezorgt Badminton Vlaanderen het vernieuwde subsidielabel aan alle aangesloten clubs | M13: Pieter-Jan | N13: AINT | P13: 0 | Q13: 0 | R13: 0 | S13: 0 | T13: 0 | U13: 0 | V13: 0 | W13: 0
C14: A2 | D14: Jaarlijks krijgt elke club een integriteitslabel op basis van hun verwezenlijkingen | M14: Pieter-Jan | N14: AINT | P14: 500 | Q14: 0 | R14: 500 | S14: 0 | T14: 500 | U14: 0 | V14: 500 | W14: 0
C15: A3 | D15: Jaarlijks evalueren we het integriteitslabel en passen het aan op basis van het het integriteitslabel van Badminton Vlaanderen | M15: Pieter-Jan | N15: AINT | P15: 0 | Q15: 0 | R15: 0 | S15: 0 | T15: 0 | U15: 0 | V15: 0 | W15: 0
B16: OD4 | D16: De Ethische Commissie heeft een ondersteunende en onafhankelijke rol binnen Badminton Vlaanderen. | O16: Aantal adviezen van ethische commissie | P16: =SUM(P17:P18) -> 750 | Q16: =SUM(Q17:Q18) -> 0 | R16: =SUM(R17:R18) -> 750 | S16: =SUM(S17:S18) -> 0 | T16: =SUM(T17:T18) -> 750 | U16: =SUM(U17:U18) -> 0 | V16: =SUM(V17:V18) -> 750 | W16: =SUM(W17:W18) -> 0 | ... AE16: =SUM(AE17:AE18) -> 0
C17: A1 | D17: De Ethische Commissie ontwikkelt in samenspraak met federatie-API het integriteitsbeleid. | M17: Ethische Commissie | N17: AINT | P17: 750 | Q17: 0 | R17: 750 | S17: 0 | T17: 750 | U17: 0 | V17: 750 | W17: 0
C18: A2 | D18: De Ethische Commissie heeft een ondersteunende/adviserende rol ten opzichte van de federatie-API's | M18: Ethische Commissie | N18: AINT | P18: 0 | Q18: 0 | R18: 0 | S18: 0 | T18: 0 | U18: 0 | V18: 0 | W18: 0
A19: SD2 - SMASH | D19: Badminton Vlaanderen voorziet een preventief beleid omtrent integriteit. | P19: =SUM(P20,P25) -> 850 | Q19: =SUM(Q20,Q25) -> 0 | R19: =SUM(R20,R25) -> 850 | S19: =SUM(S20,S25) -> 0 | T19: =SUM(T20,T25) -> 850 | U19: =SUM(U20,U25) -> 0 | V19: =SUM(V20,V25) -> 850 | W19: =SUM(W20,W25) -> 0 | ... AE19: =SUM(AE20,AE25) -> 0
B20: OD1 | D20: De meldingsbereidheid bij onze clubs en leden stijgt met 30% in vergelijking met nulmeting van 2024. Alle clubs ontvangen drempelverlagend preventiemateriaal waarin de meldingsprocedure wordt toegelicht. | O20: Stijging van meldingsbereidheid ten opzichte van nulmeting | P20: =SUM(P21:P24) -> 850 | Q20: =SUM(Q21:Q24) -> 0 | R20: =SUM(R21:R24) -> 850 | S20: =SUM(S21:S24) -> 0 | T20: =SUM(T21:T24) -> 850 | U20: =SUM(U21:U24) -> 0 | V20: =SUM(V21:V24) -> 850 | W20: =SUM(W21:W24) -> 0 | ... AE20: =SUM(AE21:AE24) -> 0
C21: A1 | D21: Alle Club-API's ontvangen een Club-API pakket met alle basisinformatie om hun mandaat uit te voeren | M21: Pieter-Jan | N21: AINT | P21: 0 | Q21: 0 | R21: 0 | S21: 0 | T21: 0 | U21: 0 | V21: 0 | W21: 0
C22: A2 | D22: Vanuit Badminton Vlaanderen voorzien we jaarlijks een bevraging voor de opvolging van het aantal meldingen via clubs | M22: Pieter-Jan | N22: AINT | P22: 0 | Q22: 0 | R22: 0 | S22: 0 | T22: 0 | U22: 0 | V22: 0 | W22: 0
C23: A3 | D23: Jaarlijks zullen de Federatie-API's alle nieuwe Club-API's individueel contacteren om zichzelf voor te stellen en de werking van Badminton Vlaanderen toe te lichten | M23: Pieter-Jan | N23: AINT | P23: 0 | Q23: 0 | R23: 0 | S23: 0 | T23: 0 | U23: 0 | V23: 0 | W23: 0
C24: A4 | D24: Badminton Vlaanderen voorziet een toegankelijke meldingsprocedure voor alle actoren | M24: Pieter-Jan | N24: AINT | P24: 850 | Q24: 0 | R24: 850 | S24: 0 | T24: 850 | U24: 0 | V24: 850 | W24: 0
B25: OD2 | D25: Integriteit zal een plaats krijgen binnen de communicatie van Badminton Vlaanderen. | O25: Aantal communicaties omtrent integriteit | P25: =SUM(P26:P28) -> 0 | Q25: =SUM(Q26:Q28) -> 0 | R25: =SUM(R26:R28) -> 0 | S25: =SUM(S26:S28) -> 0 | T25: =SUM(T26:T28) -> 0 | U25: =SUM(U26:U28) -> 0 | V25: =SUM(V26:V28) -> 0 | W25: =SUM(W26:W28) -> 0 | ... AE25: =SUM(AE26:AE28) -> 0
C26: A1 | D26: Twee-maandelijks zal er via sociale media (Facebook, Instagram) en de eigen website een specifieke actie georganiseerd worden rond een welbepaald thema (Fair Play, pesten, grensoverschrijdend gedrag, anti-doping ...). | M26: Pieter-Jan /Geraldine | N26: AINT | P26: 0 | Q26: 0 | R26: 0 | S26: 0 | T26: 0 | U26: 0 | V26: 0 | W26: 0
C27: A2 | D27: Een duidelijke link op de homepage van de website zal direct leiden naar de meest recente documenten en acties rond integriteit. | M27: Pieter-Jan | N27: AINT | P27: 0 | Q27: 0 | R27: 0 | S27: 0 | T27: 0 | U27: 0 | V27: 0 | W27: 0
C28: A3 | D28: 4x per jaar zal er een nieuwsbrief uitgestuurd worden naar alle Club-API's met alle informatie omtrent integriteit binnen Badminton Vlaanderen. | M28: Pieter-Jan | N28: AINT | P28: 0 | Q28: 0 | R28: 0 | S28: 0 | T28: 0 | U28: 0 | V28: 0 | W28: 0
A29: SD3 - PUSH | D29: Badminton Vlaanderen zorgt voor een uitgebreid vormingsaanbod voor elk niveau (Federatie, club, individu). | P29: =SUM(P30,P36) -> 3375 | Q29: =SUM(Q30,Q36) -> 2350 | R29: =SUM(R30,R36) -> 3375 | S29: =SUM(S30,S36) -> 2350 | T29: =SUM(T30,T36) -> 3375 | U29: =SUM(U30,U36) -> 2550 | V29: =SUM(V30,V36) -> 3375 | W29: =SUM(W30,W36) -> 2550 | ... AE29: =SUM(AE30,AE36) -> 0
B30: OD1 | D30: Ontwikkelen van een gevarieerd aanbod van integriteitsvormingen voor clubs. | O30: Aantal vormingen omtrent integriteit | P30: =SUM(P31:P35) -> 1750 | Q30: =SUM(Q31:Q35) -> 2350 | R30: =SUM(R31:R35) -> 1750 | S30: =SUM(S31:S35) -> 2350 | T30: =SUM(T31:T35) -> 1750 | U30: =SUM(U31:U35) -> 2550 | V30: =SUM(V31:V35) -> 1750 | W30: =SUM(W31:W35) -> 2550 | ... AE30: =SUM(AE31:AE35) -> 0
C31: A1 | D31: Jaarlijks organiseert Badminton Vlaanderen 2 opleidingen voor Club-API's | M31: Pieter-Jan | N31: AINT | P31: 500 | Q31: 1000 | R31: 500 | S31: 1000 | T31: 500 | U31: 1200 | V31: 500 | W31: 1200
C32: A2 | D32: Jaarlijks organiseert Badminton Vlaanderen een uitwisselingsmoment voor Club-API's | M32: Pieter-Jan | N32: AINT | P32: 500 | Q32: 350 | R32: 500 | S32: 350 | T32: 500 | U32: 350 | V32: 500 | W32: 350
C33: A3 | D33: Jaarlijks organiseert Badminton Vlaanderen 1 bijscholing omtrent een bepaald thema. | M33: Pieter-Jan | N33: AINT | P33: 250 | Q33: 500 | R33: 250 | S33: 500 | T33: 250 | U33: 500 | V33: 250 | W33: 500
C34: A4 | D34: Jaarlijks stellen we een bevraging op aan onze club-API's omtrent de ondersteuning van de federatie. | M34: Pieter-Jan | N34: AINT | P34: 0 | Q34: 0 | R34: 0 | S34: 0 | T34: 0 | U34: 0 | V34: 0 | W34: 0
C35: A5 | D35: Badminton Vlaanderen biedt samen met partner verschillende vormingsopties aan voor clubs (sportouders, moeilijke gesprekken, transgender, …) | M35: Pieter-Jan | N35: AINT | P35: 500 | Q35: 500 | R35: 500 | S35: 500 | T35: 500 | U35: 500 | V35: 500 | W35: 500
B36: OD2 | D36: Badminton Vlaanderen zorgt voor jaarlijkse bijscholing van hun federatie-API's. | O36: Aantal federatie API's & hun bijscholingen | P36: =SUM(P37:P39) -> 1625 | Q36: =SUM(Q37:Q39) -> 0 | R36: =SUM(R37:R39) -> 1625 | S36: =SUM(S37:S39) -> 0 | T36: =SUM(T37:T39) -> 1625 | U36: =SUM(U37:U39) -> 0 | V36: =SUM(V37:V39) -> 1625 | W36: =SUM(W37:W39) -> 0 | ... AE36: =SUM(AE37:AE39) -> 0
C37: A1 | D37: Badminton Vlaanderen zorgt voor een continu aanbod van minstens 3 federatie API's, minstens één daarvan is een man en minstens één daarvan is een vrouw | M37: Pieter-Jan | N37: AINT | P37: 1000 | Q37: 0 | R37: 1000 | S37: 0 | T37: 1000 | U37: 0 | V37: 1000 | W37: 0
C38: A2 | D38: Jaarlijks volgt elke federatie-API minstens 1 opleiding omtrent ethisch sporten. | M38: Pieter-Jan | N38: AINT | P38: 500 | Q38: 0 | R38: 500 | S38: 0 | T38: 500 | U38: 0 | V38: 500 | W38: 0
C39: A3 | D39: Jaarlijks volgt elke federatie-API minstens 1 uitwisselingsmoment. | M39: Pieter-Jan | N39: AINT | P39: 125 | Q39: 0 | R39: 125 | S39: 0 | T39: 125 | U39: 0 | V39: 125 | W39: 0
A40: SD4 - SMASH | D40: In volgend beleidsperiode zal Badminton Vlaanderen inzetten op het versterken van de inclusiviteit en diversiteit binnen de sport door specifiek aandacht te besteden aan de inclusie van transgender en het verminderen van de impact van kansarmoede | P40: =SUM(P41,P45) -> 1000 | Q40: =SUM(Q41,Q45) -> 0 | R40: =SUM(R41,R45) -> 1000 | S40: =SUM(S41,S45) -> 0 | T40: =SUM(T41,T45) -> 1000 | U40: =SUM(U41,U45) -> 0 | V40: =SUM(V41,V45) -> 1000 | W40: =SUM(W41,W45) -> 0 | ... AE40: =SUM(AE41,AE45) -> 0
...

Sheet Sportclubondersteuning
A1: Badminton Vlaanderen / Sportclubondersteuning | E1: Timing | I1: Status uitvoering actie/doelstelling | P1: Begroting | X1: Status resultatenrekening
A2: SD | B2: OD | C2: Actie | D2: Omschrijving | E2: 2025 | F2: 2026 | G2: 2027 | H2: 2028 | I2: 2025 | J2: 2026 | K2: 2027 | L2: 2028 | M2: Verantw | N2: Ana-lytische code | O2: Indicator | P2: kosten | Q2: opbrengsten | R2: kosten | S2: opbrengsten | T2: kosten | U2: opbrengsten | V2: kosten | W2: opbrengsten | X2: kosten | Y2: opbrengsten | Z2: kosten | AA2: opbrengsten | AB2: kosten | AC2: opbrengsten | AD2: kosten | AE2: opbrengsten
P3: 2025 | Q3: 2025 | R3: 2026 | S3: 2026 | T3: 2027 | U3: 2027 | V3: 2028 | W3: 2028 | X3: 2025 | Y3: 2025 | Z3: 2026 | AA3: 2026 | AB3: 2027 | AC3: 2027 | AD3: 2028 | AE3: 2028
A4: SD1 - SMASH | D4: Verbetering van de betrokkenheid en participatie van clubs in het beleidsproces van Badminton Vlaanderen. | P4: =SUM(P5,P8,P12) -> 4250 | Q4: =SUM(Q5,Q8,Q12) -> 0 | R4: =SUM(R5,R8,R12) -> 4250 | S4: =SUM(S5,S8,S12) -> 0 | T4: =SUM(T5,T8,T12) -> 4250 | U4: =SUM(U5,U8,U12) -> 0 | V4: =SUM(V5,V8,V12) -> 4250 | W4: =SUM(W5,W8,W12) -> 0 | ... AE4: =SUM(AE5,AE8,AE12) -> 0
B5: OD1 | D5: Organiseren van ten minste vijf share-avonden per jaar, waarbij elke avond één provincie centraal staat en vertegenwoordigers van alle clubs worden uitgenodigd om deel te nemen aan discussies over beleidskwesties. | O5: Aantal georganiseerde share-avonden | P5: =SUM(P6:P7) -> 2500 | Q5: =SUM(Q6:Q7) -> 0 | R5: =SUM(R6:R7) -> 2500 | S5: =SUM(S6:S7) -> 0 | T5: =SUM(T6:T7) -> 2500 | U5: =SUM(U6:U7) -> 0 | V5: =SUM(V6:V7) -> 2500 | W5: =SUM(W6:W7) -> 0 | ... AE5: =SUM(AE6:AE7) -> 0
C6: A1 | D6: Organisatie van een share-avond in elke provincie | M6: Directeur | N6: SPCL | P6: 2500 | Q6: 0 | R6: 2500 | S6: 0 | T6: 2500 | U6: 0 | V6: 2500 | W6: 0
C7: A2 | D7: Evaluatie van share-avonden in elke provincie | M7: Directeur | N7: SPCL | P7: 0 | Q7: 0 | R7: 0 | S7: 0 | T7: 0 | U7: 0 | V7: 0 | W7: 0
B8: OD2 | D8: Badminton Vlaanderen bezoekt minstens 15 clubs per jaar met als doel directe feedback te verzamelen en ondersteuning op maat te bieden. | O8: Aantal clubbezoeken | P8: =SUM(P9:P11) -> 750 | Q8: =SUM(Q9:Q11) -> 0 | R8: =SUM(R9:R11) -> 750 | S8: =SUM(S9:S11) -> 0 | T8: =SUM(T9:T11) -> 750 | U8: =SUM(U9:U11) -> 0 | V8: =SUM(V9:V11) -> 750 | W8: =SUM(W9:W11) -> 0 | ... AE8: =SUM(AE9:AE11) -> 0
C9: A1 | D9: Ontwikkelen van vragenlijst voor informatieverzameling | M9: Directeur | N9: SPCL | P9: 0 | Q9: 0 | R9: 0 | S9: 0 | T9: 0 | U9: 0 | V9: 0 | W9: 0
C10: A2 | D10: Analyseren van vragenlijst ter ondersteuning van federatie | M10: Directeur | N10: SPCL | P10: 0 | Q10: 0 | R10: 0 | S10: 0 | T10: 0 | U10: 0 | V10: 0 | W10: 0
C11: A3 | D11: Jaarlijks 15 geselecteerde clubs bezoeken | M11: Directeur | N11: SPCL | P11: 750 | Q11: 0 | R11: 750 | S11: 0 | T11: 750 | U11: 0 | V11: 750 | W11: 0
B12: OD3 | D12: Badminton Vlaanderen bezoekt alle nieuwe clubs binnen de 2 maanden na opstart. | O12: Percentage van clubbezoeken bij nieuwe clubs | P12: =SUM(P13) -> 1000 | Q12: =SUM(Q13) -> 0 | R12: =SUM(R13) -> 1000 | S12: =SUM(S13) -> 0 | T12: =SUM(T13) -> 1000 | U12: =SUM(U13) -> 0 | V12: =SUM(V13) -> 1000 | W12: =SUM(W13) -> 0 | ... AE12: =SUM(AE13) -> 0
C13: A1 | D13: Fysiek bezoek van nieuwe clubs | M13: Directeur | N13: SPCL | P13: 1000 | Q13: 0 | R13: 1000 | S13: 0 | T13: 1000 | U13: 0 | V13: 1000 | W13: 0
A14: SD2 - PUSH | D14: Badminton Vlaanderen zorgt voor ondersteuning van clubs bij professionalisatie van de clubwerking. | P14: =SUM(P15,P19,P23) -> 4000 | Q14: =SUM(Q15,Q19,Q23) -> 1000 | R14: =SUM(R15,R19,R23) -> 4000 | S14: =SUM(S15,S19,S23) -> 1000 | T14: =SUM(T15,T19,T23) -> 6500 | U14: =SUM(U15,U19,U23) -> 1000 | V14: =SUM(V15,V19,V23) -> 6500 | W14: =SUM(W15,W19,W23) -> 1000 | ... AE14: =SUM(AE15,AE19,AE23) -> 0
B15: OD1 | D15: Ontwikkeling van een communicatiestrategie voor clubs. | O15: Voltooiing en goedkeuring van de communicatiestrategie | P15: =SUM(P16:P18) -> 2000 | Q15: =SUM(Q16:Q18) -> 500 | R15: =SUM(R16:R18) -> 2000 | S15: =SUM(S16:S18) -> 500 | T15: =SUM(T16:T18) -> 2000 | U15: =SUM(U16:U18) -> 500 | V15: =SUM(V16:V18) -> 2000 | W15: =SUM(W16:W18) -> 500 | ... AE15: =SUM(AE16:AE18) -> 0
C16: A1 | D16: Organiseren van workshops omtrent communicatie, inclusief sociale media, voor clubvertegenwoordigers | M16: Directeur | N16: SPCL | P16: 1000 | Q16: 500 | R16: 1000 | S16: 500 | T16: 1000 | U16: 500 | V16: 1000 | W16: 500
C17: A2 | D17: Ontwikkelen van educatief materiaal en handleidingen over effectieve communicatiepraktijken voor verspreiding onder de clubs | M17: Directeur | N17: SPCL | P17: 1000 | Q17: 0 | R17: 1000 | S17: 0 | T17: 1000 | U17: 0 | V17: 1000 | W17: 0
C18: A3 | D18: Oprichten van online forum waar clubvertegenwoordigers informatie kunnen uitwisselen en best practices kunnen delen | M18: Directeur | N18: SPCL | P18: 0 | Q18: 0 | R18: 0 | S18: 0 | T18: 0 | U18: 0 | V18: 0 | W18: 0
B19: OD2 | D19: Clubs ondersteunen om financieel te groeien door hen gerichte trainingen te geven omtrent sponsor- en partnerships. | O19: Aantal workshops | P19: =SUM(P20:P22) -> 2000 | Q19: =SUM(Q20:Q22) -> 500 | R19: =SUM(R20:R22) -> 2000 | S19: =SUM(S20:S22) -> 500 | T19: =SUM(T20:T22) -> 2000 | U19: =SUM(U20:U22) -> 500 | V19: =SUM(V20:V22) -> 2000 | W19: =SUM(W20:W22) -> 500 | ... AE19: =SUM(AE20:AE22) -> 0
C20: A1 | D20: Organiseren van workshop over het opstellen van sponsordossiers, inclusief praktische oefeningen en voorbeelden | M20: Directeur | N20: SPCL | P20: 1000 | Q20: 0 | R20: 1000 | S20: 0 | T20: 1000 | U20: 0 | V20: 1000 | W20: 0
C21: A2 | D21: Ontwikkelen van sjablonen en richtlijnen voor het opstellen van sponsordossiers die afgestemd zijn op de behoeften van badmintonclubs | M21: Directeur | N21: SPCL | P21: 1000 | Q21: 0 | R21: 1000 | S21: 0 | T21: 1000 | U21: 0 | V21: 1000 | W21: 0
C22: A3 | D22: Aanbieden van individuele begeleiding en advies aan clubs bij het ontwikkelen van hun sponsordossiers | M22: Directeur | N22: SPCL | P22: 0 | Q22: 500 | R22: 0 | S22: 500 | T22: 0 | U22: 500 | V22: 0 | W22: 500
B23: OD3 | D23: Ontwikkelen en implementeren van een verenigingsprogramma voor clubs gericht op het versterken van een badmintoncommunity. | O23: Ontwikkeling programma tegen eind 2027 | P23: =SUM(P24:P26) -> 0 | Q23: =SUM(Q24:Q26) -> 0 | R23: =SUM(R24:R26) -> 0 | S23: =SUM(S24:S26) -> 0 | T23: =SUM(T24:T26) -> 2500 | U23: =SUM(U24:U26) -> 0 | V23: =SUM(V24:V26) -> 2500 | W23: =SUM(W24:W26) -> 0 | ... AE23: =SUM(AE24:AE26) -> 0
C24: A1 | D24: Analyseren van de noden van de clubs | M24: Directeur | N24: SPCL | P24: 0 | Q24: 0 | R24: 0 | S24: 0 | T24: 0 | U24: 0 | V24: 0 | W24: 0
C25: A2 | D25: Ontwikkelen van verenigingsprogramma ter ondersteuning van de clubs | M25: Directeur | N25: SPCL | P25: 0 | Q25: 0 | R25: 0 | S25: 0 | T25: 0 | U25: 0 | V25: 0 | W25: 0
C26: A3 | D26: Implementeren van verenigingsprogramma | M26: Directeur | N26: SPCL | P26: 0 | Q26: 0 | R26: 0 | S26: 0 | T26: 2500 | U26: 0 | V26: 2500 | W26: 0
P27: =SUM(P14,P4) -> 8250 | Q27: =SUM(Q14,Q4) -> 1000 | R27: =SUM(R14,R4) -> 8250 | S27: =SUM(S14,S4) -> 1000 | T27: =SUM(T14,T4) -> 10750 | U27: =SUM(U14,U4) -> 1000 | V27: =SUM(V14,V4) -> 10750 | W27: =SUM(W14,W4) -> 1000 | ... AE27: =SUM(AE14,AE4) -> 0

Sheet Jeugd
A1: Badminton Vlaanderen/Jeugd | E1: Timing | I1: Status uitvoering actie/doelstelling | P1: Begroting | X1: Status resultatenrekening
A2: SD | B2: OD | C2: Actie | D2: Omschrijving | E2: 2025 | F2: 2026 | G2: 2027 | H2: 2028 | I2: 2025 | J2: 2026 | K2: 2027 | L2: 2028 | M2: Verantw | N2: Analytische code | O2: Indicator | P2: kosten | Q2: opbrengsten | R2: kosten | S2: opbrengsten | T2: kosten | U2: opbrengsten | V2: kosten | W2: opbrengsten | X2: kosten | Y2: opbrengsten | Z2: kosten | AA2: opbrengsten | AB2: kosten | AC2: opbrengsten | AD2: kosten | AE2: opbrengsten
P3: 2025 | Q3: 2025 | R3: 2026 | S3: 2026 | T3: 2027 | U3: 2027 | V3: 2028 | W3: 2028 | X3: 2025 | Y3: 2025 | Z3: 2026 | AA3: 2026 | AB3: 2027 | AC3: 2027 | AD3: 2028 | AE3: 2028
A4: SD1 - LOB | D4: Badminton Vlaanderen wil tegen eind 2028 het aantal aangesloten jeugd spelers verhogen met 10% (tov nulmeting 2024) . | P4: =SUM(P5,P9,P14) -> 4350 | Q4: =SUM(Q5,Q9,Q14) -> 0 | R4: =SUM(R5,R9,R14) -> 6500 | S4: =SUM(S5,S9,S14) -> 0 | T4: =SUM(T5,T9,T14) -> 4000 | U4: =SUM(U5,U9,U14) -> 0 | V4: =SUM(V5,V9,V14) -> 4000 | W4: =SUM(W5,W9,W14) -> 0 | ... AE4: =SUM(AE5,AE9,AE14) -> 0
B5: OD1 | D5: Badminton Vlaanderen en haar leden werkt samen met scholen, gemeentes en andere relevante organisaties om jaarlijks minstens 50 initiaties te organiseren en kinderen in contact te brengen met badminton. | O5: Aantal initiaties per jaar | P5: =SUM(P6:P8) -> 3500 | Q5: =SUM(Q6:Q8) -> 0 | R5: =SUM(R6:R8) -> 3500 | S5: =SUM(S6:S8) -> 0 | T5: =SUM(T6:T8) -> 3500 | U5: =SUM(U6:U8) -> 0 | V5: =SUM(V6:V8) -> 3500 | W5: =SUM(W6:W8) -> 0 | ... AE5: =SUM(AE6:AE8) -> 0
C6: A1 | D6: Ondersteunen van Moev en andere organisaties bij het organiseren van jaarlijks minstens 20 badmintoninstuiven | M6: Elien | N6: JAW | P6: 3500 | Q6: 0 | R6: 3500 | S6: 0 | T6: 3500 | U6: 0 | V6: 3500 | W6: 0
C7: A2 | D7: Tijdens het jaar 2025 heeft 10% van de C-clubs die deelnemen aan het J-label een initiatie gegeven in samenwerking met een school of gemeente | M7: Elien | N7: JAW | P7: 0 | Q7: 0 | R7: 0 | S7: 0 | T7: 0 | U7: 0 | V7: 0 | W7: 0
C8: A3 | D8: Tijdens het jaar 2025 heeft 40% van de B & A-clubs die deelnemen aan het J-label een initiatie gegeven in samenwerkingmet een school of gemeente | M8: Elien | N8: JAW | P8: 0 | Q8: 0 | R8: 0 | S8: 0 | T8: 0 | U8: 0 | V8: 0 | W8: 0
B9: OD2 | D9: Badminton Vlaanderen ontwikkelt een programma met voorbeeldlessen voor leerkrachten LO. | O9: Ontwikkeling voorbeeldlessen | P9: =SUM(P10:P13) -> 850 | Q9: =SUM(Q10:Q13) -> 0 | R9: =SUM(R10:R13) -> 3000 | S9: =SUM(S10:S13) -> 0 | T9: =SUM(T10:T13) -> 500 | U9: =SUM(U10:U13) -> 0 | V9: =SUM(V10:V13) -> 500 | W9: =SUM(W10:W13) -> 0 | ... AE9: =SUM(AE10:AE13) -> 0
C10: A1 | D10: Samenstellen van een focusgroep en evalueren van Shuttle Time en andere bestaande pakketten | M10: Elien/Pol | N10: JAW | P10: 350 | Q10: 0 | R10: 0 | S10: 0 | T10: 0 | U10: 0 | V10: 0 | W10: 0
C11: A2 | D11: Samenstellen van de inhouden van het lessenpakket | M11: Elien/Pol | N11: JAW | P11: 500 | Q11: 0 | R11: 500 | S11: 0 | T11: 0 | U11: 0 | V11: 0 | W11: 0
C12: A3 | D12: Uitwerken en uitvoeren communicatieplan en leerkrachten in contact brengen met het lessenpakket | M12: Geraldine/Elien/Pol | N12: JAW | P12: 0 | Q12: 0 | R12: 2500 | S12: 0 | T12: 0 | U12: 0 | V12: 0 | W12: 0
C13: A4 | D13: Tijdens het schooljaar 2026-2027 hebben 50 leerkrachten lichamelijke opvoeding gebruik gemaakt van het lessenpakket | M13: Elien/Pol | N13: JAW | P13: 0 | Q13: 0 | R13: 0 | S13: 0 | T13: 500 | U13: 0 | V13: 500 | W13: 0
B14: OD3 | D14: Vanuit Badminton Vlaanderen zetten we de jeugdspelers en clubs met jeugdwerking in the spotlight. | O14: Aantal communicaties omtrent jeugd op social media | P14: =SUM(P15:P16) -> 0 | Q14: =SUM(Q15:Q16) -> 0 | R14: =SUM(R15:R16) -> 0 | S14: =SUM(S15:S16) -> 0 | T14: =SUM(T15:T16) -> 0 | U14: =SUM(U15:U16) -> 0 | V14: =SUM(V15:V16) -> 0 | W14: =SUM(W15:W16) -> 0 | ... AE14: =SUM(AE15:AE16) -> 0
C15: A1 | D15: De jeugdspeler krijgt op maandelijke basis plaats in de online communicatie. | M15: Geraldine | N15: JAW | P15: 0 | Q15: 0 | R15: 0 | S15: 0 | T15: 0 | U15: 0 | V15: 0 | W15: 0
C16: A2 | D16: Jaarlijks minstens 3 clubacties promoten via social media | M16: Geraldine | N16: JAW | P16: 0 | Q16: 0 | R16: 0 | S16: 0 | T16: 0 | U16: 0 | V16: 0 | W16: 0
A17: SD2 - PUSH | D17: Badminton Vlaanderen wil de jeugdwerking van Vlaamse badmintonclubs kwalitatief beter maken. | P17: =SUM(P18,P22) -> 74200 | Q17: =SUM(Q18,Q22) -> 59750 | R17: =SUM(R18,R22) -> 72950 | S17: =SUM(S18,S22) -> 59750 | T17: =SUM(T18,T22) -> 72200 | U17: =SUM(U18,U22) -> 59750 | V17: =SUM(V18,V22) -> 72200 | W17: =SUM(W18,W22) -> 59750 | ... AE17: =SUM(AE18,AE22) -> 0
B18: OD1 | D18: Badminton Vlaanderen wil de (bestaande) jeugdwerkingen in Vlaanderen uniform maken. | O18: Aantal clubs dat ondersteuning gekregen hebben | P18: =SUM(P19:P21) -> 2500 | Q18: =SUM(Q19:Q21) -> 0 | R18: =SUM(R19:R21) -> 1250 | S18: =SUM(S19:S21) -> 0 | T18: =SUM(T19:T21) -> 500 | U18: =SUM(U19:U21) -> 0 | V18: =SUM(V19:V21) -> 500 | W18: =SUM(W19:W21) -> 0 | ... AE18: =SUM(AE19:AE21) -> 0
C19: A1 | D19: Opstarten jeugdwerkingtraject met minstens 5 clubs | M19: Elien | N19: JAW | P19: 2500 | Q19: 0 | R19: 0 | S19: 0 | T19: 0 | U19: 0 | V19: 0 | W19: 0 | X19: 0 | Y19: 0
C20: A2 | D20: Changetraject met minstens 5 bestaande jeugdwerkingen op basis van dit model | M20: Elien | N20: JAW | P20: 0 | Q20: 0 | R20: 1250 | S20: 0 | T20: 0 | U20: 0 | V20: 0 | W20: 0
C21: A3 | D21: Jeugdmodel uitrollen naar alle clubs | M21: Elien | N21: JAW | P21: 0 | Q21: 0 | R21: 0 | S21: 0 | T21: 500 | U21: 0 | V21: 500 | W21: 0
B22: OD2 | D22: Optimaliseren van jeugdlabel in functie van plezierbeleving, professionalisatie en administratieve ontlasting. | O22: Aantal ingediende dossiers | P22: =SUM(P23:P24) -> 71700 | Q22: =SUM(Q23:Q24) -> 59750 | R22: =SUM(R23:R24) -> 71700 | S22: =SUM(S23:S24) -> 59750 | T22: =SUM(T23:T24) -> 71700 | U22: =SUM(U23:U24) -> 59750 | V22: =SUM(V23:V24) -> 71700 | W22: =SUM(W23:W24) -> 59750 | ... AE22: =SUM(AE23:AE24) -> 0
C23: A1 | D23: Jaarlijkse evaluatie J-kwaliteitslabel | M23: Elien | N23: JSUB | P23: 0 | Q23: 0 | R23: 0 | S23: 0 | T23: 0 | U23: 0 | V23: 0 | W23: 0
C24: A2 | D24: Verwerking ingediende dossiers | M24: Elien | N24: JSUB | P24: 71700 | Q24: 59750 | R24: 71700 | S24: 59750 | T24: 71700 | U24: 59750 | V24: 71700 | W24: 59750
A25: SD3 - PUSH | D25: Badminton Vlaanderen wil het tornooiaanbod voor jeugd professionaliseren. | P25: =SUM(P26,P29) -> 0 | Q25: =SUM(Q26,Q29) -> 0 | R25: =SUM(R26,R29) -> 350 | S25: =SUM(S26,S29) -> 0 | T25: =SUM(T26,T29) -> 350 | U25: =SUM(U26,U29) -> 0 | V25: =SUM(V26,V29) -> 0 | W25: =SUM(W26,W29) -> 0 | ... AE25: =SUM(AE26,AE29) -> 0
B26: OD1 | D26: Badminton Vlaanderen wil tegen eind 2027 het Vlaams tornooilandschap voor jeugd verbeteren. | O26: Aantal klachten omtrent tornooilandschap | P26: =SUM(P27:P28) -> 0 | Q26: =SUM(Q27:Q28) -> 0 | R26: =SUM(R27:R28) -> 350 | S26: =SUM(S27:S28) -> 0 | T26: =SUM(T27:T28) -> 0 | U26: =SUM(U27:U28) -> 0 | V26: =SUM(V27:V28) -> 0 | W26: =SUM(W27:W28) -> 0 | ... AE26: =SUM(AE27:AE28) -> 0
C27: A1 | D27: Samenstellen van een focusgroep en evalueren van het huidige jeugdtornooilandschap | M27: Elien | N27: JAW | P27: 0 | Q27: 0 | R27: 350 | S27: 0 | T27: 0 | U27: 0 | V27: 0 | W27: 0
C28: A2 | D28: Aanpassen en implementeren van de tornooiregels voor jeugdtornooien op basis van de evaluatie tegen het seizoen 2026-2027 | M28: Elien | N28: JAW | P28: 0 | Q28: 0 | R28: 0 | S28: 0 | T28: 0 | U28: 0 | V28: 0 | W28: 0
B29: OD2 | D29: Badminton Vlaanderen wil tegen eind 2027 de jeugdranking aanpassen. | O29: Score van tevredenheid over nieuwe ranking | P29: =SUM(P30:P31) -> 0 | Q29: =SUM(Q30:Q31) -> 0 | R29: =SUM(R30:R31) -> 0 | S29: =SUM(S30:S31) -> 0 | T29: =SUM(T30:T31) -> 350 | U29: =SUM(U30:U31) -> 0 | V29: =SUM(V30:V31) -> 0 | W29: =SUM(W30:W31) -> 0 | ... AE29: =SUM(AE30:AE31) -> 0
C30: A1 | D30: Samenstellen van een focusgroep en evalueren van de huidige jeugdranking op basis van de aanpassingen aan het tornooilandschap | M30: Elien | N30: JAW | P30: 0 | Q30: 0 | R30: 0 | S30: 0 | T30: 350 | U30: 0 | V30: 0 | W30: 0
C31: A2 | D31: Aanpassen en implementeren nieuwe jeugdranking op basis van de evaluatie tegen het seizoen 2026-2027 | M31: Elien | N31: JAW | P31: 0 | Q31: 0 | R31: 0 | S31: 0 | T31: 0 | U31: 0 | V31: 0 | W31: 0
A32: DM1 | P32: =P33 -> 8700 | Q32: =Q33 -> 8700 | R32: =R33 -> 8700 | S32: =S33 -> 8700 | T32: =T33 -> 8700 | U32: =U33 -> 8700 | V32: =V33 -> 8700 | W32: =W33 -> 8700 | ... AE32: =AE33 -> 0
B33: IT1 | D33: Yonex Belgian Junior Master Circuit | P33: =SUM(P34:P37) -> 8700 | Q33: =SUM(Q34:Q37) -> 8700 | R33: =SUM(R34:R37) -> 8700 | S33: =SUM(S34:S37) -> 8700 | T33: =SUM(T34:T37) -> 8700 | U33: =SUM(U34:U37) -> 8700 | V33: =SUM(V34:V37) -> 8700 | W33: =SUM(W34:W37) -> 8700 | ... AE33: =SUM(AE34:AE37) -> 0
C34: A1 | D34: Materiaal | N34: JYBJMC | P34: 4900 | Q34: 0 | R34: 4900 | S34: 0 | T34: 4900 | U34: 0 | V34: 4900 | W34: 0
C35: A2 | D35: Verplaatsingskosten | N35: JYBJMC | P35: 800 | Q35: 800 | R35: 800 | S35: 800 | T35: 800 | U35: 800 | V35: 800 | W35: 800
C36: A3 | D36: Sponsoring | N36: JYBJMC | P36: 0 | Q36: 4900 | R36: 0 | S36: 4900 | T36: 0 | U36: 4900 | V36: 0 | W36: 4900
C37: A4 | D37: Nationale Loterij | N37: JYBJMC | P37: 3000 | Q37: 3000 | R37: 3000 | S37: 3000 | T37: 3000 | U37: 3000 | V37: 3000 | W37: 3000
P38: =SUM(P32,P25,P17,P4) -> 87250 | Q38: =SUM(Q32,Q25,Q17,Q4) -> 68450 | R38: =SUM(R32,R25,R17,R4) -> 88500 | S38: =SUM(S32,S25,S17,S4) -> 68450 | T38: =SUM(T32,T25,T17,T4) -> 85250 | U38: =SUM(U32,U25,U17,U4) -> 68450 | V38: =SUM(V32,V25,V17,V4) -> 84900 | W38: =SUM(W32,W25,W17,W4) -> 68450 | ... AE38: =SUM(AE32,AE25,AE17,AE4) -> 0

Sheet Sportkampen
A1: Badminton Vlaanden / Sportkampen | E1: Timing | I1: Status uitvoering actie/doelstelling | P1: Begroting | X1: Status resultatenrekening
A2: SD | B2: OD | C2: Actie | D2: Omschrijving | E2: 2025 | F2: 2026 | G2: 2027 | H2: 2028 | I2: 2025 | J2: 2026 | K2: 2027 | L2: 2028 | M2: Verantw | N2: Analytische code | O2: Indicator | P2: kosten | Q2: opbrengsten | R2: kosten | S2: opbrengsten | T2: kosten | U2: opbrengsten | V2: kosten | W2: opbrengsten | X2: kosten | Y2: opbrengsten | Z2: kosten | AA2: opbrengsten | AB2: kosten | AC2: opbrengsten | AD2: kosten | AE2: opbrengsten
P3: 2025 | Q3: 2025 | R3: 2026 | S3: 2026 | T3: 2027 | U3: 2027 | V3: 2028 | W3: 2028 | X3: 2025 | Y3: 2025 | Z3: 2026 | AA3: 2026 | AB3: 2027 | AC3: 2027 | AD3: 2028 | AE3: 2028
A4: SD1 - LOB | D4: Gedurende de beleidsperiode wil Badminton Vlaanderen in totaal 400 deelnemers gehad hebben op haar badmintonkampen. | P4: =SUM(P5,P8) -> 39400 | Q4: =SUM(Q5,Q8) -> 49400 | R4: =SUM(R5,R8) -> 39400 | S4: =SUM(S5,S8) -> 49400 | T4: =SUM(T5,T8) -> 39400 | U4: =SUM(U5,U8) -> 49400 | V4: =SUM(V5,V8) -> 39400 | W4: =SUM(W5,W8) -> 49400 | ... AE4: =SUM(AE5,AE8) -> 0
B5: OD1 | D5: Ten laatste op 15 januari van elk jaar is de volledige promotiecampagne van de badmintonkampen uitgevoerd. | O5: Aangeleverde promotiecampagne | P5: =SUM(P6:P7) -> 0 | Q5: =SUM(Q6:Q7) -> 0 | R5: =SUM(R6:R7) -> 0 | S5: =SUM(S6:S7) -> 0 | T5: =SUM(T6:T7) -> 0 | U5: =SUM(U6:U7) -> 0 | V5: =SUM(V6:V7) -> 0 | W5: =SUM(W6:W7) -> 0 | ... AE5: =SUM(AE6:AE7) -> 0
C6: A1 | D6: Inschrijvingsmodule op de website | M6: Elien | N6: SPAW | P6: 0 | Q6: 0 | R6: 0 | S6: 0 | T6: 0 | U6: 0 | V6: 0 | W6: 0
C7: A2 | D7: Promotie via communicatiekanalen van Badminton Vlaanderen | M7: Geraldine | N7: SPAW | P7: 0 | Q7: 0 | R7: 0 | S7: 0 | T7: 0 | U7: 0 | V7: 0 | W7: 0
B8: OD2 | D8: Jaarlijks richt Badminton Vlaanderen (minstens) 3 kampen in. | O8: Aantal kampen | P8: =SUM(P9:P14) -> 39400 | Q8: =SUM(Q9:Q14) -> 49400 | R8: =SUM(R9:R14) -> 39400 | S8: =SUM(S9:S14) -> 49400 | T8: =SUM(T9:T14) -> 39400 | U8: =SUM(U9:U14) -> 49400 | V8: =SUM(V9:V14) -> 39400 | W8: =SUM(W9:W14) -> 49400 | X8: =SUM(X9:X13) -> 0 | Y8: =SUM(Y9:Y13) -> 0 | Z8: =SUM(Z9:Z13) -> 0 | AA8: =SUM(AA9:AA13) -> 0 | AB8: =SUM(AB9:AB13) -> 0 | AC8: =SUM(AC9:AC13) -> 0 | AD8: =SUM(AD9:AD13) -> 0 | AE8: =SUM(AE9:AE13) -> 0
C9: A1 | D9: Kampplaatsen vastleggen | M9: Elien | N9: SPAW | P9: 0 | Q9: 0 | R9: 0 | S9: 0 | T9: 0 | U9: 0 | V9: 0 | W9: 0
C10: A2 | D10: Inschrijvingen verwerken | M10: Elien | N10: SPAW | P10: 0 | Q10: 0 | R10: 0 | S10: 0 | T10: 0 | U10: 0 | V10: 0 | W10: 0
C11: A3 | D11: Coördinatie kamp 1 | M11: Elien | N11: SPK1 | P11: 9000 | Q11: 11000 | R11: 9000 | S11: 11000 | T11: 9000 | U11: 11000 | V11: 9000 | W11: 11000
C12: A4 | D12: Coördinatie kamp 2 | M12: Elien | N12: SPK2 | P12: 9000 | Q12: 11000 | R12: 9000 | S12: 11000 | T12: 9000 | U12: 11000 | V12: 9000 | W12: 11000
C13: A5 | D13: Coördinatie kamp 3 | M13: Elien | N13: SPK3 | P13: 13000 | Q13: 19000 | R13: 13000 | S13: 19000 | T13: 13000 | U13: 19000 | V13: 13000 | W13: 19000
C14: A6 | D14: Aanstellen van gediplomeerde trainers | M14: Elien | N14: SPAW | P14: 8400 | Q14: 8400 | R14: 8400 | S14: 8400 | T14: 8400 | U14: 8400 | V14: 8400 | W14: 8400
A15: SD2 - PUSH | D15: Jaarlijks scoort Badminton Vlaanderen ten minste 4 op 5 bij de deelnemers van de badmintonkampen op een tevredenheidsbevraging omtrent het kamp waaraan ze deelnamen. | P15: =SUM(P16,P22) -> 1050 | Q15: =SUM(Q16,Q22) -> 0 | R15: =SUM(R16,R22) -> 1050 | S15: =SUM(S16,S22) -> 0 | T15: =SUM(T16,T22) -> 1050 | U15: =SUM(U16,U22) -> 0 | V15: =SUM(V16,V22) -> 1050 | W15: =SUM(W16,W22) -> 0 | ... AE15: =SUM(AE16,AE22) -> 0
B16: OD1 | D16: Alle monitoren die actief zijn op de badmintonkampen georganiseerd door Badminton Vlaanderen, zijn gediplomeerd in badminton. | O16: Aantal actieve trainers | P16: =SUM(P17:P21) -> 1050 | Q16: =SUM(Q17:Q21) -> 0 | R16: =SUM(R17:R21) -> 1050 | S16: =SUM(S17:S21) -> 0 | T16: =SUM(T17:T21) -> 1050 | U16: =SUM(U17:U21) -> 0 | V16: =SUM(V17:V21) -> 1050 | W16: =SUM(W17:W21) -> 0 | ... AE16: =SUM(AE17:AE21) -> 0
C17: A1 | D17: Monitoren engageren via beloningsysteem | M17: Elien | N17: SPAW | P17: 300 | Q17: 0 | R17: 300 | S17: 0 | T17: 300 | U17: 0 | V17: 300 | W17: 0
C18: A2 | D18: Aanmaken van forum voor actieve trainers | M18: Elien | N18: SPAW | P18: 0 | Q18: 0 | R18: 0 | S18: 0 | T18: 0 | U18: 0 | V18: 0 | W18: 0
C19: A3 | D19: Diploma's controleren | M19: Elien | N19: SPAW | P19: 0 | Q19: 0 | R19: 0 | S19: 0 | T19: 0 | U19: 0 | V19: 0 | W19: 0
C20: A4 | D20: Teambuildingsdag monitoren organiseren | M20: Elien | N20: SPAW | P20: 750 | Q20: 0 | R20: 750 | S20: 0 | T20: 750 | U20: 0 | V20: 750 | W20: 0
C21: A5 | D21: Aanmaken van database van alle actieve trainers | M21: Elien | N21: SPAW | P21: 0 | Q21: 0 | R21: 0 | S21: 0 | T21: 0 | U21: 0 | V21: 0 | W21: 0
B22: OD2 | D22: Het onderdeel 'Algemeen' in de tevredenheidsenquête omtrent de badmintonkampen van Badminton Vlaanderen scoort tenminste 4 op 5. | O22: Algemene score van de kampen | P22: =SUM(P23:P25) -> 0 | Q22: =SUM(Q23:Q25) -> 0 | R22: =SUM(R23:R25) -> 0 | S22: =SUM(S23:S25) -> 0 | T22: =SUM(T23:T25) -> 0 | U22: =SUM(U23:U25) -> 0 | V22: =SUM(V23:V25) -> 0 | W22: =SUM(W23:W25) -> 0 | ... AE22: =SUM(AE23:AE25) -> 0
C23: A | D23: Enquêtes afnemen | M23: Elien | N23: SPAW | P23: 0 | Q23: 0 | R23: 0 | S23: 0 | T23: 0 | U23: 0 | V23: 0 | W23: 0
C24: A2 | D24: Evaluatie afnemen monitoren | M24: Elien | N24: SPAW | P24: 0 | Q24: 0 | R24: 0 | S24: 0 | T24: 0 | U24: 0 | V24: 0 | W24: 0
C25: A3 | D25: Remediëring indien nodig | M25: Elien | N25: SPAW | P25: 0 | Q25: 0 | R25: 0 | S25: 0 | T25: 0 | U25: 0 | V25: 0 | W25: 0
A26: DM1 | D26: Sportkampen | P26: =SUM(P27,P29,P32,P35) -> 5700 | Q26: =SUM(Q27,Q29,Q32,Q35) -> 0 | R26: =SUM(R27,R29,R32,R35) -> 5700 | S26: =SUM(S27,S29,S32,S35) -> 0 | T26: =SUM(T27,T29,T32,T35) -> 5700 | U26: =SUM(U27,U29,U32,U35) -> 0 | V26: =SUM(V27,V29,V32,V35) -> 5700 | W26: =SUM(W27,W29,W32,W35) -> 0 | ... AE26: =SUM(AE27,AE29,AE32,AE35) -> 0
B27: IT1 | D27: Monitoren | P27: =SUM(P28) -> 800 | Q27: =SUM(Q28) -> 0 | R27: =SUM(R28) -> 800 | S27: =SUM(S28) -> 0 | T27: =SUM(T28) -> 800 | U27: =SUM(U28) -> 0 | V27: =SUM(V28) -> 800 | W27: =SUM(W28) -> 0 | ... AE27: =SUM(AE28) -> 0
C28: A1 | D28: Eindejaarspremie | N28: SPAW | P28: 800 | Q28: 0 | R28: 800 | S28: 0 | T28: 800 | U28: 0 | V28: 800 | W28: 0
B29: IT2 | D29: Materiaal | P29: =SUM(P30:P31) -> 1000 | Q29: =SUM(Q30:Q31) -> 0 | R29: =SUM(R30:R31) -> 1000 | S29: =SUM(S30:S31) -> 0 | T29: =SUM(T30:T31) -> 1000 | U29: =SUM(U30:U31) -> 0 | V29: =SUM(V30:V31) -> 1000 | W29: =SUM(W30:W31) -> 0 | ... AE29: =SUM(AE30:AE31) -> 0
C30: A1 | D30: Aankoop Sportmateriaal | N30: SPAW | P30: 500 | Q30: 0 | R30: 500 | S30: 0 | T30: 500 | U30: 0 | V30: 500 | W30: 0
C31: A2 | D31: Aankoop ander materiaal | N31: SPAW | P31: 500 | Q31: 0 | R31: 500 | S31: 0 | T31: 500 | U31: 0 | V31: 500 | W31: 0
B32: IT3 | D32: Gadgets | P32: =SUM(P33:P34) -> 2000 | Q32: =SUM(Q33:Q34) -> 0 | R32: =SUM(R33:R34) -> 2000 | S32: =SUM(S33:S34) -> 0 | T32: =SUM(T33:T34) -> 2000 | U32: =SUM(U33:U34) -> 0 | V32: =SUM(V33:V34) -> 2000 | W32: =SUM(W33:W34) -> 0 | ... AE32: =SUM(AE33:AE34) -> 0
C33: A1 | D33: T-shirts | N33: SPAW | P33: 1200 | Q33: 0 | R33: 1200 | S33: 0 | T33: 1200 | U33: 0 | V33: 1200 | W33: 0
C34: A2 | D34: Drinkflessen | N34: SPAW | P34: 800 | Q34: 0 | R34: 800 | S34: 0 | T34: 800 | U34: 0 | V34: 800 | W34: 0
B35: IT4 | D35: Overige | P35: =SUM(P36:P39) -> 1900 | Q35: =SUM(Q36:Q39) -> 0 | R35: =SUM(R36:R39) -> 1900 | S35: =SUM(S36:S39) -> 0 | T35: =SUM(T36:T39) -> 1900 | U35: =SUM(U36:U39) -> 0 | V35: =SUM(V36:V39) -> 1900 | W35: =SUM(W36:W39) -> 0 | ... AE35: =SUM(AE36:AE39) -> 0
C36: A1 | D36: Vieruurtjes | N36: SPAW | P36: 500 | Q36: 0 | R36: 500 | S36: 0 | T36: 500 | U36: 0 | V36: 500 | W36: 0
C37: A2 | D37: Traktatie | N37: SPAW | P37: 350 | Q37: 0 | R37: 350 | S37: 0 | T37: 350 | U37: 0 | V37: 350 | W37: 0
C38: A3 | D38: Vijfde maaltijd | N38: SPAW | P38: 300 | Q38: 0 | R38: 300 | S38: 0 | T38: 300 | U38: 0 | V38: 300 | W38: 0
C39: A4 | D39: Vervoersonkosten | N39: SPAW | P39: 750 | Q39: 0 | R39: 750 | S39: 0 | T39: 750 | U39: 0 | V39: 750 | W39: 0
P40: =SUM(P26,P15,P4) -> 46150 | Q40: =SUM(Q26,Q15,Q4) -> 49400 | R40: =SUM(R26,R15,R4) -> 46150 | S40: =SUM(S26,S15,S4) -> 49400 | T40: =SUM(T26,T15,T4) -> 46150 | U40: =SUM(U26,U15,U4) -> 49400 | V40: =SUM(V26,V15,V4) -> 46150 | W40: =SUM(W26,W15,W4) -> 49400 | ... AE40: =SUM(AE26,AE15,AE4) -> 0

Sheet Opleiding
A1: Badminton Vlaanderen/ Opleiding | E1: Timing | I1: Status uitvoering actie/doelstelling | P1: Begroting | X1: Status resultatenrekening
A2: SD | B2: OD | C2: Actie | D2: Omschrijving | E2: 2025 | F2: 2026 | G2: 2027 | H2: 2028 | I2: 2025 | J2: 2026 | K2: 2027 | L2: 2028 | M2: Verantw | N2: Analytische code | O2: Indicator | P2: kosten | Q2: opbrengsten | R2: kosten | S2: opbrengsten | T2: kosten | U2: opbrengsten | V2: kosten | W2: opbrengsten | X2: kosten | Y2: opbrengsten | Z2: kosten | AA2: opbrengsten | AB2: kosten | AC2: opbrengsten | AD2: kosten | AE2: opbrengsten
P3: 2025 | Q3: 2025 | R3: 2026 | S3: 2026 | T3: 2027 | U3: 2027 | V3: 2028 | W3: 2028 | X3: 2025 | Y3: 2025 | Z3: 2026 | AA3: 2026 | AB3: 2027 | AC3: 2027 | AD3: 2028 | AE3: 2028
A4: SD1 - PUSH | D4: Badminton Vlaanderen wil de kwalificatiegraad verhogen van de trainers naar 65% (nulmeting 60% 2022) | P4: =SUM(P5,P10,P16,P20) -> 5970 | Q4: =SUM(Q5,Q10,Q16,Q20) -> 0 | R4: =SUM(R5,R10,R16,R20) -> 6970 | S4: =SUM(S5,S10,S16,S20) -> 0 | T4: =SUM(T5,T10,T16,T20) -> 6970 | U4: =SUM(U5,U10,U16,U20) -> 0 | V4: =SUM(V5,V10,V16,V20) -> 4095 | W4: =SUM(W5,W10,W16,W20) -> 0 | ... AE4: =SUM(AE5,AE10,AE16,AE20) -> 0
B5: OD1 | D5: We willen de periodiciteit van de cursusorganisaties brengen tot minimum 12 initiatorcursussen, 2 cursussen Instructeur ,1 cursus Trainer B, 1 cursus trainer A per olympiade. | O5: Aantal cursussen | P5: =SUM(P6:P9) -> 720 | Q5: =SUM(Q6:Q9) -> 0 | R5: =SUM(R6:R9) -> 720 | S5: =SUM(S6:S9) -> 0 | T5: =SUM(T6:T9) -> 720 | U5: =SUM(U6:U9) -> 0 | V5: =SUM(V6:V9) -> 1220 | W5: =SUM(W6:W9) -> 0 | ... AE5: =SUM(AE6:AE9) -> 0
C6: A1 | D6: Jaarlijks minstens 3 initiatorcursussen organiseren met minimum 12 deelnemers per cursus | M6: Pol | N6: PBT | P6: 540 | Q6: 0 | R6: 540 | S6: 0 | T6: 540 | U6: 0 | V6: 540 | W6: 0
C7: A2 | D7: 2- jaarlijks organiseren van 1 Instructeur cursus met minimum 8 deelnemers per cursus | M7: Pol | N7: PBT | P7: 180 | Q7: 0 | R7: 0 | S7: 0 | T7: 180 | U7: 0 | V7: 0 | W7: 0
C8: A3 | D8: 2- jaarlijks organiseren van een 1 cursus Trainer B met minimum 6 deelnemers per cursus | M8: Pol | N8: PBT | P8: 0 | Q8: 0 | R8: 180 | S8: 0 | T8: 0 | U8: 0 | V8: 180 | W8: 0
C9: A4 | D9: 4- jaarlijks organiseren van een 1 cursus Trainer A met minimum 4 deelnemers per cursus | M9: Pol | N9: PBT | P9: 0 | Q9: 0 | R9: 0 | S9: 0 | T9: 0 | U9: 0 | V9: 500 | W9: 0
B10: OD2 | D10: Het docentenbestand wordt actief up to date gehouden en worden voldoende betrokken. | O10: Aantal actieve docenten per niveau | P10: =SUM(P11:P15) -> 2750 | Q10: =SUM(Q11:Q15) -> 0 | R10: =SUM(R11:R15) -> 2750 | S10: =SUM(S11:S15) -> 0 | T10: =SUM(T11:T15) -> 2750 | U10: =SUM(U11:U15) -> 0 | V10: =SUM(V11:V15) -> 2875 | W10: =SUM(W11:W15) -> 0 | ... AE10: =SUM(AE11:AE15) -> 0
C11: A1 | D11: Docentenbestand van minstens 8 actieve docenten op initiatorniveau | M11: Pol | N11: PBT | P11: 500 | Q11: 0 | R11: 500 | S11: 0 | T11: 500 | U11: 0 | V11: 500 | W11: 0
C12: A2 | D12: Docentenbestand van minstens 4 actieve docenten op instructeurniveau | M12: Pol | N12: PBT | P12: 250 | Q12: 0 | R12: 0 | S12: 0 | T12: 250 | U12: 0 | V12: 0 | W12: 0
C13: A3 | D13: Docentenbestand van minstens 4 actieve docenten op trainer B niveau | M13: Pol | N13: PBT | P13: 0 | Q13: 0 | R13: 250 | S13: 0 | T13: 0 | U13: 0 | V13: 250 | W13: 0
C14: A4 | D14: Docentenbestand van minstens 2 actieve docenten op trainer A niveau | M14: Pol | N14: PBT | P14: 0 | Q14: 0 | R14: 0 | S14: 0 | T14: 0 | U14: 0 | V14: 125 | W14: 0
C15: A5 | D15: Jaarlijkse docentenbijscholing waar alle docenten aan kunnen deelnemen. | M15: Pol | N15: PBT | P15: 2000 | Q15: 0 | R15: 2000 | S15: 0 | T15: 2000 | U15: 0 | V15: 2000 | W15: 0
B16: OD3 | D16: Digitalisering van het opleidingsaanbod Initiator, Instructeur, Trainer B, en Trainer A | O16: Percentage van digitalisatie | P16: =SUM(P17:P19) -> 2500 | Q16: =SUM(Q17:Q19) -> 0 | R16: =SUM(R17:R19) -> 2500 | S16: =SUM(S17:S19) -> 0 | T16: =SUM(T17:T19) -> 2500 | U16: =SUM(U17:U19) -> 0 | V16: =SUM(V17:V19) -> 0 | W16: =SUM(W17:W19) -> 0 | ... AE16: =SUM(AE17:AE19) -> 0
