Workbook

Sheet Goed Bestuur
A1: Badminton Vlaanderen / Goed Bestuur | E1: Timing | I1: Status uitvoering actie/doelstelling | P1: Begroting | X1: Status resultatenrekening
A2: SD | B2: OD | C2: Actie | D2: Omschrijving | E2: 2025 | F2: 2026 | G2: 2027 | H2: 2028 | I2: 2025 | J2: 2026 | K2: 2027 | L2: 2028 | M2: Verantw | N2: Analytische code | O2: Indicator | P2: kosten | Q2: opbrengsten | R2: kosten | S2: opbrengsten | T2: kosten | U2: opbrengsten | V2: kosten | W2: opbrengsten | X2: kosten | Y2: opbrengsten | Z2: kosten | AA2: opbrengsten | AB2: kosten | AC2: opbrengsten | AD2: kosten | AE2: opbrengsten
P3: 2025 | Q3: 2025 | R3: 2026 | S3: 2026 | T3: 2027 | U3: 2027 | V3: 2028 | W3: 2028 | X3: 2025 | Y3: 2025 | Z3: 2026 | AA3: 2026 | AB3: 2027 | AC3: 2027 | AD3: 2028 | AE3: 2028
A4: SD1 - PUSH | D4: Tegen eind 2028 zal Badminton Vlaanderen haar financiële stabiliteit versterken door een diversificatie van inkomstenbronnen te realiseren, waarbij minimaal 5% van het jaarlijkse budget afkomstig is uit nieuwe bronnen die niet afhankelijk zijn van subsidies en bestaande lidmaatschapsgelden. | P4: =SUM(P5,P10) -> 2000 | Q4: =SUM(Q5,Q10) -> 0 | R4: =SUM(R5,R10) -> 3500 | S4: =SUM(S5,S10) -> 0 | T4: =SUM(T5,T10) -> 3000 | U4: =SUM(U5,U10) -> 0 | V4: =SUM(V5,V10) -> 2500 | W4: =SUM(W5,W10) -> 0 | ... AE4: =SUM(AE5,AE10) -> 0
B5: OD1 | D5: Tegen eind 2028 zal Badminton Vlaanderen een strategie voor diversificatie van inkomstbronnen implementeren, met een focus op het identificeren van subsidies en duurzame partnerschappen waarbij ten minste 3 nieuwe inkomstenbronnen worden geïdentificeerd en benaderd. | O5: Aantal nieuwe inkomstenbronnen | P5: =SUM(P6:P9) -> 500 | Q5: =SUM(Q6:Q9) -> 0 | R5: =SUM(R6:R9) -> 1000 | S5: =SUM(S6:S9) -> 0 | T5: =SUM(T6:T9) -> 1500 | U5: =SUM(U6:U9) -> 0 | V5: =SUM(V6:V9) -> 1000 | W5: =SUM(W6:W9) -> 0 | ... AE5: =SUM(AE6:AE9) -> 0
C6: A1 | D6: Uitvoeren van risico-analyse van huidige inkomsten en identificeren van gebieden voor diversificatie | M6: Directeur | N6: AW | P6: 500 | Q6: 0 | R6: 500 | S6: 0 | T6: 0 | U6: 0 | V6: 0 | W6: 0
C7: A2 | D7: Opstellen van een diversificatiestrategie | M7: Directeur | N7: AW | P7: 0 | Q7: 0 | R7: 500 | S7: 0 | T7: 1000 | U7: 0 | V7: 0 | W7: 0
C8: A3 | D8: Implementatie van diversificatiestrategie | M8: Directeur | N8: AW | P8: 0 | Q8: 0 | R8: 0 | S8: 0 | T8: 500 | U8: 0 | V8: 500 | W8: 0
C9: A4 | D9: Monitoring en evaluatie van strategie | M9: Directeur | N9: AW | P9: 0 | Q9: 0 | R9: 0 | S9: 0 | T9: 0 | U9: 0 | V9: 500 | W9: 0
B10: OD2 | D10: Tegen eind 2026 zal Badminton Vlaanderen een sponsorwervingscampagne lanceren om nieuwe sponsors aan te trekken en bestaande relaties te versterken, met als doel het genereren van minimaal €50000 aan extra inkomsten voor het komende boekjaar. | O10: Extra inkomsten dat gegenereerd zijn. | P10: =SUM(P11:P13) -> 1500 | Q10: =SUM(Q11:Q13) -> 0 | R10: =SUM(R11:R13) -> 2500 | S10: =SUM(S11:S13) -> 0 | T10: =SUM(T11:T13) -> 1500 | U10: =SUM(U11:U13) -> 0 | V10: =SUM(V11:V13) -> 1500 | W10: =SUM(W11:W13) -> 0 | ... AE10: =SUM(AE11:AE13) -> 0
C11: A1 | D11: Uitvoeren van marktonderzoek om potentiële partners te identificeren | M11: Directeur/Geraldine | N11: AW | P11: 1500 | Q11: 0 | R11: 0 | S11: 0 | T11: 0 | U11: 0 | V11: 0 | W11: 0
C12: A2 | D12: Opstellen van verschillende sponsorpakketten | M12: Directeur/Geraldine | N12: AW | P12: " | Q12: 0 | R12: 2500 | S12: 0 | T12: 0 | U12: 0 | V12: 0 | W12: 0
C13: A3 | D13: Benaderen van potentiële sponsors met op maat gemaakte voorstellen en presentatie die de voordelen van samenwerking met Badminton Vlaanderen benadrukken | M13: Directeur/Geraldine | N13: AW | P13: 0 | Q13: 0 | R13: 0 | S13: 0 | T13: 1500 | U13: 0 | V13: 1500 | W13: 0
A14: SD2 - SMASH | D14: Tegen eind 2025 zal Badminton Vlaanderen haar transparantie en interne verantwoordingsmechanismen versterken, om het vertrouwen van haar leden, clubs en belanghebbenden te vergroten en een cultuur van openheid en verantwoording te bevorderen. | P14: =SUM(P15) -> 500 | Q14: =SUM(Q15) -> 0 | R14: =SUM(R15) -> 0 | S14: =SUM(S15) -> 0 | T14: =SUM(T15) -> 0 | U14: =SUM(U15) -> 0 | V14: =SUM(V15) -> 0 | W14: =SUM(W15) -> 0 | ... AE14: =SUM(AE15) -> 0
B15: OD1 | D15: Tegen het einde van het derde kwartaal van 2025 zal Badminton Vlaanderen een transparantie-initiatief lanceren, gericht op het versterken van de communicatie en het verstrekken van toegankelijke informatie aan belanghebbenden over de activiteiten, besluitvorming en financiën van de federatie. | O15: Officiële lancering van initiatief tegen eind 2025 | P15: =SUM(P16:P19) -> 500 | Q15: =SUM(Q16:Q19) -> 0 | R15: =SUM(R16:R19) -> 0 | S15: =SUM(S16:S19) -> 0 | T15: =SUM(T16:T19) -> 0 | U15: =SUM(U16:U19) -> 0 | V15: =SUM(V16:V19) -> 0 | W15: =SUM(W16:W19) -> 0 | ... AE15: =SUM(AE16:AE19) -> 0
C16: A1 | D16: Identificeren van de belangrijkste belanghebbenden van Badminton Vlaanderen | M16: Directeur | N16: AW | P16: 500 | Q16: 0 | R16: 0 | S16: 0 | T16: 0 | U16: 0 | V16: 0 | W16: 0
C17: A2 | D17: Identificeren van de belangrijkste informatie en documenten die moeten worden opgenomen in het initiatief: Beleidsdocumenten, jaarverslagen, financiële overzichten, … | M17: Directeur | N17: AW | P17: 0 | Q17: 0 | R17: 0 | S17: 0 | T17: 0 | U17: 0 | V17: 0 | W17: 0
C18: A3 | D18: Publicatie van relevantie informatie op website + duidelijke communicatie hierover | M18: Directeur | N18: AW | P18: 0 | Q18: 0 | R18: 0 | S18: 0 | T18: 0 | U18: 0 | V18: 0 | W18: 0
C19: A4 | D19: Jaarlijkse bevraging aan leden ter evaluatie van Badminton Vlaanderen en zijn beleid | M19: Directeur | N19: AW | P19: 0 | Q19: 0 | R19: 0 | S19: 0 | T19: 0 | U19: 0 | V19: 0 | W19: 0
A20: SD3 - PUSH | D20: Doorheen de beleidsperiode zal Badminton Vlaanderen zijn goed bestuur optimaliseren, door het behalen van een minimale score van 85% gedurende de komende beleidsperiode. | P20: =SUM(P21) -> 0 | Q20: =SUM(Q21) -> 0 | R20: =SUM(R21) -> 0 | S20: =SUM(S21) -> 0 | T20: =SUM(T21) -> 0 | U20: =SUM(U21) -> 0 | V20: =SUM(V21) -> 0 | W20: =SUM(W21) -> 0 | ... AE20: =SUM(AE21) -> 0
B21: OD1 | D21: Uitvoeren van geïntegreerd goed bestuur beleid dat transparantie, democratie en interne verantwoording bevordert. | O21: Behaalde score op goed bestuur | P21: =SUM(P22:P25) -> 0 | Q21: =SUM(Q22:Q25) -> 0 | R21: =SUM(R22:R25) -> 0 | S21: =SUM(S22:S25) -> 0 | T21: =SUM(T22:T25) -> 0 | U21: =SUM(U22:U25) -> 0 | V21: =SUM(V22:V25) -> 0 | W21: =SUM(W22:W25) -> 0 | ... AE21: =SUM(AE22:AE25) -> 0
C22: A1 | D22: Creëren van richtlijnen en procedures voor transparante besluitvorming | M22: Directeur | N22: AW | P22: 0 | Q22: 0 | R22: 0 | S22: 0 | T22: 0 | U22: 0 | V22: 0 | W22: 0
C23: A2 | D23: Implementatie van procedures en jaarlijkse evaluatie van deze procedures | M23: Directeur | N23: AW | P23: 0 | Q23: 0 | R23: 0 | S23: 0 | T23: 0 | U23: 0 | V23: 0 | W23: 0
C24: A3 | D24: Jaarlijkse zelfevaluatie van bestuursorgaan en dienstencentrum | M24: Directeur | N24: AW | P24: 0 | Q24: 0 | R24: 0 | S24: 0 | T24: 0 | U24: 0 | V24: 0 | W24: 0
C25: A2 | D25: Behalen van een score van minstens 85% op goed bestuur waaronder minsten 90% op transparantie, 60% op democratie en 80% op interne verantwoording | M25: Directeur | N25: AW | P25: 0 | Q25: 0 | R25: 0 | S25: 0 | T25: 0 | U25: 0 | V25: 0 | W25: 0
P26: =SUM(P20,P14,P4) -> 2500 | Q26: =SUM(Q20,Q14,Q4) -> 0 | R26: =SUM(R20,R14,R4) -> 3500 | S26: =SUM(S20,S14,S4) -> 0 | T26: =SUM(T20,T14,T4) -> 3000 | U26: =SUM(U20,U14,U4) -> 0 | V26: =SUM(V20,V14,V4) -> 2500 | W26: =SUM(W20,W14,W4) -> 0 | ... AE26: =SUM(AE20,AE14,AE4) -> 0

Sheet Topsport
A1: NAAM/ LOGO ORGANISATIE | E1: Timing | I1: Status uitvoering actie/doelstelling | O1: Begroting wij verwijzen naar de file conform ConveantTopsport OntwerpfederatiebegrotingTOPSPORT info GertJanJoJurgen | W1: Status resultatenrekening
A2: SD | B2: OD | C2: Actie | D2: Omschrijving | E2: 2021 | F2: 2022 | G2: 2023 | H2: 2024 | I2: 2021 | J2: 2022 | K2: 2023 | L2: 2024 | M2: Verantw | N2: Ana-lytische code | O2: kosten 2021 | P2: opbrengsten 2021 | Q2: kosten 2022 | R2: opbrengsten 2022 | S2: kosten 2023 | T2: opbrengsten 2023 | U2: kosten 2024 | V2: opbrengsten 2024 | W2: kosten 2021 | X2: opbrengsten 2021 | Y2: kosten 2022 | Z2: opbrengsten 2022 | AA2: kosten 2023 | AB2: opbrengsten 2023 | AC2: kosten 2024 | AD2: opbrengsten 2024
A3: SD001 | D3: 1 Prestatatieprogramma Herensingle tegen 2022 in een tewerkstellings, defensie of studentencontract | O3: som kosten SD001 | P3: som opbrengsten SD001 | Q3: som kosten SD001 | R3: som opbrengsten SD001 | S3: som kosten SD001 | T3: som opbrengsten SD001 | U3: som kosten SD001 | V3: som opbrengsten SD001 | W3: som kosten SD001 | X3: som opbrengsten SD001 | Y3: som kosten SD001 | Z3: som opbrengsten SD001 | AA3: som kosten SD001 | AB3: som opbrengsten SD001 | AC3: som kosten SD001 | AD3: som opbrengsten SD001
B4: OD001 | D4: Badminton Vlaanderen wil jaarlijks een trainingsomgeving aanbieden die voor de atleten de grootste kans van slagen biedt in samenspraak met de topsportcommissie en die door atleten -elite coachen en technisch directeur topsport ieder kwartaal positief wordt geevalueerd en/of bijgestuurd. | O4: som kosten OD001 | P4: som opbrengsten OD001 | Q4: som kosten OD001 | R4: som opbrengsten OD001 | S4: som kosten OD001 | T4: som opbrengsten OD001 | U4: som kosten OD001 | V4: som opbrengsten OD001 | W4: som kosten OD001 | X4: som opbrengsten OD001 | Y4: som kosten OD001 | Z4: som opbrengsten OD001 | AA4: som kosten OD001 | AB4: som opbrengsten OD001 | AC4: som kosten OD001 | AD4: som opbrengsten OD001
C5: A0001 | D5: Dagelijkse trainingen organiseren begeleid door een team van elitecoachen met ervaring op het Europese- en wereldniveau
C6: A0002 | D6: Organisatie van relevante stage ifv de individuele doelstellingen - minimaal 4 per jaar
C7: A0003 | D7: Extra sparringsmogelijkheden tov de dagdagelijkse sparringomgeving creëren ifv de specifieke ontwikkeling - min 10 dagen per jaar
C8: A0004 | D8: Mogelijkheid tot dagelijkse toegang van kine
C9: A0005 | D9: Structurele mentale wordt gemonitord door speler en programmanager in min x sessies per jaar
C10: A0006 | D10: Structurele voedingsbegeleiding wordt gemonitord door speler en programmanager in min x sessies
B11: OD002 | D11: Badminton Vlaanderen wil jaarlijks een tornooiprogramma aanbieden die voor de atleten de grootste kans van slagen biedt in samenspraak met de topsportcommissie en die door atleten -elite coachen en technisch directeur topsport ieder kwartaal positief wordt geëvalueerd en/of bijgestuurd. _x000D_ | O11: som kosten OD002 | P11: som opbrengsten OD002 | Q11: som kosten OD002 | R11: som opbrengsten OD002 | S11: som kosten OD002 | T11: som opbrengsten OD002 | U11: som kosten OD002 | V11: som opbrengsten OD002 | W11: som kosten OD002 | X11: som opbrengsten OD002 | Y11: som kosten OD002 | Z11: som opbrengsten OD002 | AA11: som kosten OD002 | AB11: som opbrengsten OD002 | AC11: som kosten OD002 | AD11: som opbrengsten OD002
C12: A0001 | D12: Bepaling van de noodzakelijke jaarlijkse tornooiprogramma om tot het prestatieprofiel te komen - ieder kwartaal update met Topsportcommissie
C13: A0002 | D13: Afwerking van het jaartornooiprogramma en bijsturing ifv prestatie-evolutie waar nodig
C14: A0003 | D14: Permanente evaluatie van de KPI/results en formeel voor de topsportcommissie ieder kwartaal in rapportvorm
B15: OD003 | D15: Reserveren van €7500,- extra budget Badminton Vlaanderen voor eventuele extra tornooien/stages bij mogelijkheid Olympische kwalificatie | O15: 7500 | Q15: 7500
C16: A0001 | D16: Opstellen van tornooiprogramma waarmee de meeste kans is op Olympisch kwalificatie
A17: SD002 | D17: Tegen midden 2023 willen we via een ontwikkelingsprorgamma gemengd dubbel de criteria behalen voor het prestatieprogramma met als doel een medaille op EK 2024 | O17: som kosten SD002 | P17: som opbrengsten SD002 | Q17: som kosten SD002 | R17: som opbrengsten SD002 | S17: som kosten SD002 | T17: som opbrengsten SD002 | U17: som kosten SD002 | V17: som opbrengsten SD002 | W17: som kosten SD002 | X17: som opbrengsten SD002 | Y17: som kosten SD002 | Z17: som opbrengsten SD002 | AA17: som kosten SD002 | AB17: som opbrengsten SD002 | AC17: som kosten SD002 | AD17: som opbrengsten SD002
B18: OD003 | D18: Badminton Vlaanderen wil jaarlijks een trainingsomgeving aanbieden die voor de atleten de grootste kans van slagen biedt in samenspraak met de topsportcommissie en die door atleten -elite coachen en technisch directeur topsport ieder kwartaal positief wordt geevalueerd en/of bijgestuurd. | O18: som kosten OD003 | P18: som opbrengsten OD003 | Q18: som kosten OD003 | R18: som opbrengsten OD003 | S18: som kosten OD003 | T18: som opbrengsten OD003 | U18: som kosten OD003 | V18: som opbrengsten OD003 | W18: som kosten OD003 | X18: som opbrengsten OD003 | Y18: som kosten OD003 | Z18: som opbrengsten OD003 | AA18: som kosten OD003 | AB18: som opbrengsten OD003 | AC18: som kosten OD003 | AD18: som opbrengsten OD003
C19: A0001 | D19: Dagelijkse trainingen organiseren begeleid door een team van elitecoachen met ervaring op het Europese- en wereldniveau
C20: A0002 | D20: Organisatie van relevante stage ifv de individuele doelstellingen - minimaal 2 per jaar
C21: A0003 | D21: Extra sparringsmogelijkheden creëren tov de dagdagelijkse sparringomgeving ifv de specifieke ontwikkeling - min 1 week per jaar
C22: A0004 | D22: Mogelijkheid tot dagelijkse toegang van kine
C23: A0005 | D23: Structurele mentale wordt gemonitord door speler en programmanager in min x sessies per jaar
C24: A0006 | D24: Structurele voedingsbegeleiding wordt gemonitord door speler en programmanager in min x sessies
B25: OD004 | D25: Badminton Vlaanderen wil jaarlijks een tornooiprogramma aanbieden die voor de atleten de grootste kans van slagen biedt in samenspraak met de topsportcommissie en die door atleten -elite coachen en technisch directeur topsport ieder kwartaal positief wordt geevalueerd en/of bijgestuurd. | O25: som kosten OD004 | P25: som opbrengsten OD004 | Q25: som kosten OD004 | R25: som opbrengsten OD004 | S25: som kosten OD004 | T25: som opbrengsten OD004 | U25: som kosten OD004 | V25: som opbrengsten OD004 | W25: som kosten OD004 | X25: som opbrengsten OD004 | Y25: som kosten OD004 | Z25: som opbrengsten OD004 | AA25: som kosten OD004 | AB25: som opbrengsten OD004 | AC25: som kosten OD004 | AD25: som opbrengsten OD004
C26: A0001 | D26: Bepaling van de noodzakelijke jaarlijkse tornooiprogramma om tot het prestatieprofiel te komen - ieder kwartaal update met Topsportcommissie
C27: A0002 | D27: Afwerking van het jaartornooiprogramma en bijsturing ifv prestatie-evolutie waar nodig
C28: A0003 | D28: Permanente evaluatie van de KPI/results en formeel voor de topsportcommissie ieder kwartaal in rapportvorm
C29: A0004 | D29: Adequate tornooibegeleiding door elitecoach - assistent elite coach op basis van minimum 80% tornooibegeleiding indien de budgettaire mogelijkheden aanwezig zijn
B30: OD005 | D30: Min 1 speler aan het profparcours van Sport Vlaanderen deel te laten nemen voor een betere ondersteuning van zijn/haar carriere. | O30: som kosten OD004 | P30: som opbrengsten OD004 | Q30: som kosten OD004 | R30: som opbrengsten OD004 | S30: som kosten OD004 | T30: som opbrengsten OD004 | U30: som kosten OD004 | V30: som opbrengsten OD004 | W30: som kosten OD004 | X30: som opbrengsten OD004 | Y30: som kosten OD004 | Z30: som opbrengsten OD004 | AA30: som kosten OD004 | AB30: som opbrengsten OD004 | AC30: som kosten OD004 | AD30: som opbrengsten OD004
C31: A0001 | D31: aanvraag gebeurt uiterlijk 2020 duurtijd 21-22 medio 23
A32: SD003 | D32: Tegen einde 2024 wil Badminton Vlaanderen 2 spelers uit de topsportschool en of Vlaamse jeugdselectie kunnen plaatsen in een ontwikkelingsprogramma 2025-2028 voorbereidend op een prestatieprogramma voor de Olympiade van 2024-2028. | O32: som kosten SD001 | P32: som opbrengsten SD001 | Q32: som kosten SD001 | R32: som opbrengsten SD001 | S32: som kosten SD001 | T32: som opbrengsten SD001 | U32: som kosten SD001 | V32: som opbrengsten SD001 | W32: som kosten SD001 | X32: som opbrengsten SD001 | Y32: som kosten SD001 | Z32: som opbrengsten SD001 | AA32: som kosten SD001 | AB32: som opbrengsten SD001 | AC32: som kosten SD001 | AD32: som opbrengsten SD001
B33: OD001 | D33: Badminton Vlaanderen wil de noodzakelijke structurele trainingsomkadering van TSS behouden op minimum het niveau van de afgelopen Olympiade en streeft naar een minimale trainers omkadering van 4 VTE . | O33: som kosten OD001 | P33: som opbrengsten OD001 | Q33: som kosten OD001 | R33: som opbrengsten OD001 | S33: som kosten OD001 | T33: som opbrengsten OD001 | U33: som kosten OD001 | V33: som opbrengsten OD001 | W33: som kosten OD001 | X33: som opbrengsten OD001 | Y33: som kosten OD001 | Z33: som opbrengsten OD001 | AA33: som kosten OD001 | AB33: som opbrengsten OD001 | AC33: som kosten OD001 | AD33: som opbrengsten OD001
C34: A0001 | D34: Dagelijkse trainingen organiseren begeleid door een team van coaches volgens ons leerplan
C35: A0002 | D35: Organisatie van relevante stage ifv de individuele en graadsdoelstellingen met een minimum van 8 per olympiade
C36: A0003 | D36: Extra sparringsmogelijkheden creëren ifv de specifieke ontwikkellijn waar nodig met een minimum van 2 per jaar
C37: A0004 | D37: Binnen TSS passen we structuele voeding, mentale en fysio begeleiding toe per graad volgens ontwikkelingslijn en leerplan - chck leerplan
B38: OD002 | D38: Badminton Vlaanderen wil jaarlijks een tornooiprogramma aanbieden dat toelaat dat TSS leerlingen zich meten met de sterkste tegenstanders uit Europa binnen hun leeftijdscategorie waarbij we minimum 10 resultaten met kwartfinale of beter halen met een aanwezigheid van minimum 3 toplanden. | O38: som kosten OD002 | P38: som opbrengsten OD002 | Q38: som kosten OD002 | R38: som opbrengsten OD002 | S38: som kosten OD002 | T38: som opbrengsten OD002 | U38: som kosten OD002 | V38: som opbrengsten OD002 | W38: som kosten OD002 | X38: som opbrengsten OD002 | Y38: som kosten OD002 | Z38: som opbrengsten OD002 | AA38: som kosten OD002 | AB38: som opbrengsten OD002 | AC38: som kosten OD002 | AD38: som opbrengsten OD002
C39: A0001 | D39: Aanbieden van een specifiek TSS tornooiprogramma per graad - voor aanvang van het seizoen gepubliceerd en begeleid door TSS coach
C40: A0002 | D40: Afwerking van het jaartornooiprogramma en bijsturing ifv prestatie-evolutie waar nodig
C41: A0003 | D41: Permanente evaluatie van de KPI/results en formeel voor de topsportcommissie ieder kwartaal in rapportvorm
C42: A0004 | D42: Minimum 1 speler zich laten kwailificeren voor de Youth Olympics van 2022
C43: A0005 | D43: Jaarlijkse kwaliteitsbevraging van de ouders en lln TSS waarbij een minimumscore van 3,5 op 5 wordt behaald
B44: OD003 | D44: Badminton Vlaanderen wil tegen september 2023 de TSS structuur in de eigen hal te leuven organiseren ism GO Ka leuven | O44: som kosten OD001 | P44: som opbrengsten OD001 | Q44: som kosten OD001 | R44: som opbrengsten OD001 | S44: som kosten OD001 | T44: som opbrengsten OD001 | U44: som kosten OD001 | V44: som opbrengsten OD001 | W44: som kosten OD001 | X44: som opbrengsten OD001 | Y44: som kosten OD001 | Z44: som opbrengsten OD001 | AA44: som kosten OD001 | AB44: som opbrengsten OD001 | AC44: som kosten OD001 | AD44: som opbrengsten OD001
C45: A0001 | D45: Infrastructuur verbetering tov Antwerpen, alle faciliteiten op fiets afstand dus bijna geen verplaatsings verlies
C46: A0002 | D46: Mogelijkheid tot creëren van video opnames en spelers analyses aan de hand van de opnames
B47: OD004 | D47: Badminton Vlaanderen wil voor de periode 21-24 een doorstroming van talent jeugd (talent selection) naar TSS (talent development) realiseren van gemiddeld 1 speler per schooljaar met als doel om in 25-28 naar 2/3 spelers te evolueren? | O47: som kosten OD002 | P47: som opbrengsten OD002 | Q47: som kosten OD002 | R47: som opbrengsten OD002 | S47: som kosten OD002 | T47: som opbrengsten OD002 | U47: som kosten OD002 | V47: som opbrengsten OD002 | W47: som kosten OD002 | X47: som opbrengsten OD002 | Y47: som kosten OD002 | Z47: som opbrengsten OD002 | AA47: som kosten OD002 | AB47: som opbrengsten OD002 | AC47: som kosten OD002 | AD47: som opbrengsten OD002
C48: A0001 | D48: Organiseren van selectietrainingen u11-u13 met een minimum van 16 trainingen per seizoen
C49: A0002 | D49: Dedecteren van talenten tijdens stage periodes academies/ provincies/ talentgroep trainingsdagen
C50: A0003 | D50: Ivm Shuttle kids en Shuttle time implementatie verwijzen we naar de cluster opleiding/jeugd
C51: A0004 | D51: In samenwerking met de academies/provincies organiseren van 2x per jaar één poolstage voor de genomineerde talentgroep door de regioscouts in overleg met de talent TSS trainer
B52: OD005 | D52: Vormingstraject omzetten naar een bestand voor verenigingen, trainers, bestuurders etc | O52: som kosten OD002 | P52: som opbrengsten OD002 | Q52: som kosten OD002 | R52: som opbrengsten OD002 | S52: som kosten OD002 | T52: som opbrengsten OD002 | U52: som kosten OD002 | V52: som opbrengsten OD002 | W52: som kosten OD002 | X52: som opbrengsten OD002 | Y52: som kosten OD002 | Z52: som opbrengsten OD002 | AA52: som kosten OD002 | AB52: som opbrengsten OD002 | AC52: som kosten OD002 | AD52: som opbrengsten OD002
C53: A0001 | D53: Leerplan evalueren gedurende het jaar en eventueel aanpassen waar nodig
C54: A0002 | D54: Vormingstraject feedback vragen aan verenigingen, trainers, bestuurders etc 1x per 2 jaar
A55: SD004 | D55: Tegen einde 2024 willen we het topsportmodel badminton Vlaanderen extra en structureel communiceren naar RVB - clubs - en leden via social media en website | O55: som kosten SD001 | P55: som opbrengsten SD001 | Q55: som kosten SD001 | R55: som opbrengsten SD001 | S55: som kosten SD001 | T55: som opbrengsten SD001 | U55: som kosten SD001 | V55: som opbrengsten SD001 | W55: som kosten SD001 | X55: som opbrengsten SD001 | Y55: som kosten SD001 | Z55: som opbrengsten SD001 | AA55: som kosten SD001 | AB55: som opbrengsten SD001 | AC55: som kosten SD001 | AD55: som opbrengsten SD001
B56: OD001 | D56: Structurele samenwerking met cel communicatie van DC | O56: som kosten OD001 | P56: som opbrengsten OD001 | Q56: som kosten OD001 | R56: som opbrengsten OD001 | S56: som kosten OD001 | T56: som opbrengsten OD001 | U56: som kosten OD001 | V56: som opbrengsten OD001 | W56: som kosten OD001 | X56: som opbrengsten OD001 | Y56: som kosten OD001 | Z56: som opbrengsten OD001 | AA56: som kosten OD001 | AB56: som opbrengsten OD001 | AC56: som kosten OD001 | AD56: som opbrengsten OD001
C57: A0001 | D57: tegen begin 2021 een effeciente communicatiestrategie uitbouwen met de cel communicatie van de federatie gebaseerd op x aantal tweets/ facebookmessages/ instagram/tik tok? tbd
C58: A0002 | D58: 3 maandelijks 1 interview speler en/of coach van topsportwerking
C59: A0003 | D59: Publicatie elk verslag topsportcommissie en toelichting op RvB
C60: A0004 | D60: Resultaten communiceren via Sociale media en naar de RVB
O61: som kosten SD001 | P61: som opbrengsten SD001 | Q61: som kosten SD001 | R61: som opbrengsten SD001 | S61: som kosten SD001 | T61: som opbrengsten SD001 | U61: som kosten SD001 | V61: som opbrengsten SD001 | W61: som kosten SD001 | X61: som opbrengsten SD001 | Y61: som kosten SD001 | Z61: som opbrengsten SD001 | AA61: som kosten SD001 | AB61: som opbrengsten SD001 | AC61: som kosten SD001 | AD61: som opbrengsten SD001
O62: som kosten OD001 | P62: som opbrengsten OD001 | Q62: som kosten OD001 | R62: som opbrengsten OD001 | S62: som kosten OD001 | T62: som opbrengsten OD001 | U62: som kosten OD001 | V62: som opbrengsten OD001 | W62: som kosten OD001 | X62: som opbrengsten OD001 | Y62: som kosten OD001 | Z62: som opbrengsten OD001 | AA62: som kosten OD001 | AB62: som opbrengsten OD001 | AC62: som kosten OD001 | AD62: som opbrengsten OD001
A65: DM001 | D65: Spelers van BV op grote internationale events brengen | O65: som kosten DM001 | P65: som opbrengsten DM001 | Q65: som kosten DM001 | R65: som opbrengsten DM001 | S65: som kosten DM001 | T65: som opbrengsten DM001 | U65: som kosten DM001 | V65: som opbrengsten DM001 | W65: som kosten DM001 | X65: som opbrengsten DM001 | Y65: som kosten DM001 | Z65: som opbrengsten DM001 | AA65: som kosten DM001 | AB65: som opbrengsten DM001 | AC65: som kosten DM001 | AD65: som opbrengsten DM001
A66: DM001 | B66: IT001 | D66: ITEM 1
A67: DM001 | B67: IT001 | C67: A0013 | D67: omschrijving
A68: DM001 | B68: IT001 | C68: A0014 | D68: …
A69: DM001 | B69: IT002 | D69: ITEM 2
A70: DM001 | B70: IT002 | C70: A0015 | D70: omschrijving
A71: DM001 | B71: IT002 | C71: A0016 | D71: …
A72: DM002 | D72: Omschrijving domein binnen de overige werking | O72: som kosten DM002 | P72: som opbrengsten DM002 | Q72: som kosten DM002 | R72: som opbrengsten DM002 | S72: som kosten DM002 | T72: som opbrengsten DM002 | U72: som kosten DM002 | V72: som opbrengsten DM002 | W72: som kosten DM002 | X72: som opbrengsten DM002 | Y72: som kosten DM002 | Z72: som opbrengsten DM002 | AA72: som kosten DM002 | AB72: som opbrengsten DM002 | AC72: som kosten DM002 | AD72: som opbrengsten DM002
A73: DM002 | B73: IT004 | D73: ITEM 4
A74: DM002 | B74: IT004 | C74: A0019 | D74: omschrijving
A75: DM002 | B75: IT004 | C75: A0020 | D75: …
A76: DM002 | B76: IT005 | D76: ITEM 5
A77: DM002 | B77: IT005 | C77: A0020 | D77: omschrijving
A78: DM002 | B78: IT005 | C78: A0021 | D78: …
A79: DM003 | D79: Omschrijving domein binnen de overige werking | O79: som kosten DM003 | P79: som opbrengsten DM003 | Q79: som kosten DM003 | R79: som opbrengsten DM003 | S79: som kosten DM003 | T79: som opbrengsten DM003 | U79: som kosten DM003 | V79: som opbrengsten DM003 | W79: som kosten DM003 | X79: som opbrengsten DM003 | Y79: som kosten DM003 | Z79: som opbrengsten DM003 | AA79: som kosten DM003 | AB79: som opbrengsten DM003 | AC79: som kosten DM003 | AD79: som opbrengsten DM003
A80: DM003 | B80: IT005 | D80: ITEM 5
A81: DM003 | B81: IT005 | C81: A0020 | D81: omschrijving
A82: DM003 | B82: IT005 | C82: A0021 | D82: omschrijving
A83: DM003 | B83: IT006 | D83: ITEM 6
A84: DM003 | B84: IT006 | C84: A0022 | D84: omschrijving
A85: DM003 | B85: IT006 | C85: A0023 | D85: omschrijving
O86: Totaal kosten 2021 | P86: Totaal opbrengsten 2021 | Q86: Totaal kosten 2022 | R86: Totaal opbrengsten 2022 | S86: Totaal kosten 2023 | T86: Totaal opbrengsten 2023 | U86: Totaal kosten 2024 | V86: Totaal opbrengsten 2024 | W86: Totaal kosten 2021 | X86: Totaal opbrengsten 2021 | Y86: Totaal kosten 2022 | Z86: Totaal opbrengsten 2022 | AA86: Totaal kosten 2023 | AB86: Totaal opbrengsten 2023 | AC86: Totaal kosten 2024 | AD86: Totaal opbrengsten 2024

Sheet Integriteit & Gezond sporten
A1: Badminton Vlaanderen / Integriteit en gezond sporten | E1: Timing | I1: Status uitvoering actie/doelstelling | P1: Begroting | X1: Status resultatenrekening
A2: SD | B2: OD | C2: Actie | D2: Omschrijving | E2: 2025 | F2: 2026 | G2: 2027 | H2: 2028 | I2: 2025 | J2: 2026 | K2: 2027 | L2: 2028 | M2: Verantw | N2: Ana-lytische code | O2: Indicator | P2: kosten | Q2: opbrengsten | R2: kosten | S2: opbrengsten | T2: kosten | U2: opbrengsten | V2: kosten | W2: opbrengsten | X2: kosten | Y2: opbrengsten | Z2: kosten | AA2: opbrengsten | AB2: kosten | AC2: opbrengsten | AD2: kosten | AE2: opbrengsten
P3: 2025 | Q3: 2025 | R3: 2026 | S3: 2026 | T3: 2027 | U3: 2027 | V3: 2028 | W3: 2028 | X3: 2025 | Y3: 2025 | Z3: 2026 | AA3: 2026 | AB3: 2027 | AC3: 2027 | AD3: 2028 | AE3: 2028
A4: SD1 - SMASH | D4: Binnen de beleidsperiode tracht Badminton Vlaanderen de betrokkenheid van clubs binnen de cluster ethisch sporten te verhogen. | P4: =SUM(P5,P8,P12,P16) -> 1500 | Q4: =SUM(Q5,Q8,Q12,Q16) -> 0 | R4: =SUM(R5,R8,R12,R16) -> 1500 | S4: =SUM(S5,S8,S12,S16) -> 0 | T4: =SUM(T5,T8,T12,T16) -> 1500 | U4: =SUM(U5,U8,U12,U16) -> 0 | V4: =SUM(V5,V8,V12,V16) -> 1500 | W4: =SUM(W5,W8,W12,W16) -> 0 | ... AE4: =SUM(AE5,AE8,AE12,AE16) -> 0
B5: OD1 | D5: Tegen eind 2028 beschikken 65% van onze clubs en 100% van onze clubs met een jeugdwerking over een aanspreekpersoon integriteit. | O5: Aantal club-API's bij clubs met een jeugdwerking | P5: =SUM(P6:P7) -> 0 | Q5: =SUM(Q6:Q7) -> 0 | R5: =SUM(R6:R7) -> 0 | S5: =SUM(S6:S7) -> 0 | T5: =SUM(T6:T7) -> 0 | U5: =SUM(U6:U7) -> 0 | V5: =SUM(V6:V7) -> 0 | W5: =SUM(W6:W7) -> 0 | ... AE5: =SUM(AE6:AE7) -> 0
C6: A1 | D6: Jaarlijks trachten we minstens 20 Club-API's op te leiden | M6: Pieter-Jan | N6: AINT | P6: 0 | Q6: 0 | R6: 0 | S6: 0 | T6: 0 | U6: 0 | V6: 0 | W6: 0
C7: A2 | D7: Jaarlijks vragen we aan de club hun actieve Club-API via het ledenbeheer up te daten | M7: Pieter-Jan | N7: AINT | P7: 0 | Q7: 0 | R7: 0 | S7: 0 | T7: 0 | U7: 0 | V7: 0 | W7: 0
B8: OD2 | D8: Tegen eind 2028 hebben 50% van onze clubs met een jeugdwerking een integriteitsbeleid opgesteld. | O8: Percentage van aantal clubs met een integriteitsbeleid | P8: =SUM(P9:P11) -> 250 | Q8: =SUM(Q9:Q11) -> 0 | R8: =SUM(R9:R11) -> 250 | S8: =SUM(S9:S11) -> 0 | T8: =SUM(T9:T11) -> 250 | U8: =SUM(U9:U11) -> 0 | V8: =SUM(V9:V11) -> 250 | W8: =SUM(W9:W11) -> 0 | ... AE8: =SUM(AE9:AE11) -> 0
C9: A1 | D9: Jaarlijks stellen we ons beleid voor aan de clubs als inspiratiebron | M9: Pieter-Jan | N9: AINT | P9: 0 | Q9: 0 | R9: 0 | S9: 0 | T9: 0 | U9: 0 | V9: 0 | W9: 0
C10: A2 | D10: Jaarlijks organiseren we een workshop voor clubbestuurders en Club-API's omtrent het opstellen en implementeren van een integriteitsbeleid | M10: Pieter-Jan | N10: AINT | P10: 250 | Q10: 0 | R10: 250 | S10: 0 | T10: 250 | U10: 0 | V10: 250 | W10: 0
C11: A2 | D11: Jaarlijks ondersteunen we minstens 5 clubs met het opstellen van hun integriteitsbeleid | M11: Pieter-Jan | N11: AINT | P11: 0 | Q11: 0 | R11: 0 | S11: 0 | T11: 0 | U11: 0 | V11: 0 | W11: 0
B12: OD3 | D12: Tegen eind 2028 neemt 50% van onze clubs met een jeugdwerking deel aan ons integriteitslabel. | O12: Percentage van deelname aan integriteitslabel | P12: =SUM(P13:P15) -> 500 | Q12: =SUM(Q13:Q15) -> 0 | R12: =SUM(R13:R15) -> 500 | S12: =SUM(S13:S15) -> 0 | T12: =SUM(T13:T15) -> 500 | U12: =SUM(U13:U15) -> 0 | V12: =SUM(V13:V15) -> 500 | W12: =SUM(W13:W15) -> 0 | ... AE12: =SUM(AE13:AE15) -> 0
C13: A1 | D13: Jaarlijks bezorgt Badminton Vlaanderen het vernieuwde subsidielabel aan alle aangesloten clubs | M13: Pieter-Jan | N13: AINT | P13: 0 | Q13: 0 | R13: 0 | S13: 0 | T13: 0 | U13: 0 | V13: 0 | W13: 0
C14: A2 | D14: Jaarlijks krijgt elke club een integriteitslabel op basis van hun verwezenlijkingen | M14: Pieter-Jan | N14: AINT | P14: 500 | Q14: 0 | R14: 500 | S14: 0 | T14: 500 | U14: 0 | V14: 500 | W14: 0
C15: A3 | D15: Jaarlijks evalueren we het integriteitslabel en passen het aan op basis van het het integriteitslabel van Badminton Vlaanderen | M15: Pieter-Jan | N15: AINT | P15: 0 | Q15: 0 | R15: 0 | S15: 0 | T15: 0 | U15: 0 | V15: 0 | W15: 0
B16: OD4 | D16: De Ethische Commissie heeft een ondersteunende en onafhankelijke rol binnen Badminton Vlaanderen. | O16: Aantal adviezen van ethische commissie | P16: =SUM(P17:P18) -> 750 | Q16: =SUM(Q17:Q18) -> 0 | R16: =SUM(R17:R18) -> 750 | S16: =SUM(S17:S18) -> 0 | T16: =SUM(T17:T18) -> 750 | U16: =SUM(U17:U18) -> 0 | V16: =SUM(V17:V18) -> 750 | W16: =SUM(W17:W18) -> 0 | ... AE16: =SUM(AE17:AE18) -> 0
C17: A1 | D17: De Ethische Commissie ontwikkelt in samenspraak met federatie-API het integriteitsbeleid. | M17: Ethische Commissie | N17: AINT | P17: 750 | Q17: 0 | R17: 750 | S17: 0 | T17: 750 | U17: 0 | V17: 750 | W17: 0
C18: A2 | D18: De Ethische Commissie heeft een ondersteunende/adviserende rol ten opzichte van de federatie-API's | M18: Ethische Commissie | N18: AINT | P18: 0 | Q18: 0 | R18: 0 | S18: 0 | T18: 0 | U18: 0 | V18: 0 | W18: 0
A19: SD2 - SMASH | D19: Badminton Vlaanderen voorziet een preventief beleid omtrent integriteit. | P19: =SUM(P20,P25) -> 850 | Q19: =SUM(Q20,Q25) -> 0 | R19: =SUM(R20,R25) -> 850 | S19: =SUM(S20,S25) -> 0 | T19: =SUM(T20,T25) -> 850 | U19: =SUM(U20,U25) -> 0 | V19: =SUM(V20,V25) -> 850 | W19: =SUM(W20,W25) -> 0 | ... AE19: =SUM(AE20,AE25) -> 0
B20: OD1 | D20: De meldingsbereidheid bij onze clubs en leden stijgt met 30% in vergelijking met nulmeting van 2024. Alle clubs ontvangen drempelverlagend preventiemateriaal waarin de meldingsprocedure wordt toegelicht. | O20: Stijging van meldingsbereidheid ten opzichte van nulmeting | P20: =SUM(P21:P24) -> 850 | Q20: =SUM(Q21:Q24) -> 0 | R20: =SUM(R21:R24) -> 850 | S20: =SUM(S21:S24) -> 0 | T20: =SUM(T21:T24) -> 850 | U20: =SUM(U21:U24) -> 0 | V20: =SUM(V21:V24) -> 850 | W20: =SUM(W21:W24) -> 0 | ... AE20: =SUM(AE21:AE24) -> 0
C21: A1 | D21: Alle Club-API's ontvangen een Club-API pakket met alle basisinformatie om hun mandaat uit te voeren | M21: Pieter-Jan | N21: AINT | P21: 0 | Q21: 0 | R21: 0 | S21: 0 | T21: 0 | U21: 0 | V21: 0 | W21: 0
C22: A2 | D22: Vanuit Badminton Vlaanderen voorzien we jaarlijks een bevraging voor de opvolging van het aantal meldingen via clubs | M22: Pieter-Jan | N22: AINT | P22: 0 | Q22: 0 | R22: 0 | S22: 0 | T22: 0 | U22: 0 | V22: 0 | W22: 0
C23: A3 | D23: Jaarlijks zullen de Federatie-API's alle nieuwe Club-API's individueel contacteren om zichzelf voor te stellen en de werking van Badminton Vlaanderen toe te lichten | M23: Pieter-Jan | N23: AINT | P23: 0 | Q23: 0 | R23: 0 | S23: 0 | T23: 0 | U23: 0 | V23: 0 | W23: 0
C24: A4 | D24: Badminton Vlaanderen voorziet een toegankelijke meldingsprocedure voor alle actoren | M24: Pieter-Jan | N24: AINT | P24: 850 | Q24: 0 | R24: 850 | S24: 0 | T24: 850 | U24: 0 | V24: 850 | W24: 0
B25: OD2 | D25: Integriteit zal een plaats krijgen binnen de communicatie van Badminton Vlaanderen. | O25: Aantal communicaties omtrent integriteit | P25: =SUM(P26:P28) -> 0 | Q25: =SUM(Q26:Q28) -> 0 | R25: =SUM(R26:R28) -> 0 | S25: =SUM(S26:S28) -> 0 | T25: =SUM(T26:T28) -> 0 | U25: =SUM(U26:U28) -> 0 | V25: =SUM(V26:V28) -> 0 | W25: =SUM(W26:W28) -> 0 | ... AE25: =SUM(AE26:AE28) -> 0
C26: A1 | D26: Twee-maandelijks zal er via sociale media (Facebook, Instagram) en de eigen website een specifieke actie georganiseerd worden rond een welbepaald thema (Fair Play, pesten, grensoverschrijdend gedrag, anti-doping ...). | M26: Pieter-Jan /Geraldine | N26: AINT | P26: 0 | Q26: 0 | R26: 0 | S26: 0 | T26: 0 | U26: 0 | V26: 0 | W26: 0
C27: A2 | D27: Een duidelijke link op de homepage van de website zal direct leiden naar de meest recente documenten en acties rond integriteit. | M27: Pieter-Jan | N27: AINT | P27: 0 | Q27: 0 | R27: 0 | S27: 0 | T27: 0 | U27: 0 | V27: 0 | W27: 0
C28: A3 | D28: 4x per jaar zal er een nieuwsbrief uitgestuurd worden naar alle Club-API's met alle informatie omtrent integriteit binnen Badminton Vlaanderen. | M28: Pieter-Jan | N28: AINT | P28: 0 | Q28: 0 | R28: 0 | S28: 0 | T28: 0 | U28: 0 | V28: 0 | W28: 0
A29: SD3 - PUSH | D29: Badminton Vlaanderen zorgt voor een uitgebreid vormingsaanbod voor elk niveau (Federatie, club, individu). | P29: =SUM(P30,P36) -> 3375 | Q29: =SUM(Q30,Q36) -> 2350 | R29: =SUM(R30,R36) -> 3375 | S29: =SUM(S30,S36) -> 2350 | T29: =SUM(T30,T36) -> 3375 | U29: =SUM(U30,U36) -> 2550 | V29: =SUM(V30,V36) -> 3375 | W29: =SUM(W30,W36) -> 2550 | ... AE29: =SUM(AE30,AE36) -> 0
B30: OD1 | D30: Ontwikkelen van een gevarieerd aanbod van integriteitsvormingen voor clubs. | O30: Aantal vormingen omtrent integriteit | P30: =SUM(P31:P35) -> 1750 | Q30: =SUM(Q31:Q35) -> 2350 | R30: =SUM(R31:R35) -> 1750 | S30: =SUM(S31:S35) -> 2350 | T30: =SUM(T31:T35) -> 1750 | U30: =SUM(U31:U35) -> 2550 | V30: =SUM(V31:V35) -> 1750 | W30: =SUM(W31:W35) -> 2550 | ... AE30: =SUM(AE31:AE35) -> 0
C31: A1 | D31: Jaarlijks organiseert Badminton Vlaanderen 2 opleidingen voor Club-API's | M31: Pieter-Jan | N31: AINT | P31: 500 | Q31: 1000 | R31: 500 | S31: 1000 | T31: 500 | U31: 1200 | V31: 500 | W31: 1200
C32: A2 | D32: Jaarlijks organiseert Badminton Vlaanderen een uitwisselingsmoment voor Club-API's | M32: Pieter-Jan | N32: AINT | P32: 500 | Q32: 350 | R32: 500 | S32: 350 | T32: 500 | U32: 350 | V32: 500 | W32: 350
C33: A3 | D33: Jaarlijks organiseert Badminton Vlaanderen 1 bijscholing omtrent een bepaald thema. | M33: Pieter-Jan | N33: AINT | P33: 250 | Q33: 500 | R33: 250 | S33: 500 | T33: 250 | U33: 500 | V33: 250 | W33: 500
C34: A4 | D34: Jaarlijks stellen we een bevraging op aan onze club-API's omtrent de ondersteuning van de federatie. | M34: Pieter-Jan | N34: AINT | P34: 0 | Q34: 0 | R34: 0 | S34: 0 | T34: 0 | U34: 0 | V34: 0 | W34: 0
C35: A5 | D35: Badminton Vlaanderen biedt samen met partner verschillende vormingsopties aan voor clubs (sportouders, moeilijke gesprekken, transgender, …) | M35: Pieter-Jan | N35: AINT | P35: 500 | Q35: 500 | R35: 500 | S35: 500 | T35: 500 | U35: 500 | V35: 500 | W35: 500
B36: OD2 | D36: Badminton Vlaanderen zorgt voor jaarlijkse bijscholing van hun federatie-API's. | O36: Aantal federatie API's & hun bijscholingen | P36: =SUM(P37:P39) -> 1625 | Q36: =SUM(Q37:Q39) -> 0 | R36: =SUM(R37:R39) -> 1625 | S36: =SUM(S37:S39) -> 0 | T36: =SUM(T37:T39) -> 1625 | U36: =SUM(U37:U39) -> 0 | V36: =SUM(V37:V39) -> 1625 | W36: =SUM(W37:W39) -> 0 | ... AE36: =SUM(AE37:AE39) -> 0
C37: A1 | D37: Badminton Vlaanderen zorgt voor een continu aanbod van minstens 3 federatie API's, minstens één daarvan is een man en minstens één daarvan is een vrouw | M37: Pieter-Jan | N37: AINT | P37: 1000 | Q37: 0 | R37: 1000 | S37: 0 | T37: 1000 | U37: 0 | V37: 1000 | W37: 0
C38: A2 | D38: Jaarlijks volgt elke federatie-API minstens 1 opleiding omtrent ethisch sporten. | M38: Pieter-Jan | N38: AINT | P38: 500 | Q38: 0 | R38: 500 | S38: 0 | T38: 500 | U38: 0 | V38: 500 | W38: 0
C39: A3 | D39: Jaarlijks volgt elke federatie-API minstens 1 uitwisselingsmoment. | M39: Pieter-Jan | N39: AINT | P39: 125 | Q39: 0 | R39: 125 | S39: 0 | T39: 125 | U39: 0 | V39: 125 | W39: 0
A40: SD4 - SMASH | D40: In volgend beleidsperiode zal Badminton Vlaanderen inzetten op het versterken van de inclusiviteit en diversiteit binnen de sport door specifiek aandacht te besteden aan de inclusie van transgender en het verminderen van de impact van kansarmoede | P40: =SUM(P41,P45) -> 1000 | Q40: =SUM(Q41,Q45) -> 0 | R40: =SUM(R41,R45) -> 1000 | S40: =SUM(S41,S45) -> 0 | T40: =SUM(T41,T45) -> 1000 | U40: =SUM(U41,U45) -> 0 | V40: =SUM(V41,V45) -> 1000 | W40: =SUM(W41,W45) -> 0 | ... AE40: =SUM(AE41,AE45) -> 0
B41: OD1 | D41: Creëren van een inclusieve omgeving waar transgender personen zich welkom voelen en actief kunnen deelnemen aan badmintonactiviteiten. | O41: Ontwikkeling van beleid omtrent transgender | P41: =SUM(P42:P44) -> 1000 | Q41: =SUM(Q42:Q44) -> 0 | R41: =SUM(R42:R44) -> 1000 | S41: =SUM(S42:S44) -> 0 | T41: =SUM(T42:T44) -> 1000 | U41: =SUM(U42:U44) -> 0 | V41: =SUM(V42:V44) -> 1000 | W41: =SUM(W42:W44) -> 0 | ... AE41: =SUM(AE42:AE44) -> 0
C42: A1 | D42: Ontwikkelen van een transgenderbeleid (inclusief richtlijnen voor deelname aan competitie) | M42: Ethische Commissie | N42: AINT | P42: 0 | Q42: 0 | R42: 0 | S42: 0 | T42: 0 | U42: 0 | V42: 0 | W42: 0
C43: A2 | D43: Implementeren en opvolgen van transgenderbeleid | M43: Ethische Commissie | N43: AINT | P43: 0 | Q43: 0 | R43: 0 | S43: 0 | T43: 0 | U43: 0 | V43: 0 | W43: 0
C44: A3 | D44: Ontwikkelen van educatief materiaal die onze clubs informeren over deze kwesties | M44: Ethische Commissie | N44: AINT | P44: 1000 | Q44: 0 | R44: 1000 | S44: 0 | T44: 1000 | U44: 0 | V44: 1000 | W44: 0
B45: OD2 | D45: Verminderen van de impact van kansarmoede binnen Badminton Vlaanderen door de toegang tot sport te vergroten dmv nieuwe ondersteuningsmaatregelen. | O45: Ontwikkeling van beleid omtrent kansarmoede | P45: =SUM(P46:P49) -> 0 | Q45: =SUM(Q46:Q49) -> 0 | R45: =SUM(R46:R49) -> 0 | S45: =SUM(S46:S49) -> 0 | T45: =SUM(T46:T49) -> 0 | U45: =SUM(U46:U49) -> 0 | V45: =SUM(V46:V49) -> 0 | W45: =SUM(W46:W49) -> 0 | ... AE45: =SUM(AE46:AE49) -> 0
C46: A1 | D46: Opstellen en opvolgen van projectdossier kansarmoede waarbij we alle actoren en hun rol gaan bepalen | M46: Ethische Commissie | N46: AINTKA | P46: 0 | Q46: 0 | R46: 0 | S46: 0 | T46: 0 | U46: 0 | V46: 0 | W46: 0
C47: A2 | D47: Analyseren van de betrokken doelgroep om zo de tekortkomingen te bepalen. | M47: Ethische Commissie | N47: AINTKA | P47: 0 | Q47: 0 | R47: 0 | S47: 0 | T47: 0 | U47: 0 | V47: 0 | W47: 0
C48: A3 | D48: Samenwerken met lokale gemeenschappen, scholen en sociale organisaties om badminton aan te bieden aan deze doelgroep | M48: Ethische Commissie | N48: AINTKA | P48: 0 | Q48: 0 | R48: 0 | S48: 0 | T48: 0 | U48: 0 | V48: 0 | W48: 0
C49: A4 | D49: Organiseren van evenementen en activiteiten gericht op het betrekken van kansarme groepen, zoals gratis clinics en open dagen in kansarme wijken in samenwerking met bovenstaande partners | M49: Ethische Commissie | N49: AINTKA | P49: 0 | Q49: 0 | R49: 0 | S49: 0 | T49: 0 | U49: 0 | V49: 0 | W49: 0
P50: =SUM(P40,P29,P19,P4) -> 6725 | Q50: =SUM(Q40,Q29,Q19,Q4) -> 2350 | R50: =SUM(R40,R29,R19,R4) -> 6725 | S50: =SUM(S40,S29,S19,S4) -> 2350 | T50: =SUM(T40,T29,T19,T4) -> 6725 | U50: =SUM(U40,U29,U19,U4) -> 2550 | V50: =SUM(V40,V29,V19,V4) -> 6725 | W50: =SUM(W40,W29,W19,W4) -> 2550 | ... AE50: =SUM(AE40,AE29,AE19,AE4) -> 0

Sheet Sportclubondersteuning
A1: Badminton Vlaanderen / Sportclubondersteuning | E1: Timing | I1: Status uitvoering actie/doelstelling | P1: Begroting | X1: Status resultatenrekening
A2: SD | B2: OD | C2: Actie | D2: Omschrijving | E2: 2025 | F2: 2026 | G2: 2027 | H2: 2028 | I2: 2025 | J2: 2026 | K2: 2027 | L2: 2028 | M2: Verantw | N2: Ana-lytische code | O2: Indicator | P2: kosten | Q2: opbrengsten | R2: kosten | S2: opbrengsten | T2: kosten | U2: opbrengsten | V2: kosten | W2: opbrengsten | X2: kosten | Y2: opbrengsten | Z2: kosten | AA2: opbrengsten | AB2: kosten | AC2: opbrengsten | AD2: kosten | AE2: opbrengsten
P3: 2025 | Q3: 2025 | R3: 2026 | S3: 2026 | T3: 2027 | U3: 2027 | V3: 2028 | W3: 2028 | X3: 2025 | Y3: 2025 | Z3: 2026 | AA3: 2026 | AB3: 2027 | AC3: 2027 | AD3: 2028 | AE3: 2028
A4: SD1 - SMASH | D4: Verbetering van de betrokkenheid en participatie van clubs in het beleidsproces van Badminton Vlaanderen. | P4: =SUM(P5,P8,P12) -> 4250 | Q4: =SUM(Q5,Q8,Q12) -> 0 | R4: =SUM(R5,R8,R12) -> 4250 | S4: =SUM(S5,S8,S12) -> 0 | T4: =SUM(T5,T8,T12) -> 4250 | U4: =SUM(U5,U8,U12) -> 0 | V4: =SUM(V5,V8,V12) -> 4250 | W4: =SUM(W5,W8,W12) -> 0 | ... AE4: =SUM(AE5,AE8,AE12) -> 0
B5: OD1 | D5: Organiseren van ten minste vijf share-avonden per jaar, waarbij elke avond één provincie centraal staat en vertegenwoordigers van alle clubs worden uitgenodigd om deel te nemen aan discussies over beleidskwesties. | O5: Aantal georganiseerde share-avonden | P5: =SUM(P6:P7) -> 2500 | Q5: =SUM(Q6:Q7) -> 0 | R5: =SUM(R6:R7) -> 2500 | S5: =SUM(S6:S7) -> 0 | T5: =SUM(T6:T7) -> 2500 | U5: =SUM(U6:U7) -> 0 | V5: =SUM(V6:V7) -> 2500 | W5: =SUM(W6:W7) -> 0 | ... AE5: =SUM(AE6:AE7) -> 0
C6: A1 | D6: Organisatie van een share-avond in elke provincie | M6: Directeur | N6: SPCL | P6: 2500 | Q6: 0 | R6: 2500 | S6: 0 | T6: 2500 | U6: 0 | V6: 2500 | W6: 0
C7: A2 | D7: Evaluatie van share-avonden in elke provincie | M7: Directeur | N7: SPCL | P7: 0 | Q7: 0 | R7: 0 | S7: 0 | T7: 0 | U7: 0 | V7: 0 | W7: 0
B8: OD2 | D8: Badminton Vlaanderen bezoekt minstens 15 clubs per jaar met als doel directe feedback te verzamelen en ondersteuning op maat te bieden. | O8: Aantal clubbezoeken | P8: =SUM(P9:P11) -> 750 | Q8: =SUM(Q9:Q11) -> 0 | R8: =SUM(R9:R11) -> 750 | S8: =SUM(S9:S11) -> 0 | T8: =SUM(T9:T11) -> 750 | U8: =SUM(U9:U11) -> 0 | V8: =SUM(V9:V11) -> 750 | W8: =SUM(W9:W11) -> 0 | ... AE8: =SUM(AE9:AE11) -> 0
C9: A1 | D9: Ontwikkelen van vragenlijst voor informatieverzameling | M9: Directeur | N9: SPCL | P9: 0 | Q9: 0 | R9: 0 | S9: 0 | T9: 0 | U9: 0 | V9: 0 | W9: 0
C10: A2 | D10: Analyseren van vragenlijst ter ondersteuning van federatie | M10: Directeur | N10: SPCL | P10: 0 | Q10: 0 | R10: 0 | S10: 0 | T10: 0 | U10: 0 | V10: 0 | W10: 0
C11: A3 | D11: Jaarlijks 15 geselecteerde clubs bezoeken | M11: Directeur | N11: SPCL | P11: 750 | Q11: 0 | R11: 750 | S11: 0 | T11: 750 | U11: 0 | V11: 750 | W11: 0
B12: OD3 | D12: Badminton Vlaanderen bezoekt alle nieuwe clubs binnen de 2 maanden na opstart. | O12: Percentage van clubbezoeken bij nieuwe clubs | P12: =SUM(P13) -> 1000 | Q12: =SUM(Q13) -> 0 | R12: =SUM(R13) -> 1000 | S12: =SUM(S13) -> 0 | T12: =SUM(T13) -> 1000 | U12: =SUM(U13) -> 0 | V12: =SUM(V13) -> 1000 | W12: =SUM(W13) -> 0 | ... AE12: =SUM(AE13) -> 0
C13: A1 | D13: Fysiek bezoek van nieuwe clubs | M13: Directeur | N13: SPCL | P13: 1000 | Q13: 0 | R13: 1000 | S13: 0 | T13: 1000 | U13: 0 | V13: 1000 | W13: 0
A14: SD2 - PUSH | D14: Badminton Vlaanderen zorgt voor ondersteuning van clubs bij professionalisatie van de clubwerking. | P14: =SUM(P15,P19,P23) -> 4000 | Q14: =SUM(Q15,Q19,Q23) -> 1000 | R14: =SUM(R15,R19,R23) -> 4000 | S14: =SUM(S15,S19,S23) -> 1000 | T14: =SUM(T15,T19,T23) -> 6500 | U14: =SUM(U15,U19,U23) -> 1000 | V14: =SUM(V15,V19,V23) -> 6500 | W14: =SUM(W15,W19,W23) -> 1000 | ... AE14: =SUM(AE15,AE19,AE23) -> 0
B15: OD1 | D15: Ontwikkeling van een communicatiestrategie voor clubs. | O15: Voltooiing en goedkeuring van de communicatiestrategie | P15: =SUM(P16:P18) -> 2000 | Q15: =SUM(Q16:Q18) -> 500 | R15: =SUM(R16:R18) -> 2000 | S15: =SUM(S16:S18) -> 500 | T15: =SUM(T16:T18) -> 2000 | U15: =SUM(U16:U18) -> 500 | V15: =SUM(V16:V18) -> 2000 | W15: =SUM(W16:W18) -> 500 | ... AE15: =SUM(AE16:AE18) -> 0
C16: A1 | D16: Organiseren van workshops omtrent communicatie, inclusief sociale media, voor clubvertegenwoordigers | M16: Directeur | N16: SPCL | P16: 1000 | Q16: 500 | R16: 1000 | S16: 500 | T16: 1000 | U16: 500 | V16: 1000 | W16: 500
C17: A2 | D17: Ontwikkelen van educatief materiaal en handleidingen over effectieve communicatiepraktijken voor verspreiding onder de clubs | M17: Directeur | N17: SPCL | P17: 1000 | Q17: 0 | R17: 1000 | S17: 0 | T17: 1000 | U17: 0 | V17: 1000 | W17: 0
C18: A3 | D18: Oprichten van online forum waar clubvertegenwoordigers informatie kunnen uitwisselen en best practices kunnen delen | M18: Directeur | N18: SPCL | P18: 0 | Q18: 0 | R18: 0 | S18: 0 | T18: 0 | U18: 0 | V18: 0 | W18: 0
B19: OD2 | D19: Clubs ondersteunen om financieel te groeien door hen gerichte trainingen te geven omtrent sponsor- en partnerships. | O19: Aantal workshops | P19: =SUM(P20:P22) -> 2000 | Q19: =SUM(Q20:Q22) -> 500 | R19: =SUM(R20:R22) -> 2000 | S19: =SUM(S20:S22) -> 500 | T19: =SUM(T20:T22) -> 2000 | U19: =SUM(U20:U22) -> 500 | V19: =SUM(V20:V22) -> 2000 | W19: =SUM(W20:W22) -> 500 | ... AE19: =SUM(AE20:AE22) -> 0
C20: A1 | D20: Organiseren van workshop over het opstellen van sponsordossiers, inclusief praktische oefeningen en voorbeelden | M20: Directeur | N20: SPCL | P20: 1000 | Q20: 0 | R20: 1000 | S20: 0 | T20: 1000 | U20: 0 | V20: 1000 | W20: 0
C21: A2 | D21: Ontwikkelen van sjablonen en richtlijnen voor het opstellen van sponsordossiers die afgestemd zijn op de behoeften van badmintonclubs | M21: Directeur | N21: SPCL | P21: 1000 | Q21: 0 | R21: 1000 | S21: 0 | T21: 1000 | U21: 0 | V21: 1000 | W21: 0
C22: A3 | D22: Aanbieden van individuele begeleiding en advies aan clubs bij het ontwikkelen van hun sponsordossiers | M22: Directeur | N22: SPCL | P22: 0 | Q22: 500 | R22: 0 | S22: 500 | T22: 0 | U22: 500 | V22: 0 | W22: 500
B23: OD3 | D23: Ontwikkelen en implementeren van een verenigingsprogramma voor clubs gericht op het versterken van een badmintoncommunity. | O23: Ontwikkeling programma tegen eind 2027 | P23: =SUM(P24:P26) -> 0 | Q23: =SUM(Q24:Q26) -> 0 | R23: =SUM(R24:R26) -> 0 | S23: =SUM(S24:S26) -> 0 | T23: =SUM(T24:T26) -> 2500 | U23: =SUM(U24:U26) -> 0 | V23: =SUM(V24:V26) -> 2500 | W23: =SUM(W24:W26) -> 0 | ... AE23: =SUM(AE24:AE26) -> 0
C24: A1 | D24: Analyseren van de noden van de clubs | M24: Directeur | N24: SPCL | P24: 0 | Q24: 0 | R24: 0 | S24: 0 | T24: 0 | U24: 0 | V24: 0 | W24: 0
C25: A2 | D25: Ontwikkelen van verenigingsprogramma ter ondersteuning van de clubs | M25: Directeur | N25: SPCL | P25: 0 | Q25: 0 | R25: 0 | S25: 0 | T25: 0 | U25: 0 | V25: 0 | W25: 0
C26: A3 | D26: Implementeren van verenigingsprogramma | M26: Directeur | N26: SPCL | P26: 0 | Q26: 0 | R26: 0 | S26: 0 | T26: 2500 | U26: 0 | V26: 2500 | W26: 0
P27: =SUM(P14,P4) -> 8250 | Q27: =SUM(Q14,Q4) -> 1000 | R27: =SUM(R14,R4) -> 8250 | S27: =SUM(S14,S4) -> 1000 | T27: =SUM(T14,T4) -> 10750 | U27: =SUM(U14,U4) -> 1000 | V27: =SUM(V14,V4) -> 10750 | W27: =SUM(W14,W4) -> 1000 | ... AE27: =SUM(AE14,AE4) -> 0

Sheet Jeugd
A1: Badminton Vlaanderen/Jeugd | E1: Timing | I1: Status uitvoering actie/doelstelling | P1: Begroting | X1: Status resultatenrekening
A2: SD | B2: OD | C2: Actie | D2: Omschrijving | E2: 2025 | F2: 2026 | G2: 2027 | H2: 2028 | I2: 2025 | J2: 2026 | K2: 2027 | L2: 2028 | M2: Verantw | N2: Analytische code | O2: Indicator | P2: kosten | Q2: opbrengsten | R2: kosten | S2: opbrengsten | T2: kosten | U2: opbrengsten | V2: kosten | W2: opbrengsten | X2: kosten | Y2: opbrengsten | Z2: kosten | AA2: opbrengsten | AB2: kosten | AC2: opbrengsten | AD2: kosten | AE2: opbrengsten
P3: 2025 | Q3: 2025 | R3: 2026 | S3: 2026 | T3: 2027 | U3: 2027 | V3: 2028 | W3: 2028 | X3: 2025 | Y3: 2025 | Z3: 2026 | AA3: 2026 | AB3: 2027 | AC3: 2027 | AD3: 2028 | AE3: 2028
A4: SD1 - LOB | D4: Badminton Vlaanderen wil tegen eind 2028 het aantal aangesloten jeugd spelers verhogen met 10% (tov nulmeting 2024) . | P4: =SUM(P5,P9,P14) -> 4350 | Q4: =SUM(Q5,Q9,Q14) -> 0 | R4: =SUM(R5,R9,R14) -> 6500 | S4: =SUM(S5,S9,S14) -> 0 | T4: =SUM(T5,T9,T14) -> 4000 | U4: =SUM(U5,U9,U14) -> 0 | V4: =SUM(V5,V9,V14) -> 4000 | W4: =SUM(W5,W9,W14) -> 0 | ... AE4: =SUM(AE5,AE9,AE14) -> 0
B5: OD1 | D5: Badminton Vlaanderen en haar leden werkt samen met scholen, gemeentes en andere relevante organisaties om jaarlijks minstens 50 initiaties te organiseren en kinderen in contact te brengen met badminton. | O5: Aantal initiaties per jaar | P5: =SUM(P6:P8) -> 3500 | Q5: =SUM(Q6:Q8) -> 0 | R5: =SUM(R6:R8) -> 3500 | S5: =SUM(S6:S8) -> 0 | T5: =SUM(T6:T8) -> 3500 | U5: =SUM(U6:U8) -> 0 | V5: =SUM(V6:V8) -> 3500 | W5: =SUM(W6:W8) -> 0 | ... AE5: =SUM(AE6:AE8) -> 0
C6: A1 | D6: Ondersteunen van Moev en andere organisaties bij het organiseren van jaarlijks minstens 20 badmintoninstuiven | M6: Elien | N6: JAW | P6: 3500 | Q6: 0 | R6: 3500 | S6: 0 | T6: 3500 | U6: 0 | V6: 3500 | W6: 0
C7: A2 | D7: Tijdens het jaar 2025 heeft 10% van de C-clubs die deelnemen aan het J-label een initiatie gegeven in samenwerking met een school of gemeente | M7: Elien | N7: JAW | P7: 0 | Q7: 0 | R7: 0 | S7: 0 | T7: 0 | U7: 0 | V7: 0 | W7: 0
C8: A3 | D8: Tijdens het jaar 2025 heeft 40% van de B & A-clubs die deelnemen aan het J-label een initiatie gegeven in samenwerkingmet een school of gemeente | M8: Elien | N8: JAW | P8: 0 | Q8: 0 | R8: 0 | S8: 0 | T8: 0 | U8: 0 | V8: 0 | W8: 0
B9: OD2 | D9: Badminton Vlaanderen ontwikkelt een programma met voorbeeldlessen voor leerkrachten LO. | O9: Ontwikkeling voorbeeldlessen | P9: =SUM(P10:P13) -> 850 | Q9: =SUM(Q10:Q13) -> 0 | R9: =SUM(R10:R13) -> 3000 | S9: =SUM(S10:S13) -> 0 | T9: =SUM(T10:T13) -> 500 | U9: =SUM(U10:U13) -> 0 | V9: =SUM(V10:V13) -> 500 | W9: =SUM(W10:W13) -> 0 | ... AE9: =SUM(AE10:AE13) -> 0
C10: A1 | D10: Samenstellen van een focusgroep en evalueren van Shuttle Time en andere bestaande pakketten | M10: Elien/Pol | N10: JAW | P10: 350 | Q10: 0 | R10: 0 | S10: 0 | T10: 0 | U10: 0 | V10: 0 | W10: 0
C11: A2 | D11: Samenstellen van de inhouden van het lessenpakket | M11: Elien/Pol | N11: JAW | P11: 500 | Q11: 0 | R11: 500 | S11: 0 | T11: 0 | U11: 0 | V11: 0 | W11: 0
C12: A3 | D12: Uitwerken en uitvoeren communicatieplan en leerkrachten in contact brengen met het lessenpakket | M12: Geraldine/Elien/Pol | N12: JAW | P12: 0 | Q12: 0 | R12: 2500 | S12: 0 | T12: 0 | U12: 0 | V12: 0 | W12: 0
C13: A4 | D13: Tijdens het schooljaar 2026-2027 hebben 50 leerkrachten lichamelijke opvoeding gebruik gemaakt van het lessenpakket | M13: Elien/Pol | N13: JAW | P13: 0 | Q13: 0 | R13: 0 | S13: 0 | T13: 500 | U13: 0 | V13: 500 | W13: 0
B14: OD3 | D14: Vanuit Badminton Vlaanderen zetten we de jeugdspelers en clubs met jeugdwerking in the spotlight. | O14: Aantal communicaties omtrent jeugd op social media | P14: =SUM(P15:P16) -> 0 | Q14: =SUM(Q15:Q16) -> 0 | R14: =SUM(R15:R16) -> 0 | S14: =SUM(S15:S16) -> 0 | T14: =SUM(T15:T16) -> 0 | U14: =SUM(U15:U16) -> 0 | V14: =SUM(V15:V16) -> 0 | W14: =SUM(W15:W16) -> 0 | ... AE14: =SUM(AE15:AE16) -> 0
C15: A1 | D15: De jeugdspeler krijgt op maandelijke basis plaats in de online communicatie. | M15: Geraldine | N15: JAW | P15: 0 | Q15: 0 | R15: 0 | S15: 0 | T15: 0 | U15: 0 | V15: 0 | W15: 0
C16: A2 | D16: Jaarlijks minstens 3 clubacties promoten via social media | M16: Geraldine | N16: JAW | P16: 0 | Q16: 0 | R16: 0 | S16: 0 | T16: 0 | U16: 0 | V16: 0 | W16: 0
A17: SD2 - PUSH | D17: Badminton Vlaanderen wil de jeugdwerking van Vlaamse badmintonclubs kwalitatief beter maken. | P17: =SUM(P18,P22) -> 74200 | Q17: =SUM(Q18,Q22) -> 59750 | R17: =SUM(R18,R22) -> 72950 | S17: =SUM(S18,S22) -> 59750 | T17: =SUM(T18,T22) -> 72200 | U17: =SUM(U18,U22) -> 59750 | V17: =SUM(V18,V22) -> 72200 | W17: =SUM(W18,W22) -> 59750 | ... AE17: =SUM(AE18,AE22) -> 0
B18: OD1 | D18: Badminton Vlaanderen wil de (bestaande) jeugdwerkingen in Vlaanderen uniform maken. | O18: Aantal clubs dat ondersteuning gekregen hebben | P18: =SUM(P19:P21) -> 2500 | Q18: =SUM(Q19:Q21) -> 0 | R18: =SUM(R19:R21) -> 1250 | S18: =SUM(S19:S21) -> 0 | T18: =SUM(T19:T21) -> 500 | U18: =SUM(U19:U21) -> 0 | V18: =SUM(V19:V21) -> 500 | W18: =SUM(W19:W21) -> 0 | ... AE18: =SUM(AE19:AE21) -> 0
C19: A1 | D19: Opstarten jeugdwerkingtraject met minstens 5 clubs | M19: Elien | N19: JAW | P19: 2500 | Q19: 0 | R19: 0 | S19: 0 | T19: 0 | U19: 0 | V19: 0 | W19: 0 | X19: 0 | Y19: 0
C20: A2 | D20: Changetraject met minstens 5 bestaande jeugdwerkingen op basis van dit model | M20: Elien | N20: JAW | P20: 0 | Q20: 0 | R20: 1250 | S20: 0 | T20: 0 | U20: 0 | V20: 0 | W20: 0
C21: A3 | D21: Jeugdmodel uitrollen naar alle clubs | M21: Elien | N21: JAW | P21: 0 | Q21: 0 | R21: 0 | S21: 0 | T21: 500 | U21: 0 | V21: 500 | W21: 0
B22: OD2 | D22: Optimaliseren van jeugdlabel in functie van plezierbeleving, professionalisatie en administratieve ontlasting. | O22: Aantal ingediende dossiers | P22: =SUM(P23:P24) -> 71700 | Q22: =SUM(Q23:Q24) -> 59750 | R22: =SUM(R23:R24) -> 71700 | S22: =SUM(S23:S24) -> 59750 | T22: =SUM(T23:T24) -> 71700 | U22: =SUM(U23:U24) -> 59750 | V22: =SUM(V23:V24) -> 71700 | W22: =SUM(W23:W24) -> 59750 | ... AE22: =SUM(AE23:AE24) -> 0
C23: A1 | D23: Jaarlijkse evaluatie J-kwaliteitslabel | M23: Elien | N23: JSUB | P23: 0 | Q23: 0 | R23: 0 | S23: 0 | T23: 0 | U23: 0 | V23: 0 | W23: 0
C24: A2 | D24: Verwerking ingediende dossiers | M24: Elien | N24: JSUB | P24: 71700 | Q24: 59750 | R24: 71700 | S24: 59750 | T24: 71700 | U24: 59750 | V24: 71700 | W24: 59750
A25: SD3 - PUSH | D25: Badminton Vlaanderen wil het tornooiaanbod voor jeugd professionaliseren. | P25: =SUM(P26,P29) -> 0 | Q25: =SUM(Q26,Q29) -> 0 | R25: =SUM(R26,R29) -> 350 | S25: =SUM(S26,S29) -> 0 | T25: =SUM(T26,T29) -> 350 | U25: =SUM(U26,U29) -> 0 | V25: =SUM(V26,V29) -> 0 | W25: =SUM(W26,W29) -> 0 | ... AE25: =SUM(AE26,AE29) -> 0
B26: OD1 | D26: Badminton Vlaanderen wil tegen eind 2027 het Vlaams tornooilandschap voor jeugd verbeteren. | O26: Aantal klachten omtrent tornooilandschap | P26: =SUM(P27:P28) -> 0 | Q26: =SUM(Q27:Q28) -> 0 | R26: =SUM(R27:R28) -> 350 | S26: =SUM(S27:S28) -> 0 | T26: =SUM(T27:T28) -> 0 | U26: =SUM(U27:U28) -> 0 | V26: =SUM(V27:V28) -> 0 | W26: =SUM(W27:W28) -> 0 | ... AE26: =SUM(AE27:AE28) -> 0
C27: A1 | D27: Samenstellen van een focusgroep en evalueren van het huidige jeugdtornooilandschap | M27: Elien | N27: JAW | P27: 0 | Q27: 0 | R27: 350 | S27: 0 | T27: 0 | U27: 0 | V27: 0 | W27: 0
C28: A2 | D28: Aanpassen en implementeren van de tornooiregels voor jeugdtornooien op basis van de evaluatie tegen het seizoen 2026-2027 | M28: Elien | N28: JAW | P28: 0 | Q28: 0 | R28: 0 | S28: 0 | T28: 0 | U28: 0 | V28: 0 | W28: 0
B29: OD2 | D29: Badminton Vlaanderen wil tegen eind 2027 de jeugdranking aanpassen. | O29: Score van tevredenheid over nieuwe ranking | P29: =SUM(P30:P31) -> 0 | Q29: =SUM(Q30:Q31) -> 0 | R29: =SUM(R30:R31) -> 0 | S29: =SUM(S30:S31) -> 0 | T29: =SUM(T30:T31) -> 350 | U29: =SUM(U30:U31) -> 0 | V29: =SUM(V30:V31) -> 0 | W29: =SUM(W30:W31) -> 0 | ... AE29: =SUM(AE30:AE31) -> 0
C30: A1 | D30: Samenstellen van een focusgroep en evalueren van de huidige jeugdranking op basis van de aanpassingen aan het tornooilandschap | M30: Elien | N30: JAW | P30: 0 | Q30: 0 | R30: 0 | S30: 0 | T30: 350 | U30: 0 | V30: 0 | W30: 0
C31: A2 | D31: Aanpassen en implementeren nieuwe jeugdranking op basis van de evaluatie tegen het seizoen 2026-2027 | M31: Elien | N31: JAW | P31: 0 | Q31: 0 | R31: 0 | S31: 0 | T31: 0 | U31: 0 | V31: 0 | W31: 0
A32: DM1 | P32: =P33 -> 8700 | Q32: =Q33 -> 8700 | R32: =R33 -> 8700 | S32: =S33 -> 8700 | T32: =T33 -> 8700 | U32: =U33 -> 8700 | V32: =V33 -> 8700 | W32: =W33 -> 8700 | ... AE32: =AE33 -> 0
B33: IT1 | D33: Yonex Belgian Junior Master Circuit | P33: =SUM(P34:P37) -> 8700 | Q33: =SUM(Q34:Q37) -> 8700 | R33: =SUM(R34:R37) -> 8700 | S33: =SUM(S34:S37) -> 8700 | T33: =SUM(T34:T37) -> 8700 | U33: =SUM(U34:U37) -> 8700 | V33: =SUM(V34:V37) -> 8700 | W33: =SUM(W34:W37) -> 8700 | ... AE33: =SUM(AE34:AE37) -> 0
C34: A1 | D34: Materiaal | N34: JYBJMC | P34: 4900 | Q34: 0 | R34: 4900 | S34: 0 | T34: 4900 | U34: 0 | V34: 4900 | W34: 0
C35: A2 | D35: Verplaatsingskosten | N35: JYBJMC | P35: 800 | Q35: 800 | R35: 800 | S35: 800 | T35: 800 | U35: 800 | V35: 800 | W35: 800
C36: A3 | D36: Sponsoring | N36: JYBJMC | P36: 0 | Q36: 4900 | R36: 0 | S36: 4900 | T36: 0 | U36: 4900 | V36: 0 | W36: 4900
C37: A4 | D37: Nationale Loterij | N37: JYBJMC | P37: 3000 | Q37: 3000 | R37: 3000 | S37: 3000 | T37: 3000 | U37: 3000 | V37: 3000 | W37: 3000
P38: =SUM(P32,P25,P17,P4) -> 87250 | Q38: =SUM(Q32,Q25,Q17,Q4) -> 68450 | R38: =SUM(R32,R25,R17,R4) -> 88500 | S38: =SUM(S32,S25,S17,S4) -> 68450 | T38: =SUM(T32,T25,T17,T4) -> 85250 | U38: =SUM(U32,U25,U17,U4) -> 68450 | V38: =SUM(V32,V25,V17,V4) -> 84900 | W38: =SUM(W32,W25,W17,W4) -> 68450 | ... AE38: =SUM(AE32,AE25,AE17,AE4) -> 0

Sheet Sportkampen
A1: Badminton Vlaanden / Sportkampen | E1: Timing | I1: Status uitvoering actie/doelstelling | P1: Begroting | X1: Status resultatenrekening
A2: SD | B2: OD | C2: Actie | D2: Omschrijving | E2: 2025 | F2: 2026 | G2: 2027 | H2: 2028 | I2: 2025 | J2: 2026 | K2: 2027 | L2: 2028 | M2: Verantw | N2: Analytische code | O2: Indicator | P2: kosten | Q2: opbrengsten | R2: kosten | S2: opbrengsten | T2: kosten | U2: opbrengsten | V2: kosten | W2: opbrengsten | X2: kosten | Y2: opbrengsten | Z2: kosten | AA2: opbrengsten | AB2: kosten | AC2: opbrengsten | AD2: kosten | AE2: opbrengsten
P3: 2025 | Q3: 2025 | R3: 2026 | S3: 2026 | T3: 2027 | U3: 2027 | V3: 2028 | W3: 2028 | X3: 2025 | Y3: 2025 | Z3: 2026 | AA3: 2026 | AB3: 2027 | AC3: 2027 | AD3: 2028 | AE3: 2028
A4: SD1 - LOB | D4: Gedurende de beleidsperiode wil Badminton Vlaanderen in totaal 400 deelnemers gehad hebben op haar badmintonkampen. | P4: =SUM(P5,P8) -> 39400 | Q4: =SUM(Q5,Q8) -> 49400 | R4: =SUM(R5,R8) -> 39400 | S4: =SUM(S5,S8) -> 49400 | T4: =SUM(T5,T8) -> 39400 | U4: =SUM(U5,U8) -> 49400 | V4: =SUM(V5,V8) -> 39400 | W4: =SUM(W5,W8) -> 49400 | ... AE4: =SUM(AE5,AE8) -> 0
B5: OD1 | D5: Ten laatste op 15 januari van elk jaar is de volledige promotiecampagne van de badmintonkampen uitgevoerd. | O5: Aangeleverde promotiecampagne | P5: =SUM(P6:P7) -> 0 | Q5: =SUM(Q6:Q7) -> 0 | R5: =SUM(R6:R7) -> 0 | S5: =SUM(S6:S7) -> 0 | T5: =SUM(T6:T7) -> 0 | U5: =SUM(U6:U7) -> 0 | V5: =SUM(V6:V7) -> 0 | W5: =SUM(W6:W7) -> 0 | ... AE5: =SUM(AE6:AE7) -> 0
C6: A1 | D6: Inschrijvingsmodule op de website | M6: Elien | N6: SPAW | P6: 0 | Q6: 0 | R6: 0 | S6: 0 | T6: 0 | U6: 0 | V6: 0 | W6: 0
C7: A2 | D7: Promotie via communicatiekanalen van Badminton Vlaanderen | M7: Geraldine | N7: SPAW | P7: 0 | Q7: 0 | R7: 0 | S7: 0 | T7: 0 | U7: 0 | V7: 0 | W7: 0
B8: OD2 | D8: Jaarlijks richt Badminton Vlaanderen (minstens) 3 kampen in. | O8: Aantal kampen | P8: =SUM(P9:P14) -> 39400 | Q8: =SUM(Q9:Q14) -> 49400 | R8: =SUM(R9:R14) -> 39400 | S8: =SUM(S9:S14) -> 49400 | T8: =SUM(T9:T14) -> 39400 | U8: =SUM(U9:U14) -> 49400 | V8: =SUM(V9:V14) -> 39400 | W8: =SUM(W9:W14) -> 49400 | X8: =SUM(X9:X13) -> 0 | Y8: =SUM(Y9:Y13) -> 0 | Z8: =SUM(Z9:Z13) -> 0 | AA8: =SUM(AA9:AA13) -> 0 | AB8: =SUM(AB9:AB13) -> 0 | AC8: =SUM(AC9:AC13) -> 0 | AD8: =SUM(AD9:AD13) -> 0 | AE8: =SUM(AE9:AE13) -> 0
C9: A1 | D9: Kampplaatsen vastleggen | M9: Elien | N9: SPAW | P9: 0 | Q9: 0 | R9: 0 | S9: 0 | T9: 0 | U9: 0 | V9: 0 | W9: 0
C10: A2 | D10: Inschrijvingen verwerken | M10: Elien | N10: SPAW | P10: 0 | Q10: 0 | R10: 0 | S10: 0 | T10: 0 | U10: 0 | V10: 0 | W10: 0
C11: A3 | D11: Coördinatie kamp 1 | M11: Elien | N11: SPK1 | P11: 9000 | Q11: 11000 | R11: 9000 | S11: 11000 | T11: 9000 | U11: 11000 | V11: 9000 | W11: 11000
C12: A4 | D12: Coördinatie kamp 2 | M12: Elien | N12: SPK2 | P12: 9000 | Q12: 11000 | R12: 9000 | S12: 11000 | T12: 9000 | U12: 11000 | V12: 9000 | W12: 11000
C13: A5 | D13: Coördinatie kamp 3 | M13: Elien | N13: SPK3 | P13: 13000 | Q13: 19000 | R13: 13000 | S13: 19000 | T13: 13000 | U13: 19000 | V13: 13000 | W13: 19000
C14: A6 | D14: Aanstellen van gediplomeerde trainers | M14: Elien | N14: SPAW | P14: 8400 | Q14: 8400 | R14: 8400 | S14: 8400 | T14: 8400 | U14: 8400 | V14: 8400 | W14: 8400
A15: SD2 - PUSH | D15: Jaarlijks scoort Badminton Vlaanderen ten minste 4 op 5 bij de deelnemers van de badmintonkampen op een tevredenheidsbevraging omtrent het kamp waaraan ze deelnamen. | P15: =SUM(P16,P22) -> 1050 | Q15: =SUM(Q16,Q22) -> 0 | R15: =SUM(R16,R22) -> 1050 | S15: =SUM(S16,S22) -> 0 | T15: =SUM(T16,T22) -> 1050 | U15: =SUM(U16,U22) -> 0 | V15: =SUM(V16,V22) -> 1050 | W15: =SUM(W16,W22) -> 0 | ... AE15: =SUM(AE16,AE22) -> 0
B16: OD1 | D16: Alle monitoren die actief zijn op de badmintonkampen georganiseerd door Badminton Vlaanderen, zijn gediplomeerd in badminton. | O16: Aantal actieve trainers | P16: =SUM(P17:P21) -> 1050 | Q16: =SUM(Q17:Q21) -> 0 | R16: =SUM(R17:R21) -> 1050 | S16: =SUM(S17:S21) -> 0 | T16: =SUM(T17:T21) -> 1050 | U16: =SUM(U17:U21) -> 0 | V16: =SUM(V17:V21) -> 1050 | W16: =SUM(W17:W21) -> 0 | ... AE16: =SUM(AE17:AE21) -> 0
C17: A1 | D17: Monitoren engageren via beloningsysteem | M17: Elien | N17: SPAW | P17: 300 | Q17: 0 | R17: 300 | S17: 0 | T17: 300 | U17: 0 | V17: 300 | W17: 0
C18: A2 | D18: Aanmaken van forum voor actieve trainers | M18: Elien | N18: SPAW | P18: 0 | Q18: 0 | R18: 0 | S18: 0 | T18: 0 | U18: 0 | V18: 0 | W18: 0
C19: A3 | D19: Diploma's controleren | M19: Elien | N19: SPAW | P19: 0 | Q19: 0 | R19: 0 | S19: 0 | T19: 0 | U19: 0 | V19: 0 | W19: 0
C20: A4 | D20: Teambuildingsdag monitoren organiseren | M20: Elien | N20: SPAW | P20: 750 | Q20: 0 | R20: 750 | S20: 0 | T20: 750 | U20: 0 | V20: 750 | W20: 0
C21: A5 | D21: Aanmaken van database van alle actieve trainers | M21: Elien | N21: SPAW | P21: 0 | Q21: 0 | R21: 0 | S21: 0 | T21: 0 | U21: 0 | V21: 0 | W21: 0
B22: OD2 | D22: Het onderdeel 'Algemeen' in de tevredenheidsenquête omtrent de badmintonkampen van Badminton Vlaanderen scoort tenminste 4 op 5. | O22: Algemene score van de kampen | P22: =SUM(P23:P25) -> 0 | Q22: =SUM(Q23:Q25) -> 0 | R22: =SUM(R23:R25) -> 0 | S22: =SUM(S23:S25) -> 0 | T22: =SUM(T23:T25) -> 0 | U22: =SUM(U23:U25) -> 0 | V22: =SUM(V23:V25) -> 0 | W22: =SUM(W23:W25) -> 0 | ... AE22: =SUM(AE23:AE25) -> 0
C23: A | D23: Enquêtes afnemen | M23: Elien | N23: SPAW | P23: 0 | Q23: 0 | R23: 0 | S23: 0 | T23: 0 | U23: 0 | V23: 0 | W23: 0
C24: A2 | D24: Evaluatie afnemen monitoren | M24: Elien | N24: SPAW | P24: 0 | Q24: 0 | R24: 0 | S24: 0 | T24: 0 | U24: 0 | V24: 0 | W24: 0
C25: A3 | D25: Remediëring indien nodig | M25: Elien | N25: SPAW | P25: 0 | Q25: 0 | R25: 0 | S25: 0 | T25: 0 | U25: 0 | V25: 0 | W25: 0
A26: DM1 | D26: Sportkampen | P26: =SUM(P27,P29,P32,P35) -> 5700 | Q26: =SUM(Q27,Q29,Q32,Q35) -> 0 | R26: =SUM(R27,R29,R32,R35) -> 5700 | S26: =SUM(S27,S29,S32,S35) -> 0 | T26: =SUM(T27,T29,T32,T35) -> 5700 | U26: =SUM(U27,U29,U32,U35) -> 0 | V26: =SUM(V27,V29,V32,V35) -> 5700 | W26: =SUM(W27,W29,W32,W35) -> 0 | ... AE26: =SUM(AE27,AE29,AE32,AE35) -> 0
B27: IT1 | D27: Monitoren | P27: =SUM(P28) -> 800 | Q27: =SUM(Q28) -> 0 | R27: =SUM(R28) -> 800 | S27: =SUM(S28) -> 0 | T27: =SUM(T28) -> 800 | U27: =SUM(U28) -> 0 | V27: =SUM(V28) -> 800 | W27: =SUM(W28) -> 0 | ... AE27: =SUM(AE28) -> 0
C28: A1 | D28: Eindejaarspremie | N28: SPAW | P28: 800 | Q28: 0 | R28: 800 | S28: 0 | T28: 800 | U28: 0 | V28: 800 | W28: 0
B29: IT2 | D29: Materiaal | P29: =SUM(P30:P31) -> 1000 | Q29: =SUM(Q30:Q31) -> 0 | R29: =SUM(R30:R31) -> 1000 | S29: =SUM(S30:S31) -> 0 | T29: =SUM(T30:T31) -> 1000 | U29: =SUM(U30:U31) -> 0 | V29: =SUM(V30:V31) -> 1000 | W29: =SUM(W30:W31) -> 0 | ... AE29: =SUM(AE30:AE31) -> 0
C30: A1 | D30: Aankoop Sportmateriaal | N30: SPAW | P30: 500 | Q30: 0 | R30: 500 | S30: 0 | T30: 500 | U30: 0 | V30: 500 | W30: 0
C31: A2 | D31: Aankoop ander materiaal | N31: SPAW | P31: 500 | Q31: 0 | R31: 500 | S31: 0 | T31: 500 | U31: 0 | V31: 500 | W31: 0
B32: IT3 | D32: Gadgets | P32: =SUM(P33:P34) -> 2000 | Q32: =SUM(Q33:Q34) -> 0 | R32: =SUM(R33:R34) -> 2000 | S32: =SUM(S33:S34) -> 0 | T32: =SUM(T33:T34) -> 2000 | U32: =SUM(U33:U34) -> 0 | V32: =SUM(V33:V34) -> 2000 | W32: =SUM(W33:W34) -> 0 | ... AE32: =SUM(AE33:AE34) -> 0
C33: A1 | D33: T-shirts | N33: SPAW | P33: 1200 | Q33: 0 | R33: 1200 | S33: 0 | T33: 1200 | U33: 0 | V33: 1200 | W33: 0
C34: A2 | D34: Drinkflessen | N34: SPAW | P34: 800 | Q34: 0 | R34: 800 | S34: 0 | T34: 800 | U34: 0 | V34: 800 | W34: 0
B35: IT4 | D35: Overige | P35: =SUM(P36:P39) -> 1900 | Q35: =SUM(Q36:Q39) -> 0 | R35: =SUM(R36:R39) -> 1900 | S35: =SUM(S36:S39) -> 0 | T35: =SUM(T36:T39) -> 1900 | U35: =SUM(U36:U39) -> 0 | V35: =SUM(V36:V39) -> 1900 | W35: =SUM(W36:W39) -> 0 | ... AE35: =SUM(AE36:AE39) -> 0
C36: A1 | D36: Vieruurtjes | N36: SPAW | P36: 500 | Q36: 0 | R36: 500 | S36: 0 | T36: 500 | U36: 0 | V36: 500 | W36: 0
C37: A2 | D37: Traktatie | N37: SPAW | P37: 350 | Q37: 0 | R37: 350 | S37: 0 | T37: 350 | U37: 0 | V37: 350 | W37: 0
C38: A3 | D38: Vijfde maaltijd | N38: SPAW | P38: 300 | Q38: 0 | R38: 300 | S38: 0 | T38: 300 | U38: 0 | V38: 300 | W38: 0
C39: A4 | D39: Vervoersonkosten | N39: SPAW | P39: 750 | Q39: 0 | R39: 750 | S39: 0 | T39: 750 | U39: 0 | V39: 750 | W39: 0
P40: =SUM(P26,P15,P4) -> 46150 | Q40: =SUM(Q26,Q15,Q4) -> 49400 | R40: =SUM(R26,R15,R4) -> 46150 | S40: =SUM(S26,S15,S4) -> 49400 | T40: =SUM(T26,T15,T4) -> 46150 | U40: =SUM(U26,U15,U4) -> 49400 | V40: =SUM(V26,V15,V4) -> 46150 | W40: =SUM(W26,W15,W4) -> 49400 | ... AE40: =SUM(AE26,AE15,AE4) -> 0

Sheet Opleiding
A1: Badminton Vlaanderen/ Opleiding | E1: Timing | I1: Status uitvoering actie/doelstelling | P1: Begroting | X1: Status resultatenrekening
A2: SD | B2: OD | C2: Actie | D2: Omschrijving | E2: 2025 | F2: 2026 | G2: 2027 | H2: 2028 | I2: 2025 | J2: 2026 | K2: 2027 | L2: 2028 | M2: Verantw | N2: Analytische code | O2: Indicator | P2: kosten | Q2: opbrengsten | R2: kosten | S2: opbrengsten | T2: kosten | U2: opbrengsten | V2: kosten | W2: opbrengsten | X2: kosten | Y2: opbrengsten | Z2: kosten | AA2: opbrengsten | AB2: kosten | AC2: opbrengsten | AD2: kosten | AE2: opbrengsten
P3: 2025 | Q3: 2025 | R3: 2026 | S3: 2026 | T3: 2027 | U3: 2027 | V3: 2028 | W3: 2028 | X3: 2025 | Y3: 2025 | Z3: 2026 | AA3: 2026 | AB3: 2027 | AC3: 2027 | AD3: 2028 | AE3: 2028
A4: SD1 - PUSH | D4: Badminton Vlaanderen wil de kwalificatiegraad verhogen van de trainers naar 65% (nulmeting 60% 2022) | P4: =SUM(P5,P10,P16,P20) -> 5970 | Q4: =SUM(Q5,Q10,Q16,Q20) -> 0 | R4: =SUM(R5,R10,R16,R20) -> 6970 | S4: =SUM(S5,S10,S16,S20) -> 0 | T4: =SUM(T5,T10,T16,T20) -> 6970 | U4: =SUM(U5,U10,U16,U20) -> 0 | V4: =SUM(V5,V10,V16,V20) -> 4095 | W4: =SUM(W5,W10,W16,W20) -> 0 | ... AE4: =SUM(AE5,AE10,AE16,AE20) -> 0
B5: OD1 | D5: We willen de periodiciteit van de cursusorganisaties brengen tot minimum 12 initiatorcursussen, 2 cursussen Instructeur ,1 cursus Trainer B, 1 cursus trainer A per olympiade. | O5: Aantal cursussen | P5: =SUM(P6:P9) -> 720 | Q5: =SUM(Q6:Q9) -> 0 | R5: =SUM(R6:R9) -> 720 | S5: =SUM(S6:S9) -> 0 | T5: =SUM(T6:T9) -> 720 | U5: =SUM(U6:U9) -> 0 | V5: =SUM(V6:V9) -> 1220 | W5: =SUM(W6:W9) -> 0 | ... AE5: =SUM(AE6:AE9) -> 0
C6: A1 | D6: Jaarlijks minstens 3 initiatorcursussen organiseren met minimum 12 deelnemers per cursus | M6: Pol | N6: PBT | P6: 540 | Q6: 0 | R6: 540 | S6: 0 | T6: 540 | U6: 0 | V6: 540 | W6: 0
C7: A2 | D7: 2- jaarlijks organiseren van 1 Instructeur cursus met minimum 8 deelnemers per cursus | M7: Pol | N7: PBT | P7: 180 | Q7: 0 | R7: 0 | S7: 0 | T7: 180 | U7: 0 | V7: 0 | W7: 0
C8: A3 | D8: 2- jaarlijks organiseren van een 1 cursus Trainer B met minimum 6 deelnemers per cursus | M8: Pol | N8: PBT | P8: 0 | Q8: 0 | R8: 180 | S8: 0 | T8: 0 | U8: 0 | V8: 180 | W8: 0
C9: A4 | D9: 4- jaarlijks organiseren van een 1 cursus Trainer A met minimum 4 deelnemers per cursus | M9: Pol | N9: PBT | P9: 0 | Q9: 0 | R9: 0 | S9: 0 | T9: 0 | U9: 0 | V9: 500 | W9: 0
B10: OD2 | D10: Het docentenbestand wordt actief up to date gehouden en worden voldoende betrokken. | O10: Aantal actieve docenten per niveau | P10: =SUM(P11:P15) -> 2750 | Q10: =SUM(Q11:Q15) -> 0 | R10: =SUM(R11:R15) -> 2750 | S10: =SUM(S11:S15) -> 0 | T10: =SUM(T11:T15) -> 2750 | U10: =SUM(U11:U15) -> 0 | V10: =SUM(V11:V15) -> 2875 | W10: =SUM(W11:W15) -> 0 | ... AE10: =SUM(AE11:AE15) -> 0
C11: A1 | D11: Docentenbestand van minstens 8 actieve docenten op initiatorniveau | M11: Pol | N11: PBT | P11: 500 | Q11: 0 | R11: 500 | S11: 0 | T11: 500 | U11: 0 | V11: 500 | W11: 0
C12: A2 | D12: Docentenbestand van minstens 4 actieve docenten op instructeurniveau | M12: Pol | N12: PBT | P12: 250 | Q12: 0 | R12: 0 | S12: 0 | T12: 250 | U12: 0 | V12: 0 | W12: 0
C13: A3 | D13: Docentenbestand van minstens 4 actieve docenten op trainer B niveau | M13: Pol | N13: PBT | P13: 0 | Q13: 0 | R13: 250 | S13: 0 | T13: 0 | U13: 0 | V13: 250 | W13: 0
C14: A4 | D14: Docentenbestand van minstens 2 actieve docenten op trainer A niveau | M14: Pol | N14: PBT | P14: 0 | Q14: 0 | R14: 0 | S14: 0 | T14: 0 | U14: 0 | V14: 125 | W14: 0
C15: A5 | D15: Jaarlijkse docentenbijscholing waar alle docenten aan kunnen deelnemen. | M15: Pol | N15: PBT | P15: 2000 | Q15: 0 | R15: 2000 | S15: 0 | T15: 2000 | U15: 0 | V15: 2000 | W15: 0
B16: OD3 | D16: Digitalisering van het opleidingsaanbod Initiator, Instructeur, Trainer B, en Trainer A | O16: Percentage van digitalisatie | P16: =SUM(P17:P19) -> 2500 | Q16: =SUM(Q17:Q19) -> 0 | R16: =SUM(R17:R19) -> 2500 | S16: =SUM(S17:S19) -> 0 | T16: =SUM(T17:T19) -> 2500 | U16: =SUM(U17:U19) -> 0 | V16: =SUM(V17:V19) -> 0 | W16: =SUM(W17:W19) -> 0 | ... AE16: =SUM(AE17:AE19) -> 0
C17: A1 | D17: minstens 1/4 van de sportspecifieke inhoud Instructeur is gedigitaliseerd | M17: Pol | N17: PBT | P17: 2500 | Q17: 0 | R17: 0 | S17: 0 | T17: 0 | U17: 0 | V17: 0 | W17: 0
C18: A2 | D18: minstens 1/4 van de sportspecifieke inhoud trainer B is gedigitaliseerd | M18: Pol | N18: PBT | P18: 0 | Q18: 0 | R18: 2500 | S18: 0 | T18: 0 | U18: 0 | V18: 0 | W18: 0
C19: A3 | D19: Een digitaal alternatief uitdenken voor de contactmomenten trainer A laagdrempelig te houden | M19: Pol | N19: PBT | P19: 0 | Q19: 0 | R19: 0 | S19: 0 | T19: 2500 | U19: 0 | V19: 0 | W19: 0
B20: OD4 | D20: Ontwikkelen van een visietekst Trainer A | O20: Afgewerkte visietekst tegen 2027 | P20: 0 | Q20: 0 | R20: 1000 | S20: 0 | T20: 1000 | U20: 0 | V20: 0 | W20: 0 | X20: =SUM(X21:X23) -> 0 | Y20: =SUM(Y21:Y23) -> 0 | Z20: =SUM(Z21:Z23) -> 0 | AA20: =SUM(AA21:AA23) -> 0 | AB20: =SUM(AB21:AB23) -> 0 | AC20: =SUM(AC21:AC23) -> 0 | AD20: =SUM(AD21:AD23) -> 0 | AE20: =SUM(AE21:AE23) -> 0
C21: A1 | D21: Analyseren van minstens 1 visietekst Trainer A uit een andere sporttak | M21: Pol | N21: PBT | P21: 0 | Q21: 0 | R21: 0 | S21: 0 | T21: 0 | U21: 0 | V21: 0 | W21: 0
C22: A2 | D22: Opstellen van een concept aan de hand van een duidelijk functieprofiel, opleidingstraject, toelatingsvoorwaarden en inhoud | M22: Pol | N22: PBT | P22: 0 | Q22: 0 | R22: 1000 | S22: 0 | T22: 0 | U22: 0 | V22: 0 | W22: 0
C23: A3 | D23: Finaliseren en indienen van de visietekst bij Sport Vlaanderen | M23: Pol | N23: PBT | P23: 0 | Q23: 0 | R23: 0 | S23: 0 | T23: 1000 | U23: 0 | V23: 0 | W23: 0
A24: SD2 - PUSH | D24: Badminton Vlaanderen wil tegen eind 2028 aan club trainers universele leerlijnen aanbieden voor jeugdbadminton | P24: =SUM(P25,P29,P32) -> 1000 | Q24: =SUM(Q25,Q29,Q32) -> 0 | R24: =SUM(R25,R29,R32) -> 2500 | S24: =SUM(S25,S29,S32) -> 0 | T24: =SUM(T25,T29,T32) -> 2000 | U24: =SUM(U25,U29,U32) -> 0 | V24: =SUM(V25,V29,V32) -> 0 | W24: =SUM(W25,W29,W32) -> 0 | ... AE24: =SUM(AE25,AE29,AE32) -> 0
B25: OD1 | D25: Analyseren van het huidig aanbod aan jeugdontwikkelingsprogrammas en de Topsport leerlijnen | O25: Analyse van aanbod | P25: =SUM(P26:P28) -> 1000 | Q25: =SUM(Q26:Q28) -> 0 | R25: =SUM(R26:R28) -> 0 | S25: =SUM(S26:S28) -> 0 | T25: =SUM(T26:T28) -> 0 | U25: =SUM(U26:U28) -> 0 | V25: =SUM(V26:V28) -> 0 | W25: =SUM(W26:W28) -> 0 | ... AE25: =SUM(AE26:AE28) -> 0
C26: A1 | D26: Samenstellen van een focusgroep | M26: Pol | N26: PBT | P26: 1000 | Q26: 0 | R26: 0 | S26: 0 | T26: 0 | U26: 0 | V26: 0 | W26: 0
C27: A2 | D27: analyseren van het huidige aanbod | M27: Pol | N27: PBT | P27: 0 | Q27: 0 | R27: 0 | S27: 0 | T27: 0 | U27: 0 | V27: 0 | W27: 0
C28: A3 | D28: Selecteren van de bruikbare materialen | M28: Pol | N28: PBT | P28: 0 | Q28: 0 | R28: 0 | S28: 0 | T28: 0 | U28: 0 | V28: 0 | W28: 0
B29: OD2 | D29: Ontwikkelen van leerlijnen badminton die bruikbaar zijn voor elke gekwalificeerde trainer | O29: Aantal leerlijnen | P29: =SUM(P30:P31) -> 0 | Q29: =SUM(Q30:Q31) -> 0 | R29: =SUM(R30:R31) -> 2500 | S29: =SUM(S30:S31) -> 0 | T29: =SUM(T30:T31) -> 0 | U29: =SUM(U30:U31) -> 0 | V29: =SUM(V30:V31) -> 0 | W29: =SUM(W30:W31) -> 0 | ... AE29: =SUM(AE30:AE31) -> 0
C30: A1 | D30: Schrijven van de leerlijnen en doelstellingen | M30: Pol | N30: PBT | P30: 0 | Q30: 0 | R30: 500 | S30: 0 | T30: 0 | U30: 0 | V30: 0 | W30: 0
C31: A2 | D31: Integreren van de doelstellingen in het nieuwe jeugdmodel | M31: Pol | N31: PBT | P31: 0 | Q31: 0 | R31: 2000 | S31: 0 | T31: 0 | U31: 0 | V31: 0 | W31: 0
B32: OD2 | D32: Implementatie van leerlijnen badminton die bruikbaar zijn voor elke gekwalificeerde trainer | O32: Communicatie omtrent leerlijnen | P32: =SUM(P33) -> 0 | Q32: =SUM(Q33) -> 0 | R32: =SUM(R33) -> 0 | S32: =SUM(S33) -> 0 | T32: =SUM(T33) -> 2000 | U32: =SUM(U33) -> 0 | V32: =SUM(V33) -> 0 | W32: =SUM(W33) -> 0 | ... AE32: =SUM(AE33) -> 0
C33: A5 | D33: Opstellen communicatieplan | M33: Pol | N33: PBT | P33: 0 | Q33: 0 | R33: 0 | S33: 0 | T33: 2000 | U33: 0 | V33: 0 | W33: 0
A34: SD3 - SMASH | D34: Badminton Vlaanderen wil tegen eind 2028 een functionerende trainerscommunity oprichten in het kader van de beleidsfocus Sportkaderopleidingen | P34: =SUM(P35,P43,P49) -> 79460.79 | Q34: =SUM(Q35,Q43,Q49) -> 72010.82 | R34: =SUM(R35,R43,R49) -> 65443.85 | S34: =SUM(S35,S43,S49) -> 67893.86 | T34: =SUM(T35,T43,T49) -> 31062.05 | U34: =SUM(U35,U43,U49) -> 27950 | V34: =SUM(V35,V43,V49) -> 26700 | W34: =SUM(W35,W43,W49) -> 32000 | ... AE34: =SUM(AE35,AE43,AE49) -> 0
B35: OD1 | D35: Organiseren van een zelfbedruipende community waarin kenisoverdracht en ondersteuning centraal staan | O35: Aantal licenties | P35: =SUM(P36:P42) -> 35017.8 | Q35: =SUM(Q36:Q42) -> 64010.82 | R35: =SUM(R36:R42) -> 23805.53 | S35: =SUM(S36:S42) -> 53893.86 | T35: =SUM(T36:T42) -> 2000 | U35: =SUM(U36:U42) -> 12750 | V35: =SUM(V36:V42) -> 2000 | W35: =SUM(W36:W42) -> 13400 | ... AE35: =SUM(AE36:AE42) -> 0
C36: A1 | D36: Abonnementsformule ontwikkelen voor toegang tot online en offline community met een stimulans door clubsubsidies en licentiesysteem trainers | M36: Pol | N36: PSUB | P36: 0 | Q36: 6750 | R36: 0 | S36: 10500 | T36: 0 | U36: 12750 | V36: 0 | W36: 13400
C37: A2 | D37: Promotiecampagne voor community via video en gadgets | M37: Pol | N37: PSUB | P37: 4000 | Q37: 0 | R37: 1000 | S37: 0 | T37: 2000 | U37: 0 | V37: 2000 | W37: 0
C38: A3 | D38: VTS-opleidingen professionaliseren uit deze community op vlak van docentenbeleid en stagementoren | M38: Pol | N38: PSUB | P38: 2900 | Q38: 0 | R38: 2900 | S38: 0 | T38: 0 | U38: 0 | V38: 0 | W38: 0
C39: A4 | D39: High potentials binnen trainerscommunity inspireren en ondersteunen met verschillende activiteiten | M39: Pol | N39: PSUB | P39: 3600 | Q39: 0 | R39: 3600 | S39: 0 | T39: 0 | U39: 0 | V39: 0 | W39: 0
C40: A5 | D40: Klankbordgroep oprichten voor het herwerken en verbeteren van de Trainer B cursus | M40: Pol | N40: PSUB | P40: 6190 | Q40: 0 | R40: 2080 | S40: 0 | T40: 0 | U40: 0 | V40: 0 | W40: 0
C41: A6 | D41: Subsidies Beleidsfocus Sportkaderopleiding | M41: Pol | N41: PSUB | P41: 0 | Q41: 57260.82 | R41: 0 | S41: 43393.86 | T41: 0 | U41: 0 | V41: 0 | W41: 0
C42: A7 | D42: Loonkost werknemers | M42: Pol | N42: PSUB | P42: 18327.8 | Q42: 0 | R42: 14225.53 | S42: 0 | T42: 0 | U42: 0 | V42: 0 | W42: 0
B43: OD2 | D43: Aanbieden en organiseren van een consequent aantal trainersbijscholingen | O43: Aantal bijscholingen | P43: =SUM(P44:P48) -> 30471.59 | Q43: =SUM(Q44:Q48) -> 8000 | R43: =SUM(R44:R48) -> 30471.59 | S43: =SUM(S44:S48) -> 14000 | T43: =SUM(T44:T48) -> 24700 | U43: =SUM(U44:U48) -> 15200 | V43: =SUM(V44:V48) -> 24700 | W43: =SUM(W44:W48) -> 18600 | ... AE43: =SUM(AE44:AE48) -> 0
C44: A1 | D44: Jaarlijks organiseren van 10 badmintonspecifieke bijscholingen voor trainers | M44: Pol | N44: PSUB | P44: 22450 | Q44: 8000 | R44: 22450 | S44: 14000 | T44: 22450 | U44: 15200 | V44: 22450 | W44: 18600
C45: A2 | D45: 20% van de bijscholingen zal online doorgaan | M45: Pol | N45: PSUB | P45: 0 | Q45: 0 | R45: 0 | S45: 0 | T45: 0 | U45: 0 | V45: 0 | W45: 0
C46: A3 | D46: Jaarlijks organiseren van de dag van de badmintontrainer tijdens de Yonex Belgian International | M46: Pol | N46: PSUB | P46: 2250 | Q46: 0 | R46: 2250 | S46: 0 | T46: 2250 | U46: 0 | V46: 2250 | W46: 0
C47: A4 | D47: Jaarlijks coördineren we minstens 2 shuttle kids bijscholingen | M47: Pol | N47: PSUB | P47: 0 | Q47: 0 | R47: 0 | S47: 0 | T47: 0 | U47: 0 | V47: 0 | W47: 0
C48: A5 | D48: Loonkost Pol Biemsans en verantwoordelijke topsport | M48: Pol | N48: PSUB | P48: 5771.59 | Q48: 0 | R48: 5771.59 | S48: 0 | T48: 0 | U48: 0 | V48: 0 | W48: 0
B49: OD3 | D49: Ontwikkelen en beheren van een database met oefeningen voor geabonneerde trainers op elk niveau | O49: Ontwikkelde database | P49: =SUM(P50:P54) -> 13971.4 | Q49: =SUM(Q50:Q54) -> 0 | R49: =SUM(R50:R54) -> 11166.73 | S49: =SUM(S50:S54) -> 0 | T49: =SUM(T50:T54) -> 4362.05 | U49: =SUM(U50:U54) -> 0 | V49: =SUM(V50:V54) -> 0 | W49: =SUM(W50:W54) -> 0 | ... AE49: =SUM(AE50:AE54) -> 0
C50: A1 | D50: Maken van indelingen op basis van VTS diploma | M50: Pol | N50: PSUB | P50: 0 | Q50: 0 | R50: 0 | S50: 0 | T50: 0 | U50: 0 | V50: 0 | W50: 0
C51: A2 | D51: Maken van indelingen op basis van het topic van de training | M51: Pol | N51: PSUB | P51: 0 | Q51: 0 | R51: 0 | S51: 0 | T51: 0 | U51: 0 | V51: 0 | W51: 0
C52: A3 | D52: Ontwikkelingskost platform | M52: Pol | N52: AAF | P52: 4362.05 | Q52: 0 | R52: 4362.05 | S52: 0 | T52: 4362.05 | U52: 0 | V52: 0 | W52: 0
C53: A4 | D53: Ontwikkeling filmpjes om te gebruiken in VTS-opleidingen | M53: Pol | N53: PSUB | P53: 4000 | Q53: 0 | R53: 4000 | S53: 0 | T53: 0 | U53: 0 | V53: 0 | W53: 0
C54: A5 | D54: Loonkost Pol Biesmans | M54: Pol | N54: PSUB | P54: 5609.35 | Q54: 0 | R54: 2804.68 | S54: 0 | T54: 0 | U54: 0 | V54: 0 | W54: 0
P55: =P34+P24+P4 -> 86430.79 | Q55: =Q34+Q24+Q4 -> 72010.82 | R55: =R34+R24+R4 -> 74913.85 | S55: =S34+S24+S4 -> 67893.86 | T55: =T34+T24+T4 -> 40032.05 | U55: =U34+U24+U4 -> 27950 | V55: =V34+V24+V4 -> 30795 | W55: =W34+W24+W4 -> 32000 | ... AE55: =AE34+AE24+AE4 -> 0
P57: =P55-P52 -> 82068.74

Sheet G-Badminton
A1: Badminton Vlaanderen / G-Badminton | E1: Timing | I1: Status uitvoering actie/doelstelling | P1: Begroting | X1: Status resultatenrekening
A2: SD | B2: OD | C2: Actie | D2: Omschrijving | E2: 2025 | F2: 2026 | G2: 2027 | H2: 2028 | I2: 2025 | J2: 2026 | K2: 2027 | L2: 2028 | M2: Verantw | N2: Ana-lytische code | O2: Indicator | P2: kosten 2025 | Q2: opbrengsten 2025 | R2: kosten 2026 | S2: opbrengsten 2026 | T2: kosten 2027 | U2: opbrengsten 2027 | V2: kosten 2028 | W2: opbrengsten 2028 | X2: kosten 2025 | Y2: opbrengsten 2025 | Z2: kosten 2026 | AA2: opbrengsten 2026 | AB2: kosten 2027 | AC2: opbrengsten 2027 | AD2: kosten 2028 | AE2: opbrengsten 2028
A3: SD1 - LOB | D3: Badminton Vlaanderen wil tegen december 2028 20% meer G-spelers aangesloten hebben ten opzichte van de nulmeting in 2023 (spelers=180). | P3: =SUM(P4,P8,P13,P17) -> 5000 | Q3: =SUM(Q4,Q8,Q13,Q17) -> 0 | R3: =SUM(R4,R8,R13,R17) -> 5000 | S3: =SUM(S4,S8,S13,S17) -> 0 | T3: =SUM(T4,T8,T13,T17) -> 5000 | U3: =SUM(U4,U8,U13,U17) -> 0 | V3: =SUM(V4,V8,V13,V17) -> 5000 | W3: =SUM(W4,W8,W13,W17) -> 0 | ... AE3: =SUM(AE4,AE8,AE13,AE17) -> 0
B4: OD1 | D4: Het ledenbestand wordt up to date gehouden zodat het duidelijk is welke leden een fysieke en/of verstandelijke handicap hebben. | O4: Aantal g-spelers | P4: =SUM(P5:P7) -> 0 | Q4: =SUM(Q5:Q7) -> 0 | R4: =SUM(R5:R7) -> 0 | S4: =SUM(S5:S7) -> 0 | T4: =SUM(T5:T7) -> 0 | U4: =SUM(U5:U7) -> 0 | V4: =SUM(V5:V7) -> 0 | W4: =SUM(W5:W7) -> 0 | ... AE4: =SUM(AE5:AE7) -> 0
C5: A1 | D5: Monitoring ledenbestand | M5: Pol | N5: GSUB | P5: 0 | Q5: 0 | R5: 0 | S5: 0 | T5: 0 | U5: 0 | V5: 0 | W5: 0
C6: A2 | D6: Communicatie naar clubsecretariaten | M6: Pol | N6: GSUB | P6: 0 | Q6: 0 | R6: 0 | S6: 0 | T6: 0 | U6: 0 | V6: 0 | W6: 0
C7: A3 | D7: Meting aantal G-spelers | M7: Pol | N7: GSUB | P7: 0 | Q7: 0 | R7: 0 | S7: 0 | T7: 0 | U7: 0 | V7: 0 | W7: 0
B8: OD2 | D8: Er is een constante evaluatie van het G-kwaliteitslabel, ingevoerd voor badmintonclubs, waaraan subsidies gekoppeld worden op basis van een jaarlijks ingediend subsidiedossier. | O8: Aantal deelnemende clubs aan G-label | P8: =SUM(P9:P12) -> 3500 | Q8: =SUM(Q9:Q12) -> 0 | R8: =SUM(R9:R12) -> 3500 | S8: =SUM(S9:S12) -> 0 | T8: =SUM(T9:T12) -> 3500 | U8: =SUM(U9:U12) -> 0 | V8: =SUM(V9:V12) -> 3500 | W8: =SUM(W9:W12) -> 0 | ... AE8: =SUM(AE9:AE12) -> 0
C9: A1 | D9: Jaarlijkse evaluatie G-kwaliteitslabel | M9: Pol | N9: GSUB | P9: 0 | Q9: 0 | R9: 0 | S9: 0 | T9: 0 | U9: 0 | V9: 0 | W9: 0
C10: A2 | D10: Communicatie naar clubs | M10: Pol | N10: GSUB | P10: 0 | Q10: 0 | R10: 0 | S10: 0 | T10: 0 | U10: 0 | V10: 0 | W10: 0
C11: A3 | D11: Verwerking en uitbetaling ingediende labels | M11: Pol | N11: GSUB | P11: 3500 | Q11: 0 | R11: 3500 | S11: 0 | T11: 3500 | U11: 0 | V11: 3500 | W11: 0
C12: A4 | D12: Jaarlijks online infomoment met G-kwaliteitslabel clubs | M12: Pol | N12: GSUB | P12: 0 | Q12: 0 | R12: 0 | S12: 0 | T12: 0 | U12: 0 | V12: 0 | W12: 0
B13: OD3 | D13: Het aantal badmintonners met een fysieke beperking wordt met 10% verhoogd ten opzichte van de nulmeting in 2023. | O13: Stijgingspercentage van leden met fysieke beperking | P13: =SUM(P14:P16) -> 500 | Q13: =SUM(Q14:Q16) -> 0 | R13: =SUM(R14:R16) -> 500 | S13: =SUM(S14:S16) -> 0 | T13: =SUM(T14:T16) -> 500 | U13: =SUM(U14:U16) -> 0 | V13: =SUM(V14:V16) -> 500 | W13: =SUM(W14:W16) -> 0 | ... AE13: =SUM(AE14:AE16) -> 0
C14: A1 | D14: Ontwikkelen van een gerichte bewustwordingscampagne uit die zich richt op het promoten van badminton binnen gemeenschappen en bij organisaties die werken met mensen met een beperking | M14: Pol | N14: GAW | P14: 0 | Q14: 0 | R14: 0 | S14: 0 | T14: 0 | U14: 0 | V14: 0 | W14: 0
C15: A2 | D15: Organiseren van promotiedagen en demonstraties bij scholen, revalidatiecentra en sportevenementen om de voordelen van badminton met een fysieke beperking te tonen en nieuwe spelers aan te werven | M15: Pol | N15: GAW | P15: 500 | Q15: 0 | R15: 500 | S15: 0 | T15: 500 | U15: 0 | V15: 500 | W15: 0
C16: A3 | D16: Bieden van ondersteuning aan bestaande badmintonclubs om een programma omtrent fysieke beperking op te zetten of uit te breiden | M16: Pol | N16: GAW | P16: 0 | Q16: 0 | R16: 0 | S16: 0 | T16: 0 | U16: 0 | V16: 0 | W16: 0
B17: OD4 | D17: Jaarlijks organiseren we of werken we mee aan minstens 5 promotionele acties omtrent G-badminton. | O17: Aantal promotionele activiteiten | P17: =SUM(P18:P19) -> 1000 | Q17: =SUM(Q18:Q19) -> 0 | R17: =SUM(R18:R19) -> 1000 | S17: =SUM(S18:S19) -> 0 | T17: =SUM(T18:T19) -> 1000 | U17: =SUM(U18:U19) -> 0 | V17: =SUM(V18:V19) -> 1000 | W17: =SUM(W18:W19) -> 0 | ... AE17: =SUM(AE18:AE19) -> 0
C18: A3 | D18: Medewerking aan Special Olympics | M18: Pol | N18: GAW | P18: 1000 | Q18: 0 | R18: 1000 | S18: 0 | T18: 1000 | U18: 0 | V18: 1000 | W18: 0
C19: A4 | D19: Medewerking aan / Organisatie van minstens 3 andere promotionele acties per jaar | M19: Pol | N19: GAW | P19: 0 | Q19: 0 | R19: 0 | S19: 0 | T19: 0 | U19: 0 | V19: 0 | W19: 0
A20: SD2 - PUSH | D20: Jaarlijks organiseert Badminton Vlaanderen minstens 1 opleiding / bijscholing omtrent G-badminton. | P20: =SUM(P21,P26,P30) -> 6650 | Q20: =SUM(Q21,Q26,Q30) -> 300 | R20: =SUM(R21,R26,R30) -> 6360 | S20: =SUM(S21,S26,S30) -> 300 | T20: =SUM(T21,T26,T30) -> 5150 | U20: =SUM(U21,U26,U30) -> 300 | V20: =SUM(V21,V26,V30) -> 5150 | W20: =SUM(W21,W26,W30) -> 300 | ... AE20: =SUM(AE21,AE26,AE30) -> 0
B21: OD1 | D21: Tegen eind 2028 heeft Badminton Vlaanderen de opleiding 'G-badminton trainer' ontwikkeld en georganiseerd. | O21: Aantal leden en initiatieven van werkgroep G-badminton | P21: =SUM(P22:P25) -> 2730 | Q21: =SUM(Q22:Q25) -> 300 | R21: =SUM(R22:R25) -> 2730 | S21: =SUM(S22:S25) -> 300 | T21: =SUM(T22:T25) -> 2730 | U21: =SUM(U22:U25) -> 300 | V21: =SUM(V22:V25) -> 2730 | W21: =SUM(W22:W25) -> 300 | ... AE21: =SUM(AE22:AE25) -> 0
C22: A1 | D22: Werkgroep G-opleiding oprichten | M22: Pol | N22: GAW | P22: 0 | Q22: 0 | R22: 0 | S22: 0 | T22: 0 | U22: 0 | V22: 0 | W22: 0
C23: A2 | D23: Overleg werkgroep opleiding | M23: Pol | N23: GAW | P23: 0 | Q23: 0 | R23: 0 | S23: 0 | T23: 0 | U23: 0 | V23: 0 | W23: 0
C24: A3 | D24: Ontwikkelen cursus en zoeken naar docenten | M24: Pol | N24: GAW | P24: 0 | Q24: 0 | R24: 0 | S24: 0 | T24: 0 | U24: 0 | V24: 0 | W24: 0
C25: A4 | D25: Organiseren van de cursus 'G-badminton trainer' | M25: Pol | N25: GAW | P25: 2730 | Q25: 300 | R25: 2730 | S25: 300 | T25: 2730 | U25: 300 | V25: 2730 | W25: 300
B26: OD2 | D26: Gedurende de volledige beleidsperiode 2025-2028 hebben we minstens 30 deelnemers gehad aan onze bijscholingen G-badminton. | O26: Aantal deelnemers per olympiade | P26: =SUM(P27:P29) -> 2420 | Q26: =SUM(Q27:Q29) -> 0 | R26: =SUM(R27:R29) -> 2420 | S26: =SUM(S27:S29) -> 0 | T26: =SUM(T27:T29) -> 2420 | U26: =SUM(U27:U29) -> 0 | V26: =SUM(V27:V29) -> 2420 | W26: =SUM(W27:W29) -> 0 | ... AE26: =SUM(AE27:AE29) -> 0
C27: A1 | D27: Organisatie bijscholing badminton met een fysieke beperking | M27: Pol | N27: GAW | P27: 1210 | Q27: 0 | R27: 1210 | S27: 0 | T27: 1210 | U27: 0 | V27: 1210 | W27: 0
C28: A2 | D28: Organisatie bijscholing badminton met een verstandelijke beperking | M28: Pol | N28: GAW | P28: 1210 | Q28: 0 | R28: 1210 | S28: 0 | T28: 1210 | U28: 0 | V28: 1210 | W28: 0
C29: A3 | D29: Promotie voor bijscholingen G-badminton | M29: Pol | N29: GAW | P29: 0 | Q29: 0 | R29: 0 | S29: 0 | T29: 0 | U29: 0 | V29: 0 | W29: 0
B30: OD3 | D30: Er wordt ingezet op het opleiden en hebben van een BWF classifier binnen Badminton Vlaanderen | O30: Aantal BWF classifiers | P30: =SUM(P31:P33) -> 1500 | Q30: =SUM(Q31:Q33) -> 0 | R30: =SUM(R31:R33) -> 1210 | S30: =SUM(S31:S33) -> 0 | T30: =SUM(T31:T33) -> 0 | U30: =SUM(U31:U33) -> 0 | V30: =SUM(V31:V33) -> 0 | W30: =SUM(W31:W33) -> 0 | ... AE30: =SUM(AE31:AE33) -> 0
C31: A1 | D31: Deelnemer sturen naar BWF Level 1 opleiding | M31: Pol | N31: GAW | P31: 500 | Q31: 0 | R31: 0 | S31: 0 | T31: 0 | U31: 0 | V31: 0 | W31: 0
C32: A2 | D32: Organiseren van een bijscholing in Vlaanderen | M32: Pol | N32: GAW | P32: 0 | Q32: 0 | R32: 1210 | S32: 0 | T32: 0 | U32: 0 | V32: 0 | W32: 0
C33: A3 | D33: Organiseren van een algemene classificatiedag | M33: Pol | N33: GAW | P33: 1000 | Q33: 0 | R33: 0 | S33: 0 | T33: 0 | U33: 0 | V33: 0 | W33: 0
A34: SD3 - SMASH | D34: Badminton Vlaanderen wil de clubs een betere ondersteuning bieden op het vlak van informatie en dienstverlening en bij het aantrekken van nieuwe leden | P34: =SUM(P35,P39) -> 0 | Q34: =SUM(Q35,Q39) -> 0 | R34: =SUM(R35,R39) -> 0 | S34: =SUM(S35,S39) -> 0 | T34: =SUM(T35,T39) -> 0 | U34: =SUM(U35,U39) -> 0 | V34: =SUM(V35,V39) -> 0 | W34: =SUM(W35,W39) -> 0 | ... AE34: =SUM(AE35,AE39) -> 0
B35: OD1 | D35: Ontwikkelen van een project rond inclusie binnen badminton onder de naam 'Shuttle Connect.' | O35: Aantal deelnemende clubs | P35: =SUM(P36:P38) -> 0 | Q35: =SUM(Q36:Q38) -> 0 | R35: =SUM(R36:R38) -> 0 | S35: =SUM(S36:S38) -> 0 | T35: =SUM(T36:T38) -> 0 | U35: =SUM(U36:U38) -> 0 | V35: =SUM(V36:V38) -> 0 | W35: =SUM(W36:W38) -> 0 | ... AE35: =SUM(AE36:AE38) -> 0
C36: A1 | D36: Ontwikkelen van een projectplan | M36: Pol | N36: GAW | P36: 0 | Q36: 0 | R36: 0 | S36: 0 | T36: 0 | U36: 0 | V36: 0 | W36: 0
C37: A2 | D37: Organiseren van een testvenement | M37: Pol | N37: GAW | P37: 0 | Q37: 0 | R37: 0 | S37: 0 | T37: 0 | U37: 0 | V37: 0 | W37: 0
C38: A3 | D38: Permanent aanbieden van het concept 'Shuttle Connect' aan G-badminton clubs | M38: Pol | N38: GAW | P38: 0 | Q38: 0 | R38: 0 | S38: 0 | T38: 0 | U38: 0 | V38: 0 | W38: 0
B39: OD2 | D39: Oprichten van een G-commissie die mee vorm geeft aan het G-badmintonbeleid van Badminton Vlaanderen. | O39: Aantal leden in commissie | P39: =SUM(P40:P42) -> 0 | Q39: =SUM(Q40:Q42) -> 0 | R39: =SUM(R40:R42) -> 0 | S39: =SUM(S40:S42) -> 0 | T39: =SUM(T40:T42) -> 0 | U39: =SUM(U40:U42) -> 0 | V39: =SUM(V40:V42) -> 0 | W39: =SUM(W40:W42) -> 0 | ... AE39: =SUM(AE40:AE42) -> 0
C40: A1 | D40: Oprichten G-commissie | M40: Pol | N40: GAW | P40: 0 | Q40: 0 | R40: 0 | S40: 0 | T40: 0 | U40: 0 | V40: 0 | W40: 0
C41: A2 | D41: Ontwerpen beleid G-commssie | M41: Pol | N41: GAW | P41: 0 | Q41: 0 | R41: 0 | S41: 0 | T41: 0 | U41: 0 | V41: 0 | W41: 0
C42: A3 | D42: Opstellen van een communicatiebeleid voor G-badminton | M42: Pol | N42: GAW | P42: 0 | Q42: 0 | R42: 0 | S42: 0 | T42: 0 | U42: 0 | V42: 0 | W42: 0
A43: SD4 - PUSH | D43: Badminton Vlaanderen gaat met Kiki voor 1 medaille op de Paralympics van 2028. | P43: =P44+P48+P53 -> 20000 | Q43: =Q44+Q48+Q53 -> 0 | R43: =R44+R48+R53 -> 21000 | S43: =S44+S48+S53 -> 0 | T43: =T44+T48+T53 -> 22000 | U43: =U44+U48+U53 -> 0 | V43: =V44+V48+V53 -> 23000 | W43: =W44+W48+W53 -> 0 | ... AE43: =AE44+AE48+AE53 -> 0
B44: OD1 | D44: De samenwerking met G-Sport Vlaanderen zal door de Technisch Directeur worden begeleid van 2025-2028. Dit is de brug tussen Badminton Vlaanderen en G-Sport Vlaanderen voor het inplannen, coachen en begeleiden van het project. Deze wordt ondersteund door verscheidene experten en coaches binnen het project. | O44: Aantal begeleiders voor de speler | P44: =SUM(P45:P47) -> 0 | Q44: =SUM(Q45:Q47) -> 0 | R44: =SUM(R45:R47) -> 0 | S44: =SUM(S45:S47) -> 0 | T44: =SUM(T45:T47) -> 0 | U44: =SUM(U45:U47) -> 0 | V44: =SUM(V45:V47) -> 0 | W44: =SUM(W45:W47) -> 0 | ... AE44: =SUM(AE45:AE47) -> 0
C45: A1 | D45: Officiële coach in samenspraak met G- Sport Vlaanderen | M45: Verantw TS | N45: GTS | P45: 0 | Q45: 0 | R45: 0 | S45: 0 | T45: 0 | U45: 0 | V45: 0 | W45: 0
C46: A2 | D46: Begeleid van team Kiki (voeding, kine, fysiek) | M46: Verantw TS | N46: GTS | P46: 0 | Q46: 0 | R46: 0 | S46: 0 | T46: 0 | U46: 0 | V46: 0 | W46: 0
C47: A3 | D47: Evaluatie coach(es) in samenspraak met G- Sport Vlaanderen | M47: Verantw TS | N47: GTS | P47: 0 | Q47: 0 | R47: 0 | S47: 0 | T47: 0 | U47: 0 | V47: 0 | W47: 0
B48: OD2 | D48: Jaarlijks wordt er budget voor Kiki vrijgehouden voor ondersteuning van minimaal 4 internationale tornooien en/of kampioenschappen, welke gekozen worden door Badminton Vlaanderen in samenspraak met de coach. | O48: Aantal tornooien | P48: =SUM(P49:P52) -> 17500 | Q48: =SUM(Q49:Q52) -> 0 | R48: =SUM(R49:R52) -> 18500 | S48: =SUM(S49:S52) -> 0 | T48: =SUM(T49:T52) -> 19500 | U48: =SUM(U49:U52) -> 0 | V48: =SUM(V49:V52) -> 20500 | W48: =SUM(W49:W52) -> 0 | ... AE48: =SUM(AE49:AE52) -> 0
C49: A1 | D49: Bepaling internationale tornooien | M49: Verantw TS | N49: GTS | P49: 17500 | Q49: 0 | R49: 18500 | S49: 0 | T49: 19500 | U49: 0 | V49: 20500 | W49: 0
C50: A2 | D50: Communicatie naar geselecteerde spelers | M50: Verantw TS | N50: GTS | P50: 0 | Q50: 0 | R50: 0 | S50: 0 | T50: 0 | U50: 0 | V50: 0 | W50: 0
C51: A3 | D51: Ondersteuning bieden voor gekozen tornooien | M51: Verantw TS | N51: GTS | P51: 0 | Q51: 0 | R51: 0 | S51: 0 | T51: 0 | U51: 0 | V51: 0 | W51: 0
C52: A4 | D52: Lid blijven PBWF | M52: Verantw TS | N52: GTS | P52: 0 | Q52: 0 | R52: 0 | S52: 0 | T52: 0 | U52: 0 | V52: 0 | W52: 0
B53: OD4 | D53: Er worden jaarlijks minstens 4 trainingen/trainingsdagen georganiseerd voor de nieuwe parabadmintonspelers. | O53: Aantal trainingen | P53: =SUM(P54:P57) -> 2500 | Q53: =SUM(Q54:Q57) -> 0 | R53: =SUM(R54:R57) -> 2500 | S53: =SUM(S54:S57) -> 0 | T53: =SUM(T54:T57) -> 2500 | U53: =SUM(U54:U57) -> 0 | V53: =SUM(V54:V57) -> 2500 | W53: =SUM(W54:W57) -> 0 | ... AE53: =SUM(AE54:AE57) -> 0
C54: A1 | D54: Bepaling data en locaties trainingen | M54: Verantw TS | N54: GTS | P54: 0 | Q54: 0 | R54: 0 | S54: 0 | T54: 0 | U54: 0 | V54: 0 | W54: 0
C55: A2 | D55: Vastleggen sporthallen | M55: Verantw TS | N55: GTS | P55: 1250 | Q55: 0 | R55: 1250 | S55: 0 | T55: 1250 | U55: 0 | V55: 1250 | W55: 0
C56: A3 | D56: Communicatie naar geselecteerde spelers | M56: Verantw TS | N56: GTS | P56: 0 | Q56: 0 | R56: 0 | S56: 0 | T56: 0 | U56: 0 | V56: 0 | W56: 0
C57: A4 | D57: Aanstelling trainers/coaches om training te geven | M57: Verantw TS | N57: GTS | P57: 1250 | Q57: 0 | R57: 1250 | S57: 0 | T57: 1250 | U57: 0 | V57: 1250 | W57: 0
P58: =P3+P34+P20+P43 -> 31650 | Q58: =Q3+Q34+Q20+Q43 -> 300 | R58: =R3+R34+R20+R43 -> 32360 | S58: =S3+S34+S20+S43 -> 300 | T58: =T3+T34+T20+T43 -> 32150 | U58: =U3+U34+U20+U43 -> 300 | V58: =V3+V34+V20+V43 -> 33150 | W58: =W3+W34+W20+W43 -> 300 | ... AE58: =AE3+AE34+AE20+AE43 -> 0

Sheet Competitieve aspecten
A1: Badminton Vlaanderen / Competitieve aspecten | E1: Timing | I1: Status uitvoering actie/doelstelling | P1: Begroting | X1: Status resultatenrekening
A2: SD | B2: OD | C2: Actie | D2: Omschrijving | E2: 2025 | F2: 2026 | G2: 2027 | H2: 2028 | I2: 2025 | J2: 2026 | K2: 2027 | L2: 2028 | M2: Verantw | N2: Analytische code | O2: Indicator | P2: kosten | Q2: opbrengsten | R2: kosten | S2: opbrengsten | T2: kosten | U2: opbrengsten | V2: kosten | W2: opbrengsten | X2: kosten | Y2: opbrengsten | Z2: kosten | AA2: opbrengsten | AB2: kosten | AC2: opbrengsten | AD2: kosten | AE2: opbrengsten
P3: 2025 | Q3: 2025 | R3: 2026 | S3: 2026 | T3: 2027 | U3: 2027 | V3: 2028 | W3: 2028 | X3: 2025 | Y3: 2025 | Z3: 2026 | AA3: 2026 | AB3: 2027 | AC3: 2027 | AD3: 2028 | AE3: 2028
A4: SD1 - PUSH | D4: Verdere digitalisatie en integratie van (in-house) software voor het organiseren van tornooien en competities. | P4: =SUM(P5,P9,P13) -> 4500 | Q4: =SUM(Q5,Q9,Q13) -> 0 | R4: =SUM(R5,R9,R13) -> 2500 | S4: =SUM(S5,S9,S13) -> 0 | T4: =SUM(T5,T9,T13) -> 0 | U4: =SUM(U5,U9,U13) -> 0 | V4: =SUM(V5,V9,V13) -> 0 | W4: =SUM(W5,W9,W13) -> 0 | ... AE4: =SUM(AE5,AE9,AE13) -> 0
B5: OD1 | D5: Tegen 2026 implementeren we minstens 3 nieuwe modules in badman.app | O5: Aantal ontwikkelde modules | P5: =SUM(P6:P8) -> 4000 | Q5: =SUM(Q6:Q8) -> 0 | R5: =SUM(R6:R8) -> 2500 | S5: =SUM(S6:S8) -> 0 | T5: =SUM(T6:T8) -> 0 | U5: =SUM(U6:U8) -> 0 | V5: =SUM(V6:V8) -> 0 | W5: =SUM(W6:W8) -> 0 | ... AE5: =SUM(AE6:AE8) -> 0
C6: A1 | D6: Ontwikkelen en implementeren van de module voor het ingeven van uitslagen | M6: Jeroen | N6: CCOM | P6: 2500 | Q6: 0 | R6: 0 | S6: 0 | T6: 0 | U6: 0 | V6: 0 | W6: 0
C7: A2 | D7: Ontwikkelen en implementeren van de module voor het automatisch bevestigen van uitslagen | M7: Jeroen | N7: CCOM | P7: 1500 | Q7: 0 | R7: 0 | S7: 0 | T7: 0 | U7: 0 | V7: 0 | W7: 0
C8: A3 | D8: Ontwikkelen van een module voor het verwerken van afwezigheden op tornooien | M8: Jeroen | N8: CCOM | P8: 0 | Q8: 0 | R8: 2500 | S8: 0 | T8: 0 | U8: 0 | V8: 0 | W8: 0
B9: OD2 | D9: Tegen 2026 hebben we een gebruiksvriendelijke online cursus wedstrijdleider, waarbij cursisten d.m.v. e-learning zelfstandig de cursus kunnen doorlopen en het examen kunnen afleggen | O9: Percentage van automatische vragen | P9: =SUM(P10:P12) -> 500 | Q9: =SUM(Q10:Q12) -> 0 | R9: =SUM(R10:R12) -> 0 | S9: =SUM(S10:S12) -> 0 | T9: =SUM(T10:T12) -> 0 | U9: =SUM(U10:U12) -> 0 | V9: =SUM(V10:V12) -> 0 | W9: =SUM(W10:W12) -> 0 | ... AE9: =SUM(AE10:AE12) -> 0
C10: A1 | D10: Bijwerken van de cursusinhoud op basis van de recentste reglementen | M10: Jeroen | N10: POFF | P10: 0 | Q10: 0 | R10: 0 | S10: 0 | T10: 0 | U10: 0 | V10: 0 | W10: 0
C11: A2 | D11: Verbeteren van de flow van de online cursus | M11: Jeroen | N11: POFF | P11: 500 | Q11: 0 | R11: 0 | S11: 0 | T11: 0 | U11: 0 | V11: 0 | W11: 0
C12: A3 | D12: Online examens kunnen op elk moment afgenomen worden | M12: Jeroen | N12: POFF | P12: 0 | Q12: 0 | R12: 0 | S12: 0 | T12: 0 | U12: 0 | V12: 0 | W12: 0
B13: OD3 | D13: Tegen 2026 willen we nagaan of externe partners bereid zijn de samenwerking uit te breiden en specifieke software voor tornooien en competities te ontwikkelen | O13: Aantal potentiële partners | P13: =SUM(P14:P15) -> 0 | Q13: =SUM(Q14:Q15) -> 0 | R13: =SUM(R14:R15) -> 0 | S13: =SUM(S14:S15) -> 0 | T13: =SUM(T14:T15) -> 0 | U13: =SUM(U14:U15) -> 0 | V13: =SUM(V14:V15) -> 0 | W13: =SUM(W14:W15) -> 0 | ... AE13: =SUM(AE14:AE15) -> 0
C14: A1 | D14: Contacteren van potentiële partners | M14: Pieter-Jan | N14: CSOF | P14: 0 | Q14: 0 | R14: 0 | S14: 0 | T14: 0 | U14: 0 | V14: 0 | W14: 0
C15: A2 | D15: Offertes opvragen bij potentiële partners | M15: Pieter-Jan | N15: CSOF | P15: 0 | Q15: 0 | R15: 0 | S15: 0 | T15: 0 | U15: 0 | V15: 0 | W15: 0
A16: SD2 - PUSH | D16: Kwaliteitsbewaking van het ranking proces | P16: =SUM(P17,P22) -> 2500 | Q16: =SUM(Q17,Q22) -> 0 | R16: =SUM(R17,R22) -> 500 | S16: =SUM(S17,S22) -> 0 | T16: =SUM(T17,T22) -> 2500 | U16: =SUM(U17,U22) -> 0 | V16: =SUM(V17,V22) -> 500 | W16: =SUM(W17,W22) -> 0 | ... AE16: =SUM(AE17,AE22) -> 0
B17: OD1 | D17: Gedurende de beleidsperiode voeren we jaarlijks een statistische analyse uit van het huidige rankingsysteem en implementeren we verbeteringen indien nodig | O17: Resultaten analyse rankingsysteem | P17: =SUM(P18:P21) -> 500 | Q17: =SUM(Q18:Q21) -> 0 | R17: =SUM(R18:R21) -> 500 | S17: =SUM(S18:S21) -> 0 | T17: =SUM(T18:T21) -> 500 | U17: =SUM(U18:U21) -> 0 | V17: =SUM(V18:V21) -> 500 | W17: =SUM(W18:W21) -> 0 | ... AE17: =SUM(AE18:AE21) -> 0
C18: A1 | D18: Een enquete over het huidige systeem wordt uitgevoerd onder actieve leden | M18: Jeroen | N18: CAW | P18: 0 | Q18: 0 | R18: 0 | S18: 0 | T18: 0 | U18: 0 | V18: 0 | W18: 0
C19: A2 | D19: De Nationale klassementscommissie komt minstens eenmaal per jaar samen om te evalueren en verbeteringen voor te stellen | M19: Jeroen | N19: CAW | P19: 500 | Q19: 0 | R19: 500 | S19: 0 | T19: 500 | U19: 0 | V19: 500 | W19: 0
C20: A3 | D20: Eventuele voorgestelde verbeteringen worden minstens eenmaal geevalueerd door een interne werkgroep van actieve spelers | M20: Jeroen | N20: CAW | P20: 0 | Q20: 0 | R20: 0 | S20: 0 | T20: 0 | U20: 0 | V20: 0 | W20: 0
C21: A4 | D21: Verbeteringen worden geïmplementeerd | M21: Jeroen | N21: CAW | P21: 0 | Q21: 0 | R21: 0 | S21: 0 | T21: 0 | U21: 0 | V21: 0 | W21: 0
B22: OD2 | D22: We promoten het huidige rankingsysteem en zijn regels minstens tweemaal gedurende de beleidsperiode bij onze spelers en clubs | O22: Aantal communicaties binnen olympiade | P22: =SUM(P23:P24) -> 2000 | Q22: =SUM(Q23:Q24) -> 0 | R22: =SUM(R23:R24) -> 0 | S22: =SUM(S23:S24) -> 0 | T22: =SUM(T23:T24) -> 2000 | U22: =SUM(U23:U24) -> 0 | V22: =SUM(V23:V24) -> 0 | W22: =SUM(W23:W24) -> 0 | ... AE22: =SUM(AE23:AE24) -> 0
C23: A1 | D23: Minstens eenmaal de actieve spelers informeren over verbeteringen | M23: Jeroen | N23: CAW | P23: 500 | Q23: 0 | R23: 0 | S23: 0 | T23: 500 | U23: 0 | V23: 0 | W23: 0
C24: A2 | D24: Ontwerpen van een visuele en laagdrempelige digitale applicatie ter begrip van de regels voor de actieve spelers | M24: Jeroen | N24: CAW | P24: 1500 | Q24: 0 | R24: 0 | S24: 0 | T24: 1500 | U24: 0 | V24: 0 | W24: 0
A25: SD3 - PUSH | D25: Verdere optimalisatie en professionalisering van tornooien en competities | P25: =SUM(P26,P30,P33) -> 250 | Q25: =SUM(Q26,Q30,Q33) -> 0 | R25: =SUM(R26,R30,R33) -> 500 | S25: =SUM(S26,S30,S33) -> 0 | T25: =SUM(T26,T30,T33) -> 0 | U25: =SUM(U26,U30,U33) -> 0 | V25: =SUM(V26,V30,V33) -> 0 | W25: =SUM(W26,W30,W33) -> 0 | ... AE25: =SUM(AE26,AE30,AE33) -> 0
B26: OD1 | D26: Tegen 2028 streeft Badminton Vlaanderen ernaar dat elke club 1 officiële WL per competitieploeg heeft in de provinciale en liga reeksen. | O26: Aantal wedstrijdleiders ten opzichte van aantal ploegen | P26: =SUM(P27:P29) -> 0 | Q26: =SUM(Q27:Q29) -> 0 | R26: =SUM(R27:R29) -> 0 | S26: =SUM(S27:S29) -> 0 | T26: =SUM(T27:T29) -> 0 | U26: =SUM(U27:U29) -> 0 | V26: =SUM(V27:V29) -> 0 | W26: =SUM(W27:W29) -> 0 | ... AE26: =SUM(AE27:AE29) -> 0
C27: A1 | D27: Elke club heeft 1 officiële WL per 3 interclub competitieploegen | M27: Jeroen | N27: POFF | P27: 0 | Q27: 0 | R27: 0 | S27: 0 | T27: 0 | U27: 0 | V27: 0 | W27: 0
C28: A2 | D28: Elke club heeft 1 officiële WL per 2 interclub competitieploegen | M28: Jeroen | N28: POFF | P28: 0 | Q28: 0 | R28: 0 | S28: 0 | T28: 0 | U28: 0 | V28: 0 | W28: 0
C29: A3 | D29: Elke club heeft 1 officiële WL per interclub competitieploeg | M29: Jeroen | N29: POFF | P29: 0 | Q29: 0 | R29: 0 | S29: 0 | T29: 0 | U29: 0 | V29: 0 | W29: 0
B30: OD2 | D30: We lanceren jaarlijks een sensibiliseringscampagne omtrent de functie, taken en plichten van wedstrijdleiders | O30: Ontwikkelen campagne | P30: =SUM(P31:P32) -> 250 | Q30: =SUM(Q31:Q32) -> 0 | R30: =SUM(R31:R32) -> 0 | S30: =SUM(S31:S32) -> 0 | T30: =SUM(T31:T32) -> 0 | U30: =SUM(U31:U32) -> 0 | V30: =SUM(V31:V32) -> 0 | W30: =SUM(W31:W32) -> 0 | ... AE30: =SUM(AE31:AE32) -> 0
C31: A1 | D31: Uitwerken van een sensibiliseringscampagne | M31: Jeroen | N31: POFF | P31: 250 | Q31: 0 | R31: 0 | S31: 0 | T31: 0 | U31: 0 | V31: 0 | W31: 0
C32: A2 | D32: Verspreiden van de campagne | M32: Jeroen | N32: POFF | P32: 0 | Q32: 0 | R32: 0 | S32: 0 | T32: 0 | U32: 0 | V32: 0 | W32: 0
B33: OD3 | D33: Tegen 2026 evalueren we kritisch de workflow van interne processen met procesoptimalisatie als einddoel | O33: Opgestelde samenwerkingsakkoorden | P33: =SUM(P34:P35) -> 0 | Q33: =SUM(Q34:Q35) -> 0 | R33: =SUM(R34:R35) -> 500 | S33: =SUM(S34:S35) -> 0 | T33: =SUM(T34:T35) -> 0 | U33: =SUM(U34:U35) -> 0 | V33: =SUM(V34:V35) -> 0 | W33: =SUM(W34:W35) -> 0 | ... AE33: =SUM(AE34:AE35) -> 0
C34: A1 | D34: Alignment van gedeelde processen met LFBB om aan efficiëntie te winnen | M34: Jeroen | N34: CCOM | P34: 0 | Q34: 0 | R34: 0 | S34: 0 | T34: 0 | U34: 0 | V34: 0 | W34: 0
C35: A2 | D35: Opzetten van een online platform voor gedeelde processen | M35: Jeroen | N35: CCOM | P35: 0 | Q35: 0 | R35: 500 | S35: 0 | T35: 0 | U35: 0 | V35: 0 | W35: 0
A36: SD4 - SMASH | D36: Herstructurering van het huidige tornooi- en competitielandschap | P36: =SUM(P37,P40,P44,P48) -> 0 | Q36: =SUM(Q37,Q40,Q44,Q48) -> 0 | R36: =SUM(R37,R40,R44,R48) -> 0 | S36: =SUM(S37,S40,S44,S48) -> 0 | T36: =SUM(T37,T40,T44,T48) -> 500 | U36: =SUM(U37,U40,U44,U48) -> 0 | V36: =SUM(V37,V40,V44,V48) -> 2500 | W36: =SUM(W37,W40,W44,W48) -> 0 | ... AE36: =SUM(AE37,AE40,AE44,AE48) -> 0
B37: OD1 | D37: Tegen 2026 analyseren we het huidige tornooilandschap | O37: Aantal respondenten en analyse van resultaten | P37: =SUM(P38:P39) -> 0 | Q37: =SUM(Q38:Q39) -> 0 | R37: =SUM(R38:R39) -> 0 | S37: =SUM(S38:S39) -> 0 | T37: =SUM(T38:T39) -> 0 | U37: =SUM(U38:U39) -> 0 | V37: =SUM(V38:V39) -> 0 | W37: =SUM(W38:W39) -> 0 | ... AE37: =SUM(AE38:AE39) -> 0
C38: A1 | D38: Lanceren van een bevraging omtrent het huidige tornooilandschap | M38: Jeroen | N38: CTOR | P38: 0 | Q38: 0 | R38: 0 | S38: 0 | T38: 0 | U38: 0 | V38: 0 | W38: 0
C39: A2 | D39: Opstellen van een grondige analyse o.b.v. de resultaten | M39: Jeroen | N39: CTOR | P39: 0 | Q39: 0 | R39: 0 | S39: 0 | T39: 0 | U39: 0 | V39: 0 | W39: 0
B40: OD2 | D40: Tegen 2027 creëren we een framework om de bestaande tornooien in te delen in gradaties op basis van bepaalde voorwaarden | O40: Ontwikkelen framework tornooien | P40: =SUM(P41:P43) -> 0 | Q40: =SUM(Q41:Q43) -> 0 | R40: =SUM(R41:R43) -> 0 | S40: =SUM(S41:S43) -> 0 | T40: =SUM(T41:T43) -> 0 | U40: =SUM(U41:U43) -> 0 | V40: =SUM(V41:V43) -> 0 | W40: =SUM(W41:W43) -> 0 | ... AE40: =SUM(AE41:AE43) -> 0
C41: A1 | D41: Uitwerken van de voorwaarden per gradatie | M41: Jeroen | N41: CTOR | P41: 0 | Q41: 0 | R41: 0 | S41: 0 | T41: 0 | U41: 0 | V41: 0 | W41: 0
C42: A2 | D42: Bestaande tornooien informeren over toepassing framework | M42: Jeroen | N42: CTOR | P42: 0 | Q42: 0 | R42: 0 | S42: 0 | T42: 0 | U42: 0 | V42: 0 | W42: 0
C43: A3 | D43: Indeling van tornooien volgens framework | M43: Jeroen | N43: CTOR | P43: 0 | Q43: 0 | R43: 0 | S43: 0 | T43: 0 | U43: 0 | V43: 0 | W43: 0
B44: OD3 | D44: Tegen 2028 werken we samen met tornooiorganisatoren om een TOP-circuit in te richten met extra incentives voor topspelers | O44: Aantal Top-circuit tornooien en inschrijvingen | P44: =SUM(P45:P47) -> 0 | Q44: =SUM(Q45:Q47) -> 0 | R44: =SUM(R45:R47) -> 0 | S44: =SUM(S45:S47) -> 0 | T44: =SUM(T45:T47) -> 500 | U44: =SUM(U45:U47) -> 0 | V44: =SUM(V45:V47) -> 2500 | W44: =SUM(W45:W47) -> 0 | ... AE44: =SUM(AE45:AE47) -> 0
C45: A1 | D45: Contacteren van tornooien die in aanmerking komen | M45: Jeroen | N45: CTOR | P45: 0 | Q45: 0 | R45: 0 | S45: 0 | T45: 0 | U45: 0 | V45: 0 | W45: 0
C46: A2 | D46: Overleg over de invulling van het circuit | M46: Jeroen | N46: CTOR | P46: 0 | Q46: 0 | R46: 0 | S46: 0 | T46: 500 | U46: 0 | V46: 0 | W46: 0
C47: A3 | D47: Lanceren van het TOP-circuit | M47: Jeroen | N47: CTOR | P47: 0 | Q47: 0 | R47: 0 | S47: 0 | T47: 0 | U47: 0 | V47: 2500 | W47: 0
B48: OD4 | D48: Tegen 2028 verkennen we alternatieve competitieformats die focussen op inclusie en diversiteit | O48: Analyse van competitieformats | P48: =SUM(P49:P52) -> 0 | Q48: =SUM(Q49:Q52) -> 0 | R48: =SUM(R49:R52) -> 0 | S48: =SUM(S49:S52) -> 0 | T48: =SUM(T49:T52) -> 0 | U48: =SUM(U49:U52) -> 0 | V48: =SUM(V49:V52) -> 0 | W48: =SUM(W49:W52) -> 0 | ... AE48: =SUM(AE49:AE52) -> 0
C49: A1 | D49: Lanceren van een bevraging omtrent de huidige competitieformats | M49: Jeroen | N49: CCOM | P49: 0 | Q49: 0 | R49: 0 | S49: 0 | T49: 0 | U49: 0 | V49: 0 | W49: 0
C50: A2 | D50: Opstellen van een grondige analyse o.b.v. de resultaten | M50: Jeroen | N50: CCOM | P50: 0 | Q50: 0 | R50: 0 | S50: 0 | T50: 0 | U50: 0 | V50: 0 | W50: 0
C51: A3 | D51: Uitwerken, organiseren en realiseren van alternatieve competitieformats | M51: Jeroen | N51: CCOM | P51: 0 | Q51: 0 | R51: 0 | S51: 0 | T51: 0 | U51: 0 | V51: 0 | W51: 0
C52: A4 | D52: Feedback verzamelen o.b.v. de ervaring van participanten | M52: Jeroen | N52: CCOM | P52: 0 | Q52: 0 | R52: 0 | S52: 0 | T52: 0 | U52: 0 | V52: 0 | W52: 0
A53: DM1 | D53: Omschrijving domein binnen de overige werking | P53: =SUM(P54,P56,P58) -> 20000 | Q53: =SUM(Q54,Q56,Q58) -> 37600 | R53: =SUM(R54,R56,R58) -> 22000 | S53: =SUM(S54,S56,S58) -> 40600 | T53: =SUM(T54,T56,T58) -> 24000 | U53: =SUM(U54,U56,U58) -> 43500 | V53: =SUM(V54,V56,V58) -> 26000 | W53: =SUM(W54,W56,W58) -> 44000 | ... AE53: =SUM(AE54,AE56,AE58) -> 0
B54: IT1 | D54: Visual Reality | P54: =P55 -> 20000 | Q54: =Q55 -> 0 | R54: =R55 -> 22000 | S54: =S55 -> 0 | T54: =T55 -> 24000 | U54: =U55 -> 0 | V54: =V55 -> 26000 | W54: =W55 -> 0 | ... AE54: =AE55 -> 0
C55: A1 | D55: Sotfware | N55: CSOF | P55: 20000 | Q55: 0 | R55: 22000 | S55: 0 | T55: 24000 | U55: 0 | V55: 26000 | W55: 0
B56: IT2 | D56: Tornooien | P56: =P57 -> 0 | Q56: =Q57 -> 6400 | R56: =R57 -> 0 | S56: =S57 -> 7000 | T56: =T57 -> 0 | U56: =U57 -> 7500 | V56: =V57 -> 0 | W56: =W57 -> 8000 | ... AE56: =AE57 -> 0
C57: A1 | D57: Inschrijvingsgelden | N57: CTOR | P57: 0 | Q57: 6400 | R57: 0 | S57: 7000 | T57: 0 | U57: 7500 | V57: 0 | W57: 8000
B58: IT3 | D58: Competitie | P58: =SUM(P59:P60) -> 0 | Q58: =SUM(Q59:Q60) -> 31200 | R58: =SUM(R59:R60) -> 0 | S58: =SUM(S59:S60) -> 33600 | T58: =SUM(T59:T60) -> 0 | U58: =SUM(U59:U60) -> 36000 | V58: =SUM(V59:V60) -> 0 | W58: =SUM(W59:W60) -> 36000 | ... AE58: =SUM(AE59:AE60) -> 0
C59: A1 | D59: Boetes | N59: CCOM | P59: 0 | Q59: 1200 | R59: 0 | S59: 1100 | T59: 0 | U59: 1000 | V59: 0 | W59: 1000
C60: A2 | D60: Inschrijvingsgelden | N60: CCOM | P60: 0 | Q60: 30000 | R60: 0 | S60: 32500 | T60: 0 | U60: 35000 | V60: 0 | W60: 35000
P61: =SUM(P36,P25,P16,P4,P53) -> 27250 | Q61: =SUM(Q36,Q25,Q16,Q4,Q53) -> 37600 | R61: =SUM(R36,R25,R16,R4,R53) -> 25500 | S61: =SUM(S36,S25,S16,S4,S53) -> 40600 | T61: =SUM(T36,T25,T16,T4,T53) -> 27000 | U61: =SUM(U36,U25,U16,U4,U53) -> 43500 | V61: =SUM(V36,V25,V16,V4,V53) -> 29000 | W61: =SUM(W36,W25,W16,W4,W53) -> 44000 | ... AE61: =SUM(AE36,AE25,AE16,AE4,AE53) -> 0

Sheet Recreanten
A1: Badminton Vlaanderen / Recreanten | E1: Timing | I1: Status uitvoering actie/doelstelling | P1: Begroting | X1: Status resultatenrekening
A2: SD | B2: OD | C2: Actie | D2: Omschrijving | E2: 2025 | F2: 2026 | G2: 2027 | H2: 2028 | I2: 2025 | J2: 2026 | K2: 2027 | L2: 2028 | M2: Verantw | N2: Ana-lytische code | O2: Indicator | P2: kosten | Q2: opbrengsten | R2: kosten | S2: opbrengsten | T2: kosten | U2: opbrengsten | V2: kosten | W2: opbrengsten | X2: kosten | Y2: opbrengsten | Z2: kosten | AA2: opbrengsten | AB2: kosten | AC2: opbrengsten | AD2: kosten | AE2: opbrengsten
P3: 2025 | Q3: 2025 | R3: 2026 | S3: 2026 | T3: 2027 | U3: 2027 | V3: 2028 | W3: 2028 | X3: 2025 | Y3: 2025 | Z3: 2026 | AA3: 2026 | AB3: 2027 | AC3: 2027 | AD3: 2028 | AE3: 2028
A4: SD1 - SMASH | D4: Badminton Vlaanderen wil de clubs een betere ondersteuning bieden (informatie en dienstverlening). | P4: =SUM(P5,P8,P11,P16) -> 15000 | Q4: =SUM(Q5,Q8,Q11,Q16) -> 0 | R4: =SUM(R5,R8,R11,R16) -> 14000 | S4: =SUM(S5,S8,S11,S16) -> 0 | T4: =SUM(T5,T8,T11,T16) -> 14000 | U4: =SUM(U5,U8,U11,U16) -> 0 | V4: =SUM(V5,V8,V11,V16) -> 14000 | W4: =SUM(W5,W8,W11,W16) -> 0 | ... AE4: =SUM(AE5,AE8,AE11,AE16) -> 0
B5: OD1 | D5: Er is een constante evaluatie van het R-kwaliteitslabel, ingevoerd voor badmintonclubs, waaraan subsidies gekoppeld worden op basis van een jaarlijks ingediend subsidiedossier. | O5: Aantal aanvragen | P5: =SUM(P6:P7) -> 12000 | Q5: =SUM(Q6:Q7) -> 0 | R5: =SUM(R6:R7) -> 12000 | S5: =SUM(S6:S7) -> 0 | T5: =SUM(T6:T7) -> 12000 | U5: =SUM(U6:U7) -> 0 | V5: =SUM(V6:V7) -> 12000 | W5: =SUM(W6:W7) -> 0 | ... AE5: =SUM(AE6:AE7) -> 0
C6: A1 | D6: Jaarlijkse evaluatie van het R-kwaliteitslabel | M6: Elien | N6: RSUB | P6: 0 | Q6: 0 | R6: 0 | S6: 0 | T6: 0 | U6: 0 | V6: 0 | W6: 0
C7: A2 | D7: Verwerking van de ingediende dossiers | M7: Elien | N7: RSUB | P7: 12000 | Q7: 0 | R7: 12000 | S7: 0 | T7: 12000 | U7: 0 | V7: 12000 | W7: 0
B8: OD2 | D8: Badminton Vlaanderen wil de recreantenkalender verder optimaliseren. | O8: Aantal recreantenchallenges | P8: =SUM(P9:P10) -> 0 | Q8: =SUM(Q9:Q10) -> 0 | R8: =SUM(R9:R10) -> 0 | S8: =SUM(S9:S10) -> 0 | T8: =SUM(T9:T10) -> 0 | U8: =SUM(U9:U10) -> 0 | V8: =SUM(V9:V10) -> 0 | W8: =SUM(W9:W10) -> 0 | ... AE8: =SUM(AE9:AE10) -> 0
C9: A1 | D9: Jaarlijks minstens 5 recreantenchallenges (tussen 2 clubs) ondersteunen en opvolgen | M9: Elien | N9: RAW | P9: 0 | Q9: 0 | R9: 0 | S9: 0 | T9: 0 | U9: 0 | V9: 0 | W9: 0
C10: A2 | D10: Ondersteuning geven recreatieve ontmoetingen / organisaties | M10: Elien | N10: RAW | P10: 0 | Q10: 0 | R10: 0 | S10: 0 | T10: 0 | U10: 0 | V10: 0 | W10: 0
B11: OD3 | D11: Badminton Vlaanderen biedt toegankelijke informatie aan op haar ledenbeheerplatform voor bestaande leden en clubs. | O11: Informatiedocument | P11: =SUM(P12:P15) -> 1000 | Q11: =SUM(Q12:Q15) -> 0 | R11: =SUM(R12:R15) -> 0 | S11: =SUM(S12:S15) -> 0 | T11: =SUM(T12:T15) -> 0 | U11: =SUM(U12:U15) -> 0 | V11: =SUM(V12:V15) -> 0 | W11: =SUM(W12:W15) -> 0 | ... AE11: =SUM(AE12:AE15) -> 0
C12: A1 | D12: Ontwikkelen en up to date houden van een informatiedocument omtrent gebruik en aankoop materiaal | M12: Elien | N12: RAW | P12: 250 | Q12: 0 | R12: 0 | S12: 0 | T12: 0 | U12: 0 | V12: 0 | W12: 0
C13: A2 | D13: Ontwikkelen en up to date houden van een informatiedocument omtrent techniek voor recreanten | M13: Elien | N13: RAW | P13: 250 | Q13: 0 | R13: 0 | S13: 0 | T13: 0 | U13: 0 | V13: 0 | W13: 0
C14: A3 | D14: Ontwikkelen en up to date houden van een informatiedocument omtrent tactiek voor recreanten | M14: Elien | N14: RAW | P14: 250 | Q14: 0 | R14: 0 | S14: 0 | T14: 0 | U14: 0 | V14: 0 | W14: 0
C15: A4 | D15: Visualiseren van de spelregels van badminton (C802) | M15: Elien | N15: RAW | P15: 250 | Q15: 0 | R15: 0 | S15: 0 | T15: 0 | U15: 0 | V15: 0 | W15: 0
B16: OD4 | D16: Badminton Vlaanderen zal jaarlijks minstens 30x specifiek over recreanten communiceren. | O16: Aantal communicaties omtrent recreanten | P16: =SUM(P17:P18) -> 2000 | Q16: =SUM(Q17:Q18) -> 0 | R16: =SUM(R17:R18) -> 2000 | S16: =SUM(S17:S18) -> 0 | T16: =SUM(T17:T18) -> 2000 | U16: =SUM(U17:U18) -> 0 | V16: =SUM(V17:V18) -> 2000 | W16: =SUM(W17:W18) -> 0 | ... AE16: =SUM(AE17:AE18) -> 0
C17: A1 | D17: De recreant krijgt op tweewekelijkse basis plaats in de online communicatie | M17: Geraldine | N17: RAW | P17: 0 | Q17: 0 | R17: 0 | S17: 0 | T17: 0 | U17: 0 | V17: 0 | W17: 0
C18: A2 | D18: Maandelijks zal er minstens 1x video en/of foto content van de recreant of een recreatieve activiteit 'in actie' gemaakt worden | M18: Geraldine | N18: RAW | P18: 2000 | Q18: 0 | R18: 2000 | S18: 0 | T18: 2000 | U18: 0 | V18: 2000 | W18: 0
A19: SD2 - LOB | D19: Badminton Vlaanderen wil tegen eind 2028 het aantal aangesloten recreatieve spelers verhogen met 15% (tov nulmeting 2024). | P19: =SUM(P20,P24,P28,P31,P33,P37) -> 4750 | Q19: =SUM(Q20,Q24,Q28,Q31,Q33,Q37) -> 0 | R19: =SUM(R20,R24,R28,R31,R33,R37) -> 2750 | S19: =SUM(S20,S24,S28,S31,S33,S37) -> 0 | T19: =SUM(T20,T24,T28,T31,T33,T37) -> 2750 | U19: =SUM(U20,U24,U28,U31,U33,U37) -> 0 | V19: =SUM(V20,V24,V28,V31,V33,V37) -> 2250 | W19: =SUM(W20,W24,W28,W31,W33,W37) -> 0 | ... AE19: =SUM(AE20,AE24,AE28,AE31,AE33,AE37) -> 0
B20: OD1 | D20: Badminton Vlaanderen organiseert jaarlijks een week van de recreatieve badmintonner. | O20: Evaluatie bevraging | P20: =SUM(P21:P23) -> 500 | Q20: =SUM(Q21:Q23) -> 0 | R20: =SUM(R21:R23) -> 500 | S20: =SUM(S21:S23) -> 0 | T20: =SUM(T21:T23) -> 500 | U20: =SUM(U21:U23) -> 0 | V20: =SUM(V21:V23) -> 0 | W20: =SUM(W21:W23) -> 0 | ... AE20: =SUM(AE21:AE23) -> 0
C21: A1 | D21: Uitwerken en uitvoeren communicatieplan | M21: Geraldine | N21: RAW | P21: 500 | Q21: 0 | R21: 500 | S21: 0 | T21: 500 | U21: 0 | V21: 0 | W21: 0
C22: A2 | D22: Organisatie week van de recreatieve badmintonner | M22: Elien | N22: RAW | P22: 0 | Q22: 0 | R22: 0 | S22: 0 | T22: 0 | U22: 0 | V22: 0 | W22: 0
C23: A3 | D23: Bevraging deelnemers en clubs/gemeentes | M23: Elien | N23: RAW | P23: 0 | Q23: 0 | R23: 0 | S23: 0 | T23: 0 | U23: 0 | V23: 0 | W23: 0
B24: OD2 | D24: Tegen eind 2028 wil Badminton Vlaanderen 4500 mensen laten proeven van badminton via Start 2 badminton. | O24: Aantal bereikte personen | P24: =SUM(P25:P27) -> 2000 | Q24: =SUM(Q25:Q27) -> 0 | R24: =SUM(R25:R27) -> 1500 | S24: =SUM(S25:S27) -> 0 | T24: =SUM(T25:T27) -> 1500 | U24: =SUM(U25:U27) -> 0 | V24: =SUM(V25:V27) -> 1500 | W24: =SUM(W25:W27) -> 0 | ... AE24: =SUM(AE25:AE27) -> 0
C25: A1 | D25: Ontwikkeling van een lessenreeks voor mensen die nog nooit gebadmintont hebben | M25: Elien | N25: RAW | P25: 500 | Q25: 0 | R25: 0 | S25: 0 | T25: 0 | U25: 0 | V25: 0 | W25: 0
C26: A2 | D26: Promotiestrategie uitbouwen | M26: Elien | N26: RAW | P26: 1500 | Q26: 0 | R26: 1500 | S26: 0 | T26: 1500 | U26: 0 | V26: 1500 | W26: 0
C27: A3 | D27: Ondersteunen clubs bij het zoeken van trainers voor de Start 2 Badminton lessenreeks | M27: Elien | N27: RAW | P27: 0 | Q27: 0 | R27: 0 | S27: 0 | T27: 0 | U27: 0 | V27: 0 | W27: 0
B28: OD3 | D28: Badminton Vlaanderen wil een onderzoek uitvoeren omtrent de motivatie van niet-aangesloten clubs. | O28: Analyse van bevraging | P28: =SUM(P29:P30) -> 0 | Q28: =SUM(Q29:Q30) -> 0 | R28: =SUM(R29:R30) -> 0 | S28: =SUM(S29:S30) -> 0 | T28: =SUM(T29:T30) -> 0 | U28: =SUM(U29:U30) -> 0 | V28: =SUM(V29:V30) -> 0 | W28: =SUM(W29:W30) -> 0 | ... AE28: =SUM(AE29:AE30) -> 0
C29: A1 | D29: Ontwikkelen van bevraging en deze uitsturen naar alle badmintonclubs | M29: Elien | N29: RAW | P29: 0 | Q29: 0 | R29: 0 | S29: 0 | T29: 0 | U29: 0 | V29: 0 | W29: 0
C30: A2 | D30: Analyse en rapportage van de verzamelde gegevens | M30: Elien | N30: RAW | P30: 0 | Q30: 0 | R30: 0 | S30: 0 | T30: 0 | U30: 0 | V30: 0 | W30: 0
B31: OD4 | D31: Badminton Vlaanderen wil een aanbod (co)creëren voor badmintonners die doorheen de dag de sport willen beoefenen. | O31: Aantal bereikte partners | P31: =SUM(P32) -> 250 | Q31: =SUM(Q32) -> 0 | R31: =SUM(R32) -> 250 | S31: =SUM(S32) -> 0 | T31: =SUM(T32) -> 250 | U31: =SUM(U32) -> 0 | V31: =SUM(V32) -> 250 | W31: =SUM(W32) -> 0 | ... AE31: =SUM(AE32) -> 0
C32: A1 | D32: Samenwerkingsstrategie uitbouwen tussen clubs en steden om doorstroom van nieuwe leden naar de clubs vanuit het stedelijke niet-federatie verbonden aanbod te verzekeren | M32: Elien | N32: RAW | P32: 250 | Q32: 0 | R32: 250 | S32: 0 | T32: 250 | U32: 0 | V32: 250 | W32: 0
B33: OD5 | D33: Badminton Vlaanderen wil het ondersteuningsaanbod voor senioren uitbreiden | O33: Ontwikkelen pakket senioren | P33: =SUM(P34:P36) -> 1500 | Q33: =SUM(Q34:Q36) -> 0 | R33: =SUM(R34:R36) -> 0 | S33: =SUM(S34:S36) -> 0 | T33: =SUM(T34:T36) -> 0 | U33: =SUM(U34:U36) -> 0 | V33: =SUM(V34:V36) -> 0 | W33: =SUM(W34:W36) -> 0 | ... AE33: =SUM(AE34:AE36) -> 0
C34: A1 | D34: Uitwerken van een lessenpakket voor senioren | M34: Elien | N34: RAW | P34: 500 | Q34: 0 | R34: 0 | S34: 0 | T34: 0 | U34: 0 | V34: 0 | W34: 0
C35: A2 | D35: Opzetten promotiestrategie voor ondersteuningsaanbod | M35: Elien | N35: RAW | P35: 500 | Q35: 0 | R35: 0 | S35: 0 | T35: 0 | U35: 0 | V35: 0 | W35: 0
C36: A3 | D36: Database seniorenwerkingen in Vlaanderen opzetten | M36: Elien | N36: RAW | P36: 500 | Q36: 0 | R36: 0 | S36: 0 | T36: 0 | U36: 0 | V36: 0 | W36: 0
B37: OD6 | D37: Badminton Vlaanderen wil actief studenten betrekken in de recreatieve werking. | O37: Aantal promotieactiviteiten voor studenten | P37: =SUM(P38:P39) -> 500 | Q37: =SUM(Q38:Q39) -> 0 | R37: =SUM(R38:R39) -> 500 | S37: =SUM(S38:S39) -> 0 | T37: =SUM(T38:T39) -> 500 | U37: =SUM(U38:U39) -> 0 | V37: =SUM(V38:V39) -> 500 | W37: =SUM(W38:W39) -> 0 | ... AE37: =SUM(AE38:AE39) -> 0
C38: A1 | D38: Samenwerking met alle hoger onderwijs instellingen die badminton aanbieden | M38: Elien | N38: RAW | P38: 500 | Q38: 0 | R38: 500 | S38: 0 | T38: 500 | U38: 0 | V38: 500 | W38: 0
C39: A2 | D39: We promoten minstens 4 keer per jaar het aanbod voor recreatieve studenten | M39: Elien | N39: RAW | P39: 0 | Q39: 0 | R39: 0 | S39: 0 | T39: 0 | U39: 0 | V39: 0 | W39: 0
P40: =SUM(P4,P19) -> 19750 | Q40: =SUM(Q4,Q19) -> 0 | R40: =SUM(R4,R19) -> 16750 | S40: =SUM(S4,S19) -> 0 | T40: =SUM(T4,T19) -> 16750 | U40: =SUM(U4,U19) -> 0 | V40: =SUM(V4,V19) -> 16250 | W40: =SUM(W4,W19) -> 0 | ... AE40: =SUM(AE4,AE19) -> 0

Sheet Innovatie
A1: Badminton Vlaanderen / Innovatie | E1: Timing | I1: Status uitvoering actie/doelstelling | P1: Begroting | X1: Status resultatenrekening
A2: SD | B2: OD | C2: Actie | D2: Omschrijving | E2: 2025 | F2: 2026 | G2: 2027 | H2: 2028 | I2: 2025 | J2: 2026 | K2: 2027 | L2: 2028 | M2: Verantw | N2: Ana-lytische code | O2: Indicator | P2: kosten | Q2: opbrengsten | R2: kosten | S2: opbrengsten | T2: kosten | U2: opbrengsten | V2: kosten | W2: opbrengsten | X2: kosten | Y2: opbrengsten | Z2: kosten | AA2: opbrengsten | AB2: kosten | AC2: opbrengsten | AD2: kosten | AE2: opbrengsten
P3: 2025 | Q3: 2025 | R3: 2026 | S3: 2026 | T3: 2027 | U3: 2027 | V3: 2028 | W3: 2028 | X3: 2025 | Y3: 2025 | Z3: 2026 | AA3: 2026 | AB3: 2027 | AC3: 2027 | AD3: 2028 | AE3: 2028
A4: SD1 - LOB | D4: We vergroten bekendheid en toegankelijkheid van onze sport via Airbadminton. | P4: =SUM(P5,P8) -> 22500 | Q4: =SUM(Q5,Q8) -> 17000 | R4: =SUM(R5,R8) -> 21500 | S4: =SUM(S5,S8) -> 17000 | T4: =SUM(T5,T8) -> 21500 | U4: =SUM(U5,U8) -> 14000 | V4: =SUM(V5,V8) -> 21500 | W4: =SUM(W5,W8) -> 14000 | ... AE4: =SUM(AE5,AE8) -> 0
B5: OD1 | D5: Badminton Vlaanderen beheert een digitaal platform met e-commerce dat zal dienen ter ondersteuning van de promotie van Airbadminton. | O5: Aantal bereikte leden | P5: =SUM(P6:P7) -> 11000 | Q5: =SUM(Q6:Q7) -> 5000 | R5: =SUM(R6:R7) -> 11000 | S5: =SUM(S6:S7) -> 5000 | T5: =SUM(T6:T7) -> 11000 | U5: =SUM(U6:U7) -> 5000 | V5: =SUM(V6:V7) -> 11000 | W5: =SUM(W6:W7) -> 5000 | ... AE5: =SUM(AE6:AE7) -> 0
C6: A1 | D6: Beheren van de e-commerce. | M6: Elien | N6: INNO | P6: 10000 | Q6: 5000 | R6: 10000 | S6: 5000 | T6: 10000 | U6: 5000 | V6: 10000 | W6: 5000
C7: A2 | D7: Uitvoeren communicatieplan ter promotie van de e-commerce. | M7: Elien | N7: INNO | P7: 1000 | Q7: 0 | R7: 1000 | S7: 0 | T7: 1000 | U7: 0 | V7: 1000 | W7: 0
B8: OD2 | D8: Badminton Vlaanderen wil tegen eind 2028 in elke Vlaamse provincie minstens 8 Let’s Play netten hebben geïnstalleerd. | O8: Aantal geplaatste Let's Play netten | P8: =SUM(P9:P11) -> 11500 | Q8: =SUM(Q9:Q11) -> 12000 | R8: =SUM(R9:R11) -> 10500 | S8: =SUM(S9:S11) -> 12000 | T8: =SUM(T9:T11) -> 10500 | U8: =SUM(U9:U11) -> 9000 | V8: =SUM(V9:V11) -> 10500 | W8: =SUM(W9:W11) -> 9000 | ... AE8: =SUM(AE9:AE11) -> 0
C9: A1 | D9: Uitwerken en uitvoeren promotiecampagne. | M9: Geraldine | N9: INNO | P9: 2500 | Q9: 0 | R9: 1500 | S9: 0 | T9: 1500 | U9: 0 | V9: 1500 | W9: 0
C10: A2 | D10: Installeren Let's Play netten. | M10: Elien | N10: INNO | P10: 9000 | Q10: 12000 | R10: 9000 | S10: 12000 | T10: 9000 | U10: 9000 | V10: 9000 | W10: 9000
C11: A3 | D11: Bevragen van de gemeente die een Let's Play net hebben geïnstalleerd. | M11: Elien | N11: INNO | P11: 0 | Q11: 0 | R11: 0 | S11: 0 | T11: 0 | U11: 0 | V11: 0 | W11: 0
A12: SD2 - LOB | D12: Badminton Vlaanderen organiseert in samenwerking met hun clubs en partners verschillende AirBadminton evenementen, waarbij de gebonden en ongebonden sporter op een laagdrempelige manier AirBadminton kan leren kennen. | P12: =SUM(P13,P17) -> 4500 | Q12: =SUM(Q13,Q17) -> 4250 | R12: =SUM(R13,R17) -> 4500 | S12: =SUM(S13,S17) -> 4250 | T12: =SUM(T13,T17) -> 4500 | U12: =SUM(U13,U17) -> 4250 | V12: =SUM(V13,V17) -> 4500 | W12: =SUM(W13,W17) -> 4250 | ... AE12: =SUM(AE13,AE17) -> 0
B13: OD1 | D13: Badminton Vlaanderen coördineert jaarlijks minstens 15 initiaties voor kinderen en bereikt hier jaarlijks 400 deelnemers mee. | O13: Aantal initiaties | P13: =SUM(P14:P16) -> 1500 | Q13: =SUM(Q14:Q16) -> 3750 | R13: =SUM(R14:R16) -> 1500 | S13: =SUM(S14:S16) -> 3750 | T13: =SUM(T14:T16) -> 1500 | U13: =SUM(U14:U16) -> 3750 | V13: =SUM(V14:V16) -> 1500 | W13: =SUM(W14:W16) -> 3750 | ... AE13: =SUM(AE14:AE16) -> 0
C14: A1 | D14: Aanschrijven gemeentes en scholen. | M14: Elien | N14: INNO | P14: 0 | Q14: 0 | R14: 0 | S14: 0 | T14: 0 | U14: 0 | V14: 0 | W14: 0
C15: A2 | D15: Uitvoeren van de initiatielessen. | M15: Elien | N15: INNO | P15: 1500 | Q15: 3750 | R15: 1500 | S15: 3750 | T15: 1500 | U15: 3750 | V15: 1500 | W15: 3750
C16: A3 | D16: Bevragen van de deelnemers en organisatoren. | M16: Elien | N16: INNO | P16: 0 | Q16: 0 | R16: 0 | S16: 0 | T16: 0 | U16: 0 | V16: 0 | W16: 0
B17: OD2 | D17: Badminton Vlaanderen coördineert jaarlijks een tornooi Airbadminton. | O17: Organisatie event | P17: =SUM(P18:P21) -> 3000 | Q17: =SUM(Q18:Q21) -> 500 | R17: =SUM(R18:R21) -> 3000 | S17: =SUM(S18:S21) -> 500 | T17: =SUM(T18:T21) -> 3000 | U17: =SUM(U18:U21) -> 500 | V17: =SUM(V18:V21) -> 3000 | W17: =SUM(W18:W21) -> 500 | ... AE17: =SUM(AE18:AE21) -> 0
C18: A1 | D18: Zoeken van een locatie en datum voor het tornooi. | M18: Elien | N18: INNO | P18: 0 | Q18: 0 | R18: 0 | S18: 0 | T18: 0 | U18: 0 | V18: 0 | W18: 0
C19: A2 | D19: Uitwerken en uitvoeren van een communicatieplan. | M19: Geraldine | N19: INNO | P19: 1000 | Q19: 0 | R19: 1000 | S19: 0 | T19: 1000 | U19: 0 | V19: 1000 | W19: 0
C20: A3 | D20: Organisatie van het event. | M20: Elien | N20: INNO | P20: 2000 | Q20: 500 | R20: 2000 | S20: 500 | T20: 2000 | U20: 500 | V20: 2000 | W20: 500
C21: A4 | D21: Bevragen van de deelnemers en partners. | M21: Elien | N21: INNO | P21: 0 | Q21: 0 | R21: 0 | S21: 0 | T21: 0 | U21: 0 | V21: 0 | W21: 0
A22: SD3 - PUSH | D22: Badminton Vlaanderen ontwikkelt een box om uit te lenen met Airbadmintonmateriaal. | P22: =SUM(P23,P26,P29) -> 700 | Q22: =SUM(Q23,Q26,Q29) -> 1000 | R22: =SUM(R23,R26,R29) -> 600 | S22: =SUM(S23,S26,S29) -> 1000 | T22: =SUM(T23,T26,T29) -> 600 | U22: =SUM(U23,U26,U29) -> 1000 | V22: =SUM(V23,V26,V29) -> 600 | W22: =SUM(W23,W26,W29) -> 1000 | ... AE22: =SUM(AE23,AE26,AE29) -> 0
B23: OD1 | D23: Badminton Vlaanderen stelt tegen september 2025 een uitleenbox van Airbadminton samen. | O23: Uitleenboxen samenstellen | P23: =SUM(P24:P25) -> 100 | Q23: =SUM(Q24:Q25) -> 0 | R23: =SUM(R24:R25) -> 0 | S23: =SUM(S24:S25) -> 0 | T23: =SUM(T24:T25) -> 0 | U23: =SUM(U24:U25) -> 0 | V23: =SUM(V24:V25) -> 0 | W23: =SUM(W24:W25) -> 0 | ... AE23: =SUM(AE24:AE25) -> 0
C24: A1 | D24: Uitwerken van lessenpakket. | M24: Elien | N24: INNO | P24: 100 | Q24: 0 | R24: 0 | S24: 0 | T24: 0 | U24: 0 | V24: 0 | W24: 0
C25: A2 | D25: Samenstellen boxen. | M25: Elien | N25: INNO | P25: 0 | Q25: 0 | R25: 0 | S25: 0 | T25: 0 | U25: 0 | V25: 0 | W25: 0
B26: OD2 | D26: Badminton Vlaanderen zoekt partners die deze box uitleent bij haar klanten. | O26: Aantal partners | P26: =SUM(P27:P28) -> 100 | Q26: =SUM(Q27:Q28) -> 0 | R26: =SUM(R27:R28) -> 100 | S26: =SUM(S27:S28) -> 0 | T26: =SUM(T27:T28) -> 100 | U26: =SUM(U27:U28) -> 0 | V26: =SUM(V27:V28) -> 100 | W26: =SUM(W27:W28) -> 0 | ... AE26: =SUM(AE27:AE28) -> 0
C27: A1 | D27: Contacteren partners (MOEV, Sportpret, …). | M27: Elien | N27: INNO | P27: 0 | Q27: 0 | R27: 0 | S27: 0 | T27: 0 | U27: 0 | V27: 0 | W27: 0
C28: A2 | D28: Boxes tot bij de partners brengen. | M28: Elien | N28: INNO | P28: 100 | Q28: 0 | R28: 100 | S28: 0 | T28: 100 | U28: 0 | V28: 100 | W28: 0
B29: OD3 | D29: Badminton Vlaanderen brengt via deze uitleenboxen jaarlijks 300 personen in contact met Airbadminton. | O29: Aantal bereikte personen | P29: =SUM(P30:P32) -> 500 | Q29: =SUM(Q30:Q32) -> 1000 | R29: =SUM(R30:R32) -> 500 | S29: =SUM(S30:S32) -> 1000 | T29: =SUM(T30:T32) -> 500 | U29: =SUM(U30:U32) -> 1000 | V29: =SUM(V30:V32) -> 500 | W29: =SUM(W30:W32) -> 1000 | ... AE29: =SUM(AE30:AE32) -> 0
C30: A1 | D30: Beheren van de uitleenboxes (uitlenen, materiaal altijd in orde). | M30: Elien | N30: INNO | P30: 500 | Q30: 1000 | R30: 500 | S30: 1000 | T30: 500 | U30: 1000 | V30: 500 | W30: 1000
C31: A2 | D31: Data verzamelen deelnemers. | M31: Elien | N31: INNO | P31: 0 | Q31: 0 | R31: 0 | S31: 0 | T31: 0 | U31: 0 | V31: 0 | W31: 0
C32: A3 | D32: Bevragen van de deelnemers en partners. | M32: Elien | N32: INNO | P32: 0 | Q32: 0 | R32: 0 | S32: 0 | T32: 0 | U32: 0 | V32: 0 | W32: 0
P33: =SUM(P22,P12,P4) -> 27700 | Q33: =SUM(Q22,Q12,Q4) -> 22250 | R33: =SUM(R22,R12,R4) -> 26600 | S33: =SUM(S22,S12,S4) -> 22250 | T33: =SUM(T22,T12,T4) -> 26600 | U33: =SUM(U22,U12,U4) -> 19250 | V33: =SUM(V22,V12,V4) -> 26600 | W33: =SUM(W22,W12,W4) -> 19250 | ... AE33: =SUM(AE22,AE12,AE4) -> 0

Sheet Officials
A1: Badminton Vlaanderen / Officials | E1: Timing | I1: Status uitvoering actie/doelstelling | P1: Begroting | X1: Status resultatenrekening
A2: SD | B2: OD | C2: Actie | D2: Omschrijving | E2: 2025 | F2: 2026 | G2: 2027 | H2: 2028 | I2: 2025 | J2: 2026 | K2: 2027 | L2: 2028 | M2: Verantw | N2: Ana-lytische code | O2: Indicator | P2: kosten 2025 | Q2: opbrengsten 2025 | R2: kosten 2026 | S2: opbrengsten 2026 | T2: kosten 2027 | U2: opbrengsten 2027 | V2: kosten 2028 | W2: opbrengsten 2028 | X2: kosten 2025 | Y2: opbrengsten 2025 | Z2: kosten 2026 | AA2: opbrengsten 2026 | AB2: kosten 2027 | AC2: opbrengsten 2027 | AD2: kosten 2028 | AE2: opbrengsten 2028
A3: SD1 - PUSH | D3: Ontwikkelen van een gestructureerd traject binnen de werking van Badminton Vlaanderen om jeugdofficials te ondersteunen en te stimuleren, als antwoord op het dalende aantal officials. | P3: =SUM(P4,P7,P10) -> 1000 | Q3: =SUM(Q4,Q7,Q10) -> 0 | R3: =SUM(R4,R7,R10) -> 0 | S3: =SUM(S4,S7,S10) -> 0 | T3: =SUM(T4,T7,T10) -> 2500 | U3: =SUM(U4,U7,U10) -> 0 | V3: =SUM(V4,V7,V10) -> 2500 | W3: =SUM(W4,W7,W10) -> 0 | ... AE3: =SUM(AE4,AE7,AE10) -> 0
B4: OD1 | D4: Ontwikkelen van beleid omtrent jeugdofficials binnen Badminton Vlaanderen. | O4: Analyse van verschillende doelgroepen | P4: =SUM(P5:P6) -> 1000 | Q4: =SUM(Q5:Q6) -> 0 | R4: =SUM(R5:R6) -> 0 | S4: =SUM(S5:S6) -> 0 | T4: =SUM(T5:T6) -> 0 | U4: =SUM(U5:U6) -> 0 | V4: =SUM(V5:V6) -> 0 | W4: =SUM(W5:W6) -> 0 | ... AE4: =SUM(AE5:AE6) -> 0
C5: A1 | D5: Analyseren van de behoeften binnen de verschillende doelgroepen | M5: Pieter-Jan | N5: POFF | P5: 500 | Q5: 0 | R5: 0 | S5: 0 | T5: 0 | U5: 0 | V5: 0 | W5: 0
C6: A2 | D6: Ontwikkelen van een geintegreerd jeugdbeleid binnen de algemene werking van Badminton Vlaanderen | M6: Pieter-Jan | N6: POFF | P6: 500 | Q6: 0 | R6: 0 | S6: 0 | T6: 0 | U6: 0 | V6: 0 | W6: 0
B7: OD2 | D7: Implementeren van jeugdofficialbeleid binnen de algemene werking van Badminton Vlaanderen. | O7: Acties ter promotie | P7: =SUM(P8:P9) -> 0 | Q7: =SUM(Q8:Q9) -> 0 | R7: =SUM(R8:R9) -> 0 | S7: =SUM(S8:S9) -> 0 | T7: =SUM(T8:T9) -> 0 | U7: =SUM(U8:U9) -> 0 | V7: =SUM(V8:V9) -> 0 | W7: =SUM(W8:W9) -> 0 | ... AE7: =SUM(AE8:AE9) -> 0
C8: A1 | D8: Sensibiliserende actie (opleiding) naar ouders en spelers toe | M8: Pieter-Jan | N8: POFF | P8: 0 | Q8: 0 | R8: 0 | S8: 0 | T8: 0 | U8: 0 | V8: 0 | W8: 0
C9: A2 | D9: Aftoetsen van jeugdofficialbeleid ten aanzien van andere clusters | M9: Pieter-Jan | N9: POFF | P9: 0 | Q9: 0 | R9: 0 | S9: 0 | T9: 0 | U9: 0 | V9: 0 | W9: 0
B10: OD3 | D10: Ontwikkelen van een opleidingsprogramma voor jeugdofficials. | O10: Aantal inschrijvingen | P10: =SUM(P11:P12) -> 0 | Q10: =SUM(Q11:Q12) -> 0 | R10: =SUM(R11:R12) -> 0 | S10: =SUM(S11:S12) -> 0 | T10: =SUM(T11:T12) -> 2500 | U10: =SUM(U11:U12) -> 0 | V10: =SUM(V11:V12) -> 2500 | W10: =SUM(W11:W12) -> 0 | ... AE10: =SUM(AE11:AE12) -> 0
C11: A1 | D11: Opstarten van module 1 van opleidingsprogramma | M11: Pieter-Jan | N11: POFF | P11: 0 | Q11: 0 | R11: 0 | S11: 0 | T11: 1500 | U11: 0 | V11: 1500 | W11: 0
C12: A2 | D12: Opstarten van module 2 van opleidingsprogramma | M12: Pieter-Jan | N12: POFF | P12: 0 | Q12: 0 | R12: 0 | S12: 0 | T12: 1000 | U12: 0 | V12: 1000 | W12: 0
A13: SD2 - PUSH | D13: Instroom/doorstroom van officials vergroten ter ondersteuning van tornooien en interclubcompetities. | P13: =SUM(P14,P20,P23,P30,P33,P35,P41,P38) -> 17350 | Q13: =SUM(Q14,Q20,Q23,Q30,Q33,Q35,Q41) -> 2700 | R13: =SUM(R14,R20,R23,R30,R33,R35,R41,40) -> 17640 | S13: =SUM(S14,S20,S23,S30,S33,S35,S41,40) -> 2740 | T13: =SUM(T14,T20,T23,T30,T33,T35,T41,40) -> 17490 | U13: =SUM(U14,U20,U23,U30,U33,U35,U41,40) -> 2740 | V13: =SUM(V14,V20,V23,V30,V33,V35,V41,40) -> 17740 | W13: =SUM(W14,W20,W23,W30,W33,W35,W41,40) -> 2740 | X13: =SUM(X14,X20,X23,X30,X33,X35,X41) -> 0 | Y13: =SUM(Y14,Y20,Y23,Y30,Y33,Y35,Y41) -> 0 | Z13: =SUM(Z14,Z20,Z23,Z30,Z33,Z35,Z41) -> 0 | AA13: =SUM(AA14,AA20,AA23,AA30,AA33,AA35,AA41) -> 0 | AB13: =SUM(AB14,AB20,AB23,AB30,AB33,AB35,AB41) -> 0 | AC13: =SUM(AC14,AC20,AC23,AC30,AC33,AC35,AC41) -> 0 | AD13: =SUM(AD14,AD20,AD23,AD30,AD33,AD35,AD41) -> 0 | AE13: =SUM(AE14,AE20,AE23,AE30,AE33,AE35,AE41) -> 0
B14: OD1 | D14: Permanente vorming van officials. | O14: Aantal vormingen per cluster | P14: =SUM(P15:P19) -> 4300 | Q14: =SUM(Q15:Q19) -> 2100 | R14: =SUM(R15:R19) -> 4300 | S14: =SUM(S15:S19) -> 2100 | T14: =SUM(T15:T19) -> 4800 | U14: =SUM(U15:U19) -> 2100 | V14: =SUM(V15:V19) -> 4800 | W14: =SUM(W15:W19) -> 2100 | ... AE14: =SUM(AE15:AE19) -> 0
C15: A1 | D15: minstens 1 opleiding voor UM per jaar | M15: Koen | N15: POFF | P15: 1250 | Q15: 300 | R15: 1250 | S15: 300 | T15: 1250 | U15: 300 | V15: 1250 | W15: 300
C16: A2 | D16: minstens 1 opleiding voor REF per jaar | M16: Koen | N16: POFF | P16: 1650 | Q16: 300 | R16: 1650 | S16: 300 | T16: 1650 | U16: 300 | V16: 1650 | W16: 300
C17: A3 | D17: minstens 1 opleiding voor LJ per jaar | M17: Koen | N17: POFF | P17: 200 | Q17: 0 | R17: 200 | S17: 0 | T17: 200 | U17: 0 | V17: 200 | W17: 0
C18: A4 | D18: minstens 1 opleiding jeugdofficials per jaar | M18: Koen | N18: POFF | P18: 0 | Q18: 0 | R18: 0 | S18: 0 | T18: 500 | U18: 0 | V18: 500 | W18: 0
C19: A5 | D19: minstens 2 opleidingen voor WL per jaar | M19: Jeroen | N19: POFF | P19: 1200 | Q19: 1500 | R19: 1200 | S19: 1500 | T19: 1200 | U19: 1500 | V19: 1200 | W19: 1500
B20: OD2 | D20: Tegen 2026 worden de opleidingen voor UM/REF/WL gedeeltelijk gedigitaliseerd. | O20: Percentage van digitalisatie van cursus | P20: =SUM(P21:P22) -> 0 | Q20: =SUM(Q21:Q22) -> 0 | R20: =SUM(R21:R22) -> 200 | S20: =SUM(S21:S22) -> 0 | T20: =SUM(T21:T22) -> 0 | U20: =SUM(U21:U22) -> 0 | V20: =SUM(V21:V22) -> 200 | W20: =SUM(W21:W22) -> 0 | ... AE20: =SUM(AE21:AE22) -> 0
C21: A2 | D21: Vanaf 2026 wordt de opleiding UM voor het deel theorie 75% digitaal en 25% face to face gegeven | M21: Koen | N21: POFF | P21: 0 | Q21: 0 | R21: 200 | S21: 0 | T21: 0 | U21: 0 | V21: 0 | W21: 0
C22: A3 | D22: Vanaf 2027 wordt de opleiding REF voor het deel theorie 75% digitaal en 25% face to face gegeven | M22: Koen | N22: POFF | P22: 0 | Q22: 0 | R22: 0 | S22: 0 | T22: 0 | U22: 0 | V22: 200 | W22: 0
B23: OD3 | D23: Badminton Vlaanderen zet in op sensibilisering en rekrutering van officials. | O23: Aantal acties voor officials | P23: =SUM(P24:P29) -> 2000 | Q23: =SUM(Q24:Q29) -> 0 | R23: =SUM(R24:R29) -> 2000 | S23: =SUM(S24:S29) -> 0 | T23: =SUM(T24:T29) -> 2000 | U23: =SUM(U24:U29) -> 0 | V23: =SUM(V24:V29) -> 2000 | W23: =SUM(W24:W29) -> 0 | ... AE23: =SUM(AE24:AE29) -> 0
C24: A1 | D24: Jaarlijks 20 berichten posten op sociale media over officials | M24: Geraldine/Koen | N24: CWFC | P24: 0 | Q24: 0 | R24: 0 | S24: 0 | T24: 0 | U24: 0 | V24: 0 | W24: 0
C25: A2 | D25: Deelname aan ‘de week van de official’ | M25: Geraldine/Koen | N25: CWFC | P25: 750 | Q25: 0 | R25: 750 | S25: 0 | T25: 750 | U25: 0 | V25: 750 | W25: 0
C26: A3 | D26: UM/REF/LR hebben gratis toegang tot grote evenementen georganiseerd door Badminton Vlaanderen | M26: Koen | N26: CWFC | P26: 0 | Q26: 0 | R26: 0 | S26: 0 | T26: 0 | U26: 0 | V26: 0 | W26: 0
C27: A4 | D27: ten minste 1 teambuildingdag organiseren per jaar | M27: Koen | N27: POFF | P27: 1000 | Q27: 0 | R27: 1000 | S27: 0 | T27: 1000 | U27: 0 | V27: 1000 | W27: 0
C28: A5 | D28: Organisatie van online webinar voor rekrutering van nieuwe officials | M28: Koen | N28: POFF | P28: 0 | Q28: 0 | R28: 0 | S28: 0 | T28: 0 | U28: 0 | V28: 0 | W28: 0
C29: A6 | D29: minstens 3 nieuwsbrieven voor officials per jaar uitgeven | M29: Koen | N29: CWFC | P29: 250 | Q29: 0 | R29: 250 | S29: 0 | T29: 250 | U29: 0 | V29: 250 | W29: 0
B30: OD4 | D30: Een permanente, individuele evaluatie en ondersteuning . | O30: Totaal aantal evaluaties | P30: =SUM(P31:P32) -> 1500 | Q30: =SUM(Q31:Q32) -> 0 | R30: =SUM(R31:R32) -> 1500 | S30: =SUM(S31:S32) -> 0 | T30: =SUM(T31:T32) -> 1500 | U30: =SUM(U31:U32) -> 0 | V30: =SUM(V31:V32) -> 1500 | W30: =SUM(W31:W32) -> 0 | ... AE30: =SUM(AE31:AE32) -> 0
C31: A1 | D31: minstens 1 individuele evaluatie en begeleiding per UM per 3 jaar | M31: Koen | N31: POFF | P31: 1000 | Q31: 0 | R31: 1000 | S31: 0 | T31: 1000 | U31: 0 | V31: 1000 | W31: 0
C32: A2 | D32: minstens 1 individuele evaluatie en begeleiding per REF per 3 jaar | M32: Koen | N32: POFF | P32: 500 | Q32: 0 | R32: 500 | S32: 0 | T32: 500 | U32: 0 | V32: 500 | W32: 0
B33: OD5 | D33: Officials uitzenden naar internationale tornooien. | O33: Aantal uitzendingen naar internationale tornooien | P33: =SUM(P34) -> 5550 | Q33: =SUM(Q34) -> 600 | R33: =SUM(R34) -> 5600 | S33: =SUM(S34) -> 600 | T33: =SUM(T34) -> 5650 | U33: =SUM(U34) -> 600 | V33: =SUM(V34) -> 5700 | W33: =SUM(W34) -> 600 | ... AE33: =SUM(AE34) -> 0
C34: A1 | D34: per jaar worden er minstens 20 verschillende UM/REF/LR uitgezonden naar internationale tornooien | M34: Koen | N34: CWFC | P34: 5550 | Q34: 600 | R34: 5600 | S34: 600 | T34: 5650 | U34: 600 | V34: 5700 | W34: 600
B35: OD6 | D35: Jaarlijkse bijscholingen voor UM-REF-WL organiseren. | O35: Aantal bijscholingen per jaar | P35: =SUM(P36:P37) -> 1500 | Q35: =SUM(Q36:Q37) -> 0 | R35: =SUM(R36:R37) -> 1500 | S35: =SUM(S36:S37) -> 0 | T35: =SUM(T36:T37) -> 1500 | U35: =SUM(U36:U37) -> 0 | V35: =SUM(V36:V37) -> 1500 | W35: =SUM(W36:W37) -> 0 | ... AE35: =SUM(AE36:AE37) -> 0
C36: A1 | D36: minstens 1 bijscholing per jaar voor UM/LR | M36: Koen | N36: POFF | P36: 1000 | Q36: 0 | R36: 1000 | S36: 0 | T36: 1000 | U36: 0 | V36: 1000 | W36: 0
C37: A2 | D37: minstens 1 bijscholing voor REF per jaar | M37: Koen | N37: POFF | P37: 500 | Q37: 0 | R37: 500 | S37: 0 | T37: 500 | U37: 0 | V37: 500 | W37: 0
B38: OD7 | D38: Ontwikkelen van digitale module voor opvolging officials | O38: Ontwikkelde module tegen 2027 | P38: =SUM(P39:P40) -> 2500 | Q38: =SUM(Q39:Q40) -> 0 | R38: =SUM(R39:R40) -> 0 | S38: =SUM(S39:S40) -> 0 | T38: =SUM(T39:T40) -> 0 | U38: =SUM(U39:U40) -> 0 | V38: =SUM(V39:V40) -> 0 | W38: =SUM(W39:W40) -> 0 | ... AE38: =SUM(AE39:AE40) -> 0
C39: A1 | D39: Ontwikkelen van digitale module | M39: Koen | N39: POFF | P39: 2500 | Q39: 0 | R39: 0 | S39: 0 | T39: 0 | U39: 0 | V39: 0 | W39: 0
C40: A2 | D40: Implementatie van digitale module | M40: Koen | N40: POFF | P40: 0 | Q40: 0 | R40: 0 | S40: 0 | T40: 0 | U40: 0 | V40: 0 | W40: 0
B41: OD8 | D41: Professionaliseren van een Badminton Umpire Panel (BUP) voor het leiden van een wedstrijd. | O41: Ontwikkelen module BUP tegen 2026 | P41: =SUM(P42:P43) -> 0 | Q41: =SUM(Q42:Q43) -> 0 | R41: =SUM(R42:R43) -> 2500 | S41: =SUM(S42:S43) -> 0 | T41: =SUM(T42:T43) -> 2000 | U41: =SUM(U42:U43) -> 0 | V41: =SUM(V42:V43) -> 2000 | W41: =SUM(W42:W43) -> 0 | ... AE41: =SUM(AE42:AE43) -> 0
C42: A1 | D42: Ontwikkelen van BUP voor Badminton Vlaanderen | M42: Koen | N42: CWFC | P42: 0 | Q42: 0 | R42: 500 | S42: 0 | T42: 0 | U42: 0 | V42: 0 | W42: 0
C43: A2 | D43: Aanbieden en ondersteunen van BUP aan alle clubs ter gebruik op tornooien | M43: Koen | N43: CWFC | P43: 0 | Q43: 0 | R43: 2000 | S43: 0 | T43: 2000 | U43: 0 | V43: 2000 | W43: 0
P44: =SUM(P3,P13) -> 18350 | Q44: =SUM(Q3,Q13) -> 2700 | R44: =SUM(R3,R13) -> 17640 | S44: =SUM(S3,S13) -> 2740 | T44: =SUM(T3,T13) -> 19990 | U44: =SUM(U3,U13) -> 2740 | V44: =SUM(V3,V13) -> 20240 | W44: =SUM(W3,W13) -> 2740 | ... AE44: =SUM(AE3,AE13) -> 0

Sheet Communicatie
A1: Badminton Vlaanderen / Communicatie | E1: Timing | I1: Status uitvoering actie/doelstelling | P1: Begroting | X1: Status resultatenrekening
A2: SD | B2: OD | C2: Actie | D2: Omschrijving | E2: 2025 | F2: 2026 | G2: 2027 | H2: 2028 | I2: 2025 | J2: 2026 | K2: 2027 | L2: 2028 | M2: Verantw | N2: Ana-lytische code | O2: Indicator | P2: kosten | Q2: opbrengsten | R2: kosten | S2: opbrengsten | T2: kosten | U2: opbrengsten | V2: kosten | W2: opbrengsten | X2: kosten | Y2: opbrengsten | Z2: kosten | AA2: opbrengsten | AB2: kosten | AC2: opbrengsten | AD2: kosten | AE2: opbrengsten
P3: 2025 | Q3: 2025 | R3: 2026 | S3: 2026 | T3: 2027 | U3: 2027 | V3: 2028 | W3: 2028 | X3: 2025 | Y3: 2025 | Z3: 2026 | AA3: 2026 | AB3: 2027 | AC3: 2027 | AD3: 2028 | AE3: 2028
A4: SD1 - PUSH | D4: Opbouwen van een onderscheidende en relevante positie bij klanten & stakeholders. (= Positioneringsstrategie) | P4: =SUM(P5,P7) -> 7750 | Q4: =SUM(Q5,Q7) -> 0 | R4: =SUM(R5,R7) -> 5500 | S4: =SUM(S5,S7) -> 0 | T4: =SUM(T5,T7) -> 4500 | U4: =SUM(U5,U7) -> 0 | V4: =SUM(V5,V7) -> 4500 | W4: =SUM(W5,W7) -> 0 | ... AE4: =SUM(AE5,AE7) -> 0
B5: OD1 | D5: Implementatie van het nieuwe logo op alle draaghouders. | O5: Visuele tentoonstelling logo | P5: =SUM(P6) -> 6250 | Q5: =SUM(Q6) -> 0 | R5: =SUM(R6) -> 4000 | S5: =SUM(S6) -> 0 | T5: =SUM(T6) -> 3000 | U5: =SUM(U6) -> 0 | V5: =SUM(V6) -> 3000 | W5: =SUM(W6) -> 0 | ... AE5: =SUM(AE6) -> 0
C6: A1 | D6: Ontwerp en bestellen van marketing materiaal (bv bestickering nieuwe crew van, notitieboekjes, textiel, ...) | M6: Geraldine | N6: XCOM | P6: 6250 | Q6: 0 | R6: 4000 | S6: 0 | T6: 3000 | U6: 0 | V6: 3000 | W6: 0
B7: OD2 | D7: Communicatie- & Marketingacties worden opgezet om het merk Badminton Vlaanderen te activeren. | O7: Aantal winacties | P7: =SUM(P8) -> 1500 | Q7: =SUM(Q8) -> 0 | R7: =SUM(R8) -> 1500 | S7: =SUM(S8) -> 0 | T7: =SUM(T8) -> 1500 | U7: =SUM(U8) -> 0 | V7: =SUM(V8) -> 1500 | W7: =SUM(W8) -> 0 | ... AE7: =SUM(AE8) -> 0
C8: A1 | D8: Jaarlijks worden 4 winacties georganiseerd | M8: Geraldine | N8: XCOM | P8: 1500 | Q8: 0 | R8: 1500 | S8: 0 | T8: 1500 | U8: 0 | V8: 1500 | W8: 0
A9: SD2 - SMASH | D9: Versterken van gemeenschappelijke focus en betrokkenheid van medewerkers in lijn met de missie, visie, waarden (= Internal Branding strategie) | P9: =SUM(P10) -> 2000 | Q9: =SUM(Q10) -> 0 | R9: =SUM(R10) -> 0 | S9: =SUM(S10) -> 0 | T9: =SUM(T10) -> 2000 | U9: =SUM(U10) -> 0 | V9: =SUM(V10) -> 0 | W9: =SUM(W10) -> 0 | ... AE9: =SUM(AE10) -> 0
B10: OD1 | D10: Interne banden en commitment worden versterkt dankzij een intern communicatiebeleid | O10: Aantal interne opleidingen | P10: =SUM(P11:P12) -> 2000 | Q10: =SUM(Q11:Q12) -> 0 | R10: =SUM(R11:R12) -> 0 | S10: =SUM(S11:S12) -> 0 | T10: =SUM(T11:T12) -> 2000 | U10: =SUM(U11:U12) -> 0 | V10: =SUM(V11:V12) -> 0 | W10: =SUM(W11:W12) -> 0 | ... AE10: =SUM(AE11:AE12) -> 0
C11: A1 | D11: Voorzien van regelmatige afstemming- & feedbackmomenten om alle medewerkers op één lijn te brengen | M11: Geraldine | N11: XCOM | P11: 0 | Q11: 0 | R11: 0 | S11: 0 | T11: 0 | U11: 0 | V11: 0 | W11: 0
C12: A2 | D12: Organisatie van een interne opleiding rond reputatiemanagement, verbindende communicatie en klantgerichtheid om een uniformisering uit te stralen | M12: Geraldine | N12: XCOM | P12: 2000 | Q12: 0 | R12: 0 | S12: 0 | T12: 2000 | U12: 0 | V12: 0 | W12: 0
A13: SD3 - PUSH | D13: Versterken van reputatie en creëren van positief imago om een community op te bouwen. (= Reputatiestrategie) | P13: =SUM(P14,P18,P23,P26) -> 5500 | Q13: =SUM(Q14,Q18,Q23,Q26) -> 0 | R13: =SUM(R14,R18,R23,R26) -> 8000 | S13: =SUM(S14,S18,S23,S26) -> 0 | T13: =SUM(T14,T18,T23,T26) -> 7000 | U13: =SUM(U14,U18,U23,U26) -> 0 | V13: =SUM(V14,V18,V23,V26) -> 6000 | W13: =SUM(W14,W18,W23,W26) -> 0 | ... AE13: =SUM(AE14,AE18,AE23,AE26) -> 0
B14: OD1 | D14: Vergroten zichtbaarheid van 2 à 3 gezichten binnen de federatie in lijn met missie, visie & waarden. | O14: Aantal communicaties per persoon | P14: =SUM(P15:P17) -> 1000 | Q14: =SUM(Q15:Q17) -> 0 | R14: =SUM(R15:R17) -> 0 | S14: =SUM(S15:S17) -> 0 | T14: =SUM(T15:T17) -> 1000 | U14: =SUM(U15:U17) -> 0 | V14: =SUM(V15:V17) -> 0 | W14: =SUM(W15:W17) -> 0 | ... AE14: =SUM(AE15:AE17) -> 0
C15: A1 | D15: Aanduiden van de 'gezichten' van Badminton Vlaanderen die ook als woordvoerder optreden | M15: Geraldine | N15: XCOM | P15: 1000 | Q15: 0 | R15: 0 | S15: 0 | T15: 1000 | U15: 0 | V15: 0 | W15: 0
C16: A2 | D16: Aanbieden van personal branding en social media training ter ondersteuning | M16: Geraldine | N16: XCOM | P16: 0 | Q16: 0 | R16: 0 | S16: 0 | T16: 0 | U16: 0 | V16: 0 | W16: 0
C17: A3 | D17: Per 'gezicht' wordt minimum 1x/maand over Badminton Vlaanderen gecommuniceerd via LinkedIn, ... | M17: Geraldine | N17: XCOM | P17: 0 | Q17: 0 | R17: 0 | S17: 0 | T17: 0 | U17: 0 | V17: 0 | W17: 0
B18: OD2 | D18: Tegen 2028 fungeren 4 Ambassadeurs als voorbeeldfunctie. (Ambassadeursstrategie) | O18: Aantal ambassadeurs | P18: =SUM(P19:P22) -> 1000 | Q18: =SUM(Q19:Q22) -> 0 | R18: =SUM(R19:R22) -> 2000 | S18: =SUM(S19:S22) -> 0 | T18: =SUM(T19:T22) -> 0 | U18: =SUM(U19:U22) -> 0 | V18: =SUM(V19:V22) -> 0 | W18: =SUM(W19:W22) -> 0 | ... AE18: =SUM(AE19:AE22) -> 0
C19: A1 | D19: Een ambassadeursstrategie wordt uitgetekend | M19: Geraldine | N19: XCOM | P19: 1000 | Q19: 0 | R19: 0 | S19: 0 | T19: 0 | U19: 0 | V19: 0 | W19: 0
C20: A2 | D20: Een oplijsting van namen wie in aanmerking komt als 'Ambassadeur' | M20: Geraldine | N20: XCOM | P20: 0 | Q20: 0 | R20: 2000 | S20: 0 | T20: 0 | U20: 0 | V20: 0 | W20: 0
C21: A3 | D21: Een overeenkomst wordt opgezet per Ambassadeur met richtlijnen | M21: Geraldine | N21: XCOM | P21: 0 | Q21: 0 | R21: 0 | S21: 0 | T21: 0 | U21: 0 | V21: 0 | W21: 0
C22: A4 | D22: Monitoring, feedback- en evaluatiemomenten worden ingepland | M22: Geraldine | N22: XCOM | P22: 0 | Q22: 0 | R22: 0 | S22: 0 | T22: 0 | U22: 0 | V22: 0 | W22: 0
B23: OD3 | D23: Vergroten van engagement vanuit de clubs en leden. | O23: Percentage openingsrate | P23: =SUM(P24:P25) -> 3500 | Q23: =SUM(Q24:Q25) -> 0 | R23: =SUM(R24:R25) -> 6000 | S23: =SUM(S24:S25) -> 0 | T23: =SUM(T24:T25) -> 6000 | U23: =SUM(U24:U25) -> 0 | V23: =SUM(V24:V25) -> 6000 | W23: =SUM(W24:W25) -> 0 | ... AE23: =SUM(AE24:AE25) -> 0
C24: A1 | D24: Vergroten van de openingsrate van de nieuwsbrief van 60% naar 80% | M24: Geraldine | N24: XCOM | P24: 1000 | Q24: 0 | R24: 1000 | S24: 0 | T24: 1000 | U24: 0 | V24: 1000 | W24: 0
C25: A2 | D25: Gepersonaliseerde communicatieboodschappen worden gedefinieerd en uitgevoerd, ondersteund door professioneel beeldmateriaal | M25: Geraldine | N25: XCOM | P25: 2500 | Q25: 0 | R25: 5000 | S25: 0 | T25: 5000 | U25: 0 | V25: 5000 | W25: 0
B26: OD4 | D26: Opzetten van een fanstrategie. (= Fanstrategie) | O26: Aantal communitymembers | P26: =SUM(P27:P29) -> 0 | Q26: =SUM(Q27:Q29) -> 0 | R26: =SUM(R27:R29) -> 0 | S26: =SUM(S27:S29) -> 0 | T26: =SUM(T27:T29) -> 0 | U26: =SUM(U27:U29) -> 0 | V26: =SUM(V27:V29) -> 0 | W26: =SUM(W27:W29) -> 0 | ... AE26: =SUM(AE27:AE29) -> 0
C27: A1 | D27: Ontwikkelen van een fanstrategie | M27: Geraldine | N27: XCOM | P27: 0 | Q27: 0 | R27: 0 | S27: 0 | T27: 0 | U27: 0 | V27: 0 | W27: 0
C28: A2 | D28: Analyse van tools en apps voor communitybuilding | M28: Geraldine | N28: XCOM | P28: 0 | Q28: 0 | R28: 0 | S28: 0 | T28: 0 | U28: 0 | V28: 0 | W28: 0
C29: A3 | D29: Uitvoering communitystrategie | M29: Geraldine | N29: XCOM
A30: SD4 - LOB | D30: Vergroten en promoten van de naamsbekendheid van Badminton Vlaanderen. | P30: =SUM(P31) -> 3000 | Q30: =SUM(Q31) -> 0 | R30: =SUM(R31) -> 4500 | S30: =SUM(S31) -> 0 | T30: =SUM(T31) -> 3000 | U30: =SUM(U31) -> 0 | V30: =SUM(V31) -> 4500 | W30: =SUM(W31) -> 0 | ... AE30: =SUM(AE31) -> 0
B31: OD1 | D31: Samenwerken met (lokale) stakeholders zoals gemeenten/steden/sportdiensten om badminton als sport te promoten. | O31: Aantal samenwerkingen | P31: =SUM(P32:P33) -> 3000 | Q31: =SUM(Q32:Q33) -> 0 | R31: =SUM(R32:R33) -> 4500 | S31: =SUM(S32:S33) -> 0 | T31: =SUM(T32:T33) -> 3000 | U31: =SUM(U32:U33) -> 0 | V31: =SUM(V32:V33) -> 4500 | W31: =SUM(W32:W33) -> 0 | ... AE31: =SUM(AE32:AE33) -> 0
C32: A1 | D32: Bij gemeenschappelijk organisaties zal de samenwerkingsgraad in 2025, 2026, 2027 75% bedragen en vanaf 2028 streven we naar 100% samenwerking met de betrokken stakeholders | M32: Geraldine | N32: XCOM | P32: 0 | Q32: 0 | R32: 0 | S32: 0 | T32: 0 | U32: 0 | V32: 0 | W32: 0
C33: A2 | D33: Vergroten van pers- & media aandacht door middel van minimum 2x/jaar PR-support en/of acties | M33: Geraldine | N33: XCOM | P33: 3000 | Q33: 0 | R33: 4500 | S33: 0 | T33: 3000 | U33: 0 | V33: 4500 | W33: 0
P34: =SUM(P30,P13,P9,P4) -> 18250 | Q34: =SUM(Q30,Q13,Q9,Q4) -> 0 | R34: =SUM(R30,R13,R9,R4) -> 18000 | S34: =SUM(S30,S13,S9,S4) -> 0 | T34: =SUM(T30,T13,T9,T4) -> 16500 | U34: =SUM(U30,U13,U9,U4) -> 0 | V34: =SUM(V30,V13,V9,V4) -> 15000 | W34: =SUM(W30,W13,W9,W4) -> 0 | ... AE34: =SUM(AE30,AE13,AE9,AE4) -> 0

Sheet Events
A1: Badminton Vlaanderen / Events | E1: Timing | I1: Status uitvoering actie/doelstelling | P1: Begroting | X1: Status resultatenrekening
A2: SD | B2: OD | C2: Actie | D2: Omschrijving | E2: 2025 | F2: 2026 | G2: 2027 | H2: 2028 | I2: 2025 | J2: 2026 | K2: 2027 | L2: 2028 | M2: Verantw | N2: Ana-lytische code | O2: Indicator | P2: kosten | Q2: opbrengsten | R2: kosten | S2: opbrengsten | T2: kosten | U2: opbrengsten | V2: kosten | W2: opbrengsten | X2: kosten | Y2: opbrengsten | Z2: kosten | AA2: opbrengsten | AB2: kosten | AC2: opbrengsten | AD2: kosten | AE2: opbrengsten
P3: 2025 | Q3: 2025 | R3: 2026 | S3: 2026 | T3: 2027 | U3: 2027 | V3: 2028 | W3: 2028 | X3: 2025 | Y3: 2025 | Z3: 2026 | AA3: 2026 | AB3: 2027 | AC3: 2027 | AD3: 2028 | AE3: 2028
A4: SD1 - PUSH | D4: Tegen 2028 willen we van de Yonex Belgian International een toekomstbestendig event maken wat een concrete meerwaarde (deelname Belgische spelers + umpires, persaandacht, commercieel, voor scholen en jeugdclubs) voor de badmintonsport in Vlaanderen. | P4: =SUM(P5,P9) -> 155000 | Q4: =SUM(Q5,Q9) -> 125000 | R4: =SUM(R5,R9) -> 160000 | S4: =SUM(S5,S9) -> 140000 | T4: =SUM(T5,T9) -> 165000 | U4: =SUM(U5,U9) -> 150000 | V4: =SUM(V5,V9) -> 170000 | W4: =SUM(W5,W9) -> 160000 | ... AE4: =SUM(AE5,AE9) -> 0
B5: OD1 | D5: Het evenement moet georganiseerd worden op een manier die zowel financieel als operationeel van hoge kwaliteit is. | O5: Begroting van evenement & aantal kernteamleden | P5: =SUM(P6:P8) -> 155000 | Q5: =SUM(Q6:Q8) -> 125000 | R5: =SUM(R6:R8) -> 160000 | S5: =SUM(S6:S8) -> 140000 | T5: =SUM(T6:T8) -> 165000 | U5: =SUM(U6:U8) -> 150000 | V5: =SUM(V6:V8) -> 170000 | W5: =SUM(W6:W8) -> 160000 | ... AE5: =SUM(AE6:AE8) -> 0
C6: A1 | D6: Financieel break even draaien tegen 2028 door meer inkomsten te genereren | M6: Jasper | N6: EYBI | P6: 155000 | Q6: 125000 | R6: 160000 | S6: 140000 | T6: 165000 | U6: 150000 | V6: 170000 | W6: 160000
C7: A2 | D7: Een kernteam van minimum 10 vrijwilligers met organisatorische kwaliteiten hebben | M7: Jasper | N7: EYBI | P7: 0 | Q7: 0 | R7: 0 | S7: 0 | T7: 0 | U7: 0 | V7: 0 | W7: 0
C8: A3 | D8: Zoektocht naar een nieuwe locatie om tornooi zowel financieel als organisatorisch te optimaliseren | M8: Jasper | N8: EYBI | P8: 0 | Q8: 0 | R8: 0 | S8: 0 | T8: 0 | U8: 0 | V8: 0 | W8: 0
B9: OD2 | D9: Het evenement moet commerciële en promotionele meerwaarde genereren. | O9: / | P9: =SUM(P10:P11) -> 0 | Q9: =SUM(Q10:Q11) -> 0 | R9: =SUM(R10:R11) -> 0 | S9: =SUM(S10:S11) -> 0 | T9: =SUM(T10:T11) -> 0 | U9: =SUM(U10:U11) -> 0 | V9: =SUM(V10:V11) -> 0 | W9: =SUM(W10:W11) -> 0 | ... AE9: =SUM(AE10:AE11) -> 0
C10: A1 | D10: Organiseren van side events met een meerwaarde voor jeugd- en recreatieve badmintonspelers met als focus om nieuwe leden te krijgen | M10: Jasper | N10: EYBI | P10: 0 | Q10: 0 | R10: 0 | S10: 0 | T10: 0 | U10: 0 | V10: 0 | W10: 0
C11: A2 | D11: Het event wordt via de nationale pers onder aandacht gebracht | M11: Jasper/Geraldine | N11: EYBI | P11: 0 | Q11: 0 | R11: 0 | S11: 0 | T11: 0 | U11: 0 | V11: 0 | W11: 0
A12: SD2 - PUSH | D12: Tegen 2028 willen we dat alle Kampioenschappen (Belgische en Vlaamse) + internationale jeugdtornooien op een professionele manier georganiseerd worden. | P12: =SUM(P13,P20,P26) -> 24500 | Q12: =SUM(Q13,Q20,Q26) -> 10250 | R12: =SUM(R13,R20,R26) -> 51500 | S12: =SUM(S13,S20,S26) -> 26250 | T12: =SUM(T13,T20,T26) -> 23500 | U12: =SUM(U13,U20,U26) -> 10250 | V12: =SUM(V13,V20,V26) -> 50500 | W12: =SUM(W13,W20,W26) -> 26250 | ... AE12: =SUM(AE13,AE20,AE26) -> 0
B13: OD1 | D13: Jaarlijks zal Badminton Vlaanderen minstens 3 grote events coördineren. | O13: Aantal georganiseerde events | P13: =SUM(P14:P19) -> 20500 | Q13: =SUM(Q14:Q19) -> 9750 | R13: =SUM(R14:R19) -> 47500 | S13: =SUM(S14:S19) -> 25750 | T13: =SUM(T14:T19) -> 20500 | U13: =SUM(U14:U19) -> 9750 | V13: =SUM(V14:V19) -> 47500 | W13: =SUM(W14:W19) -> 25750 | ... AE13: =SUM(AE14:AE19) -> 0
D14: Organisatie Belgisch Kampioenschap Elite | M14: Jasper | N14: EBKE | P14: 0 | Q14: 0 | R14: 15000 | S14: 10000 | T14: 0 | U14: 0 | V14: 15000 | W14: 10000
D15: Organisatie Belgisch Kampioenschap Jeugd | M15: Jasper | N15: EBKJ | P15: 0 | Q15: 0 | R15: 12000 | S15: 6000 | T15: 0 | U15: 0 | V15: 12000 | W15: 6000
D16: Organisatie Belgisch Kampioenschap G-Badminton | M16: Jasper | N16: EBKG | P16: 0 | Q16: 0 | R16: 8000 | S16: 3000 | T16: 0 | U16: 0 | V16: 8000 | W16: 3000
D17: Organisatie Belgisch Kampioenschap Senioren | M17: Jasper | N17: EBKS | P17: 8000 | Q17: 3000 | R17: 0 | S17: 0 | T17: 8000 | U17: 3000 | V17: 0 | W17: 0
D18: Organisatie Vlaams Kampioenschap Elite | M18: Jasper | N18: EVK | P18: 12000 | Q18: 6000 | R18: 12000 | S18: 6000 | T18: 12000 | U18: 6000 | V18: 12000 | W18: 6000
D19: Ondersteuning internationale jeugdtornooien | M19: Jasper | N19: EAW | P19: 500 | Q19: 750 | R19: 500 | S19: 750 | T19: 500 | U19: 750 | V19: 500 | W19: 750
B20: OD2 | D20: Door middel van een gedetailleerd draaiboek en strikte organisatievoorwaarden streven we ernaar de coherentie en kwaliteit van elk evenement te waarborgen en continu te verbeteren. | O20: / | P20: =SUM(P21:P25) -> 2000 | Q20: =SUM(Q21:Q25) -> 500 | R20: =SUM(R21:R25) -> 2000 | S20: =SUM(S21:S25) -> 500 | T20: =SUM(T21:T25) -> 2000 | U20: =SUM(U21:U25) -> 500 | V20: =SUM(V21:V25) -> 2000 | W20: =SUM(W21:W25) -> 500 | ... AE20: =SUM(AE21:AE25) -> 0
C21: A1 | D21: Het inzetten van het Event Support Team om de logistieke en operationele aspecten van evenementen te stroomlijnen | M21: Jasper | N21: EAW | P21: 500 | Q21: 0 | R21: 500 | S21: 0 | T21: 500 | U21: 0 | V21: 500 | W21: 0
C22: A2 | D22: Vaste clubs per provincie zoeken die om de 8 jaar een event willen/kunnen organiseren | M22: Jasper | N22: EAW | P22: 0 | Q22: 0 | R22: 0 | S22: 0 | T22: 0 | U22: 0 | V22: 0 | W22: 0
C23: A3 | D23: Livestream voorzien op elk Vlaams - en Belgisch Kampioenschap | M23: Jasper/Geraldine | N23: EAW | P23: 1000 | Q23: 0 | R23: 1000 | S23: 0 | T23: 1000 | U23: 0 | V23: 1000 | W23: 0
C24: A4 | D24: Randactiviteiten organiseren om legacy van de events te vergroten in de lokale omgeving | M24: Jasper | N24: EAW | P24: 500 | Q24: 0 | R24: 500 | S24: 0 | T24: 500 | U24: 0 | V24: 500 | W24: 0
C25: A5 | D25: We zetten samenwerkingen op met lokale besturen en stakeholders (2025-2027: 75%, 2028: 100%) | M25: Jasper | N25: EAW | P25: 0 | Q25: 500 | R25: 0 | S25: 500 | T25: 0 | U25: 500 | V25: 0 | W25: 500
B26: OD2 | D26: Tegen 2028 zal een volledig operationeel Event Support Team (EST) opgestart zijn. | O26: Aantal personen in EST | P26: =SUM(P27:P30) -> 2000 | Q26: =SUM(Q27:Q30) -> 0 | R26: =SUM(R27:R30) -> 2000 | S26: =SUM(S27:S30) -> 0 | T26: =SUM(T27:T30) -> 1000 | U26: =SUM(U27:U30) -> 0 | V26: =SUM(V27:V30) -> 1000 | W26: =SUM(W27:W30) -> 0 | ... AE26: =SUM(AE27:AE30) -> 0
C27: A1 | D27: Tegen 2026 stellen we een EST samen met minstens 2 personen per provincie | M27: Jasper | N27: EAW | P27: 1500 | Q27: 0 | R27: 1500 | S27: 0 | T27: 500 | U27: 0 | V27: 500 | W27: 0
C28: A2 | D28: We ontwikkelen een standaardprocedure voor het EST | M28: Jasper | N28: EAW | P28: 500 | Q28: 0 | R28: 500 | S28: 0 | T28: 0 | U28: 0 | V28: 0 | W28: 0
C29: A3 | D29: Vanaf 2027 kunnen leden van het Event Support Team een opleiding volgen | M29: Jasper | N29: EAW | P29: 0 | Q29: 0 | R29: 0 | S29: 0 | T29: 500 | U29: 0 | V29: 500 | W29: 0
C30: A4 | D30: De werking en individuele bijdrage van het Event Support Team worden jaarlijks in december geëvalueerd op basis van feedback van de teamleden en de clubs | M30: Jasper | N30: EAW | P30: 0 | Q30: 0 | R30: 0 | S30: 0 | T30: 0 | U30: 0 | V30: 0 | W30: 0
A31: SD3 - PUSH | D31: Tegen 2028 streven we ernaar om een solide organisatiestructuur te hebben opgezet en een gedegen financieel plan te hebben ontwikkeld om een Internationaal Kampioenschap te organiseren. | P31: =SUM(P32,P37) -> 500 | Q31: =SUM(Q32,Q37) -> 0 | R31: =SUM(R32,R37) -> 500 | S31: =SUM(S32,S37) -> 0 | T31: =SUM(T32,T37) -> 500 | U31: =SUM(U32,U37) -> 0 | V31: =SUM(V32,V37) -> 500 | W31: =SUM(W32,W37) -> 0 | ... AE31: =SUM(AE32,AE37) -> 0
B32: OD1 | D32: Tegen 2028 willen we een financieel en organisatorisch plan klaar hebben om een Europees Kampioenschap te organiseren in 2030 ter ere van de 200e verjaardag van België. | O32: Plan van aanpak EK | P32: =SUM(P33:P36) -> 0 | Q32: =SUM(Q33:Q36) -> 0 | R32: =SUM(R33:R36) -> 0 | S32: =SUM(S33:S36) -> 0 | T32: =SUM(T33:T36) -> 500 | U32: =SUM(U33:U36) -> 0 | V32: =SUM(V33:V36) -> 500 | W32: =SUM(W33:W36) -> 0 | ... AE32: =SUM(AE33:AE36) -> 0
C33: A1 | D33: Opstellen van een event draaiboek en financieel plan voor de organisatie van het event en het EK effectief toegewezen te krijgen door Badminton Europe | M33: Jasper | N33: EAW | P33: 0 | Q33: 0 | R33: 0 | S33: 0 | T33: 0 | U33: 0 | V33: 0 | W33: 0
C34: A1 | D34: Op de been brengen van een sterk organisatieteam van 10 vrijwilligers wat zijn schouders mee onder de organisatie wil zetten | M34: Jasper | N34: EAW | P34: 0 | Q34: 0 | R34: 0 | S34: 0 | T34: 500 | U34: 0 | V34: 500 | W34: 0
C35: A2 | D35: Een locatie vinden waarbij voldoende mogelijkheden zijn zodat het evenement zowel sportief als extrasportief een grote indruk kan nalaten | M35: Jasper | N35: EAW | P35: 0 | Q35: 0 | R35: 0 | S35: 0 | T35: 0 | U35: 0 | V35: 0 | W35: 0
C36: A3 | D36: Sponsorinkomsten verzamelen wat minimaal gelijk is aan de kosten van de organisation fee | M36: Jasper | N36: EAW | P36: 0 | Q36: 0 | R36: 0 | S36: 0 | T36: 0 | U36: 0 | V36: 0 | W36: 0
B37: OD2 | D37: Tegen 2028 willen we de haalbaarheid onderzoeken van het organiseren van een vierjaarlijks parabadmintontornooi. | O37: Plan van aanpak parabadminton event | P37: =SUM(P38:P40) -> 500 | Q37: =SUM(Q38:Q40) -> 0 | R37: =SUM(R38:R40) -> 500 | S37: =SUM(S38:S40) -> 0 | T37: =SUM(T38:T40) -> 0 | U37: =SUM(U38:U40) -> 0 | V37: =SUM(V38:V40) -> 0 | W37: =SUM(W38:W40) -> 0 | ... AE37: =SUM(AE38:AE40) -> 0
C38: A1 | D38: Opstellen van financieel plan in samenspraak met overige partners. | M38: Jasper | N38: EAW | P38: 0 | Q38: 0 | R38: 0 | S38: 0 | T38: 0 | U38: 0 | V38: 0 | W38: 0
C39: A2 | D39: Ontwerpen van draaiboek voor organisatie van Internationaal event in samenspraak met partners. | M39: Jasper | N39: EAW | P39: 0 | Q39: 0 | R39: 0 | S39: 0 | T39: 0 | U39: 0 | V39: 0 | W39: 0
C40: A3 | D40: Tijdens de opstartfase (2025-2026) zal er jaarlijks minstens 2 contactmomenten georganiseerd worden om ervaring op te doen omtrent de organisatie van intenationale parabadminton events. | M40: Jasper | N40: EAW | P40: 500 | Q40: 0 | R40: 500 | S40: 0 | T40: 0 | U40: 0 | V40: 0 | W40: 0
P41: =SUM(P31,P12,P4) -> 180000 | Q41: =SUM(Q31,Q12,Q4) -> 135250 | R41: =SUM(R31,R12,R4) -> 212000 | S41: =SUM(S31,S12,S4) -> 166250 | T41: =SUM(T31,T12,T4) -> 189000 | U41: =SUM(U31,U12,U4) -> 160250 | V41: =SUM(V31,V12,V4) -> 221000 | W41: =SUM(W31,W12,W4) -> 186250 | ... AE41: =SUM(AE31,AE12,AE4) -> 0

Sheet Overige werking
A1: Badminton Vlaanderen/ Overige werking | E1: Timing | I1: Status uitvoering actie/doelstelling | O1: Begroting | W1: Status resultatenrekening
A2: SD | B2: OD | C2: Actie | D2: Omschrijving | E2: 2025 | F2: 2026 | G2: 2027 | H2: 2028 | I2: 2025 | J2: 2026 | K2: 2027 | L2: 2028 | M2: Verantw | N2: Ana-lytische code | O2: kosten 2025 | P2: opbrengsten 2025 | Q2: kosten 2026 | R2: opbrengsten 2026 | S2: kosten 2027 | T2: opbrengsten 2027 | U2: kosten 2028 | V2: opbrengsten 2028 | W2: kosten 2025 | X2: opbrengsten 2025 | Y2: kosten 2026 | Z2: opbrengsten 2026 | AA2: kosten 2027 | AB2: opbrengsten 2027 | AC2: kosten 2028 | AD2: opbrengsten 2028
A3: DM1 | D3: Algemene werking | O3: =O4+O19+O22+O14 -> 707248.81 | P3: =P4+P19+P22+P14 -> 1061783.8 | Q3: =Q4+Q19+Q22+Q14 -> 729367.06 | R3: =R4+R19+R22+R14 -> 1095000 | S3: =S4+S19+S22+S14 -> 759700 | T3: =T4+T19+T22+T14 -> 1120000 | U3: =U4+U19+U22+U14 -> 775200 | V3: =V4+V19+V22+V14 -> 1148000 | ... AD3: =AD4+AD19+AD22+AD14 -> 0
B4: IT1 | D4: Dienstencentrum vaste kost | O4: =SUM(O5:O13) -> 170700 | P4: =SUM(P5:P13) -> 0 | Q4: =SUM(Q5:Q13) -> 176700 | R4: =SUM(R5:R13) -> 0 | S4: =SUM(S5:S13) -> 175700 | T4: =SUM(T5:T13) -> 0 | U4: =SUM(U5:U13) -> 180700 | V4: =SUM(V5:V13) -> 0 | ... AD4: =SUM(AD5:AD13) -> 0
C5: A1 | D5: Bijdragen (KBBF, BE,...) | N5: AW | O5: 15000 | P5: 0 | Q5: 16000 | R5: 0 | S5: 17000 | T5: 0 | U5: 18000 | V5: 0
C6: A2 | D6: Huur/onderhoud | N6: ADC | O6: 30000 | P6: 0 | Q6: 32500 | R6: 0 | S6: 35000 | T6: 0 | U6: 37500 | V6: 0
C7: A3 | D7: ICT | N7: ASOF | O7: 20000 | P7: 0 | Q7: 15000 | R7: 0 | S7: 15000 | T7: 0 | U7: 15000 | V7: 0
C8: A4 | D8: Leasing bedrijfswagen | N8: AVOE | O8: 19200 | P8: 0 | Q8: 19200 | R8: 0 | S8: 19200 | T8: 0 | U8: 19200 | V8: 0
C9: A5 | D9: Kost minibussen | N9: AVOE | O9: 6500 | P9: 0 | Q9: 6500 | R9: 0 | S9: 6500 | T9: 0 | U9: 6500 | V9: 0
C10: A6 | D10: Afschrijvingen | N10: AAF | O10: 15000 | P10: 0 | Q10: 24000 | R10: 0 | S10: 15000 | T10: 0 | U10: 15000 | V10: 0
C11: A7 | D11: Fin Opvolging (revisor, SBB, fin commissies) | N11: AFIN | O11: 15000 | P11: 0 | Q11: 12000 | R11: 0 | S11: 12000 | T11: 0 | U11: 12000 | V11: 0
C12: A8 | D12: Uitleendienst | N12: AUD | O12: 15000 | P12: 0 | Q12: 16500 | R12: 0 | S12: 18000 | T12: 0 | U12: 19500 | V12: 0
C13: A9 | D13: Ledenbeheer | N13: AW | O13: 35000 | P13: 0 | Q13: 35000 | R13: 0 | S13: 38000 | T13: 0 | U13: 38000 | V13: 0
B14: IT2 | D14: Bestuursorgaan | O14: =SUM(O15:O18) -> 12000 | P14: =SUM(P15:P18) -> 0 | Q14: =SUM(Q15:Q18) -> 13500 | R14: =SUM(R15:R18) -> 0 | S14: =SUM(S15:S18) -> 14000 | T14: =SUM(T15:T18) -> 0 | U14: =SUM(U15:U18) -> 14500 | V14: =SUM(V15:V18) -> 0 | ... AD14: =SUM(AD15:AD18) -> 0
C15: A1 | D15: Goed Bestuur | N15: ABO | O15: 0 | P15: 0 | Q15: 1000 | R15: 0 | S15: 1000 | T15: 0 | U15: 1000 | V15: 0
C16: A2 | D16: Verplaatsingsonkosten | N16: ABO | O16: 5000 | P16: 0 | Q16: 5500 | R16: 0 | S16: 6000 | T16: 0 | U16: 6500 | V16: 0
C17: A3 | D17: Variabele kosten | N17: ABO | O17: 3000 | P17: 0 | Q17: 3000 | R17: 0 | S17: 3000 | T17: 0 | U17: 3000 | V17: 0
C18: A4 | D18: Organisatie activiteiten (AV, BAV, beleidsdag, …) | N18: ABO | O18: 4000 | P18: 0 | Q18: 4000 | R18: 0 | S18: 4000 | T18: 0 | U18: 4000 | V18: 0
B19: IT3 | D19: Personeel | O19: =SUM(O20:O21) -> 389548.81 | P19: =SUM(P20:P21) -> 70000 | Q19: =SUM(Q20:Q21) -> 389167.06 | R19: =SUM(R20:R21) -> 70000 | S19: =SUM(S20:S21) -> 415000 | T19: =SUM(T20:T21) -> 70000 | U19: =SUM(U20:U21) -> 425000 | V19: =SUM(V20:V21) -> 70000 | ... AD19: =SUM(AD20:AD21) -> 0
C20: A1 | D20: Loonkost | N20: AP | O20: 389548.81 | P20: 0 | Q20: =408000-26832.94+8000 -> 389167.06 | R20: 0 | S20: 415000 | T20: 0 | U20: 425000 | V20: 0
C21: A2 | D21: Overheid | N21: AP | O21: 0 | P21: 70000 | Q21: 0 | R21: 70000 | S21: 0 | T21: 70000 | U21: 0 | V21: 70000
B22: IT4 | D22: Algemene inkomsten/uitgaven | O22: =SUM(O23:O27) -> 135000 | P22: =SUM(P23:P27) -> 991783.75 | Q22: =SUM(Q23:Q27) -> 150000 | R22: =SUM(R23:R27) -> 1025000 | S22: =SUM(S23:S27) -> 155000 | T22: =SUM(T23:T27) -> 1050000 | U22: =SUM(U23:U27) -> 155000 | V22: =SUM(V23:V27) -> 1078000 | ... AD22: =SUM(AD23:AD27) -> 0
C23: A1 | D23: Subsidie Sport Vlaanderen | N23: AW | O23: 0 | P23: 431783.75 | Q23: 0 | R23: 435000 | S23: 0 | T23: 435000 | U23: 0 | V23: 453000
C24: A2 | D24: Lidgeld | N24: ACL | O24: 0 | P24: 525000 | Q24: 0 | R24: 550000 | S24: 0 | T24: 570000 | U24: 0 | V24: 575000
C25: A3 | D25: Verzekering | N25: AVERZ | O25: 110000 | P25: 0 | Q25: 125000 | R25: 0 | S25: 130000 | T25: 0 | U25: 130000 | V25: 0
C26: A4 | D26: Sponsoring & Termijnsparen | N26: AW | O26: 0 | P26: 35000 | Q26: 0 | R26: 40000 | S26: 0 | T26: 45000 | U26: 0 | V26: 50000
C27: A5 | D27: Subsidie Provinciale verenigingen | N27: ASPR | O27: 25000 | P27: 0 | Q27: 25000 | R27: 0 | S27: 25000 | T27: 0 | U27: 25000 | V27: 0
A28: DM2 | D28: Topsport | O28: =O29 -> 358558 | P28: =P29 -> 257338 | Q28: =Q29 -> 326500 | R28: =R29 -> 98640 | S28: =S29 -> 331500 | T28: =T29 -> 98640 | U28: =U29 -> 341500 | V28: =V29 -> 98640 | ... AD28: =AD29 -> 0
B29: IT1 | D29: Topsport | O29: =SUM(O30:O32) -> 358558 | P29: =SUM(P30:P32) -> 257338 | Q29: =SUM(Q30:Q32) -> 326500 | R29: =SUM(R30:R32) -> 98640 | S29: =SUM(S30:S32) -> 331500 | T29: =SUM(T30:T32) -> 98640 | U29: =SUM(U30:U32) -> 341500 | V29: =SUM(V30:V32) -> 98640 | ... AD29: =SUM(AD30:AD32) -> 0
C30: A1 | D30: Loonkost | N30: TP | O30: 190605 | P30: 161548 | Q30: 235000 | S30: 240000 | U30: 250000
C31: A2 | D31: Structuur Elite | N31: OPBAD2 | O31: 65302 | P31: 6720 | Q31: 60000 | R31: 35000 | S31: 60000 | T31: 35000 | U31: 60000 | V31: 35000
C32: A3 | D32: Structuur Jeugd | N32: OPBAD1 | O32: 102651 | P32: 89070 | Q32: 31500 | R32: 63640 | S32: 31500 | T32: 63640 | U32: 31500 | V32: 63640
O33: =O3+O28 -> 1065806.8 | P33: =P3+P28 -> 1319121.8 | Q33: =Q3+Q28 -> 1055867.1 | R33: =R3+R28 -> 1193640 | S33: =S3+S28 -> 1091200 | T33: =T3+T28 -> 1218640 | U33: =U3+U28 -> 1116700 | V33: =V3+V28 -> 1246640 | ... AD33: =AD3+AD28 -> 0

Sheet Overzicht
A1: Badminton Vlaanderen / Overzicht | E1: Begroting | Q1: Status resultatenrekening
A2: Werking | E2: kosten 2025 | F2: opbrengsten 2025 | G2: Totaal 2025 | H2: kosten 2026 | I2: opbrengsten 2026 | J2: Totaal 2026 | K2: kosten 2027 | L2: opbrengsten 2027 | M2: Totaal 2027 | N2: kosten 2028 | O2: opbrengsten 2028 | P2: Totaal 2028 | Q2: kosten 2025 | R2: opbrengsten 2025 | S2: kosten 2026 | T2: opbrengsten 2026 | U2: kosten 2027 | V2: opbrengsten 2027 | W2: kosten 2028 | X2: opbrengsten 2028
A3: Events | E3: =Events!P41 -> 180000 | F3: =Events!Q41 -> 135250 | G3: =F3-E3 -> -44750 | H3: =Events!R41 -> 212000 | I3: =Events!S41 -> 166250 | J3: =I3-H3 -> -45750 | K3: =Events!T41 -> 189000 | L3: =Events!U41 -> 160250 | M3: =L3-K3 -> -28750 | N3: =Events!V41 -> 221000 | O3: =Events!W41 -> 186250 | P3: =O3-N3 -> -34750
A4: Goed Bestuur | E4: ='Goed Bestuur'!P26 -> 2500 | F4: ='Goed Bestuur'!Q26 -> 0 | G4: =F4-E4 -> -2500 | H4: ='Goed Bestuur'!R26 -> 3500 | I4: ='Goed Bestuur'!S26 -> 0 | J4: =I4-H4 -> -3500 | K4: ='Goed Bestuur'!T26 -> 3000 | L4: ='Goed Bestuur'!U26 -> 0 | M4: =L4-K4 -> -3000 | N4: ='Goed Bestuur'!V26 -> 2500 | O4: ='Goed Bestuur'!W26 -> 0 | P4: =O4-N4 -> -2500
A5: Integriteit & Gezond sporten | E5: ='Integriteit & Gezond sporten'!P50 -> 6725 | F5: ='Integriteit & Gezond sporten'!Q50 -> 2350 | G5: =F5-E5 -> -4375 | H5: ='Integriteit & Gezond sporten'!R50 -> 6725 | I5: ='Integriteit & Gezond sporten'!S50 -> 2350 | J5: =I5-H5 -> -4375 | K5: ='Integriteit & Gezond sporten'!T50 -> 6725 | L5: ='Integriteit & Gezond sporten'!U50 -> 2550 | M5: =L5-K5 -> -4175 | N5: ='Integriteit & Gezond sporten'!V50 -> 6725 | O5: ='Integriteit & Gezond sporten'!W50 -> 2550 | P5: =O5-N5 -> -4175
A6: Jeugd | E6: =Jeugd!P38 -> 87250 | F6: =Jeugd!Q38 -> 68450 | G6: =F6-E6 -> -18800 | H6: =Jeugd!R38 -> 88500 | I6: =Jeugd!S38 -> 68450 | J6: =I6-H6 -> -20050 | K6: =Jeugd!T38 -> 85250 | L6: =Jeugd!U38 -> 68450 | M6: =L6-K6 -> -16800 | N6: =Jeugd!V38 -> 84900 | O6: =Jeugd!W38 -> 68450 | P6: =O6-N6 -> -16450
A7: Opleiding | E7: =Opleiding!P55 -> 86430.79 | F7: =Opleiding!Q55 -> 72010.82 | G7: =F7-E7 -> -14419.97 | H7: =Opleiding!R55 -> 74913.85 | I7: =Opleiding!S55 -> 67893.86 | J7: =I7-H7 -> -7019.99 | K7: =Opleiding!T55 -> 40032.05 | L7: =Opleiding!U55 -> 27950 | M7: =L7-K7 -> -12082.05 | N7: =Opleiding!V55 -> 30795 | O7: =Opleiding!W55 -> 32000 | P7: =O7-N7 -> 1205
A8: G-Badminton | E8: ='G-Badminton'!P58 -> 31650 | F8: ='G-Badminton'!Q58 -> 300 | G8: =F8-E8 -> -31350 | H8: ='G-Badminton'!R58 -> 32360 | I8: ='G-Badminton'!S58 -> 300 | J8: =I8-H8 -> -32060 | K8: ='G-Badminton'!T58 -> 32150 | L8: ='G-Badminton'!U58 -> 300 | M8: =L8-K8 -> -31850 | N8: ='G-Badminton'!V58 -> 33150 | O8: ='G-Badminton'!W58 -> 300 | P8: =O8-N8 -> -32850
A9: Communicatie | E9: =Communicatie!P34 -> 18250 | F9: =Communicatie!Q34 -> 0 | G9: =F9-E9 -> -18250 | H9: =Communicatie!R34 -> 18000 | I9: =Communicatie!S34 -> 0 | J9: =I9-H9 -> -18000 | K9: =Communicatie!T34 -> 16500 | L9: =Communicatie!U34 -> 0 | M9: =L9-K9 -> -16500 | N9: =Communicatie!V34 -> 15000 | O9: =Communicatie!W34 -> 0 | P9: =O9-N9 -> -15000
A10: Recreanten | E10: =Recreanten!P40 -> 19750 | F10: =Recreanten!Q40 -> 0 | G10: =F10-E10 -> -19750 | H10: =Recreanten!R40 -> 16750 | I10: =Recreanten!S40 -> 0 | J10: =I10-H10 -> -16750 | K10: =Recreanten!T40 -> 16750 | L10: =Recreanten!U40 -> 0 | M10: =L10-K10 -> -16750 | N10: =Recreanten!V40 -> 16250 | O10: =Recreanten!W40 -> 0 | P10: =O10-N10 -> -16250
A11: Overige werking | E11: ='Overige werking'!O33 -> 1065806.8 | F11: ='Overige werking'!P33 -> 1319121.8 | G11: =F11-E11 -> 253314.94 | H11: ='Overige werking'!Q33 -> 1055867.1 | I11: ='Overige werking'!R33 -> 1193640 | J11: =I11-H11 -> 137772.94 | K11: ='Overige werking'!S33 -> 1091200 | L11: ='Overige werking'!T33 -> 1218640 | M11: =L11-K11 -> 127440 | N11: ='Overige werking'!U33 -> 1116700 | O11: ='Overige werking'!V33 -> 1246640 | P11: =O11-N11 -> 129940
A12: Sportkampen | E12: =Sportkampen!P40 -> 46150 | F12: =Sportkampen!Q40 -> 49400 | G12: =F12-E12 -> 3250 | H12: =Sportkampen!R40 -> 46150 | I12: =Sportkampen!S40 -> 49400 | J12: =I12-H12 -> 3250 | K12: =Sportkampen!T40 -> 46150 | L12: =Sportkampen!U40 -> 49400 | M12: =L12-K12 -> 3250 | N12: =Sportkampen!V40 -> 46150 | O12: =Sportkampen!W40 -> 49400 | P12: =O12-N12 -> 3250
A13: Sportclubondersteuning | E13: =Sportclubondersteuning!P27 -> 8250 | F13: =Sportclubondersteuning!Q27 -> 1000 | G13: =F13-E13 -> -7250 | H13: =Sportclubondersteuning!R27 -> 8250 | I13: =Sportclubondersteuning!S27 -> 1000 | J13: =I13-H13 -> -7250 | K13: =Sportclubondersteuning!T27 -> 10750 | L13: =Sportclubondersteuning!U27 -> 1000 | M13: =L13-K13 -> -9750 | N13: =Sportclubondersteuning!V27 -> 10750 | O13: =Sportclubondersteuning!W27 -> 1000 | P13: =O13-N13 -> -9750
A14: Innovatie | E14: =Innovatie!P33 -> 27700 | F14: =Innovatie!Q33 -> 22250 | G14: =F14-E14 -> -5450 | H14: =Innovatie!R33 -> 26600 | I14: =Innovatie!S33 -> 22250 | J14: =I14-H14 -> -4350 | K14: =Innovatie!T33 -> 26600 | L14: =Innovatie!U33 -> 19250 | M14: =L14-K14 -> -7350 | N14: =Innovatie!V33 -> 26600 | O14: =Innovatie!W33 -> 19250 | P14: =O14-N14 -> -7350
A15: Competitieve Aspecten | E15: ='Competitieve aspecten'!P61 -> 27250 | F15: ='Competitieve aspecten'!Q61 -> 37600 | G15: =F15-E15 -> 10350 | H15: ='Competitieve aspecten'!R61 -> 25500 | I15: ='Competitieve aspecten'!S61 -> 40600 | J15: =I15-H15 -> 15100 | K15: ='Competitieve aspecten'!T61 -> 27000 | L15: ='Competitieve aspecten'!U61 -> 43500 | M15: =L15-K15 -> 16500 | N15: ='Competitieve aspecten'!V61 -> 29000 | O15: ='Competitieve aspecten'!W61 -> 44000 | P15: =O15-N15 -> 15000
A16: Officials | E16: =Officials!P44 -> 18350 | F16: =Officials!Q44 -> 2700 | G16: =F16-E16 -> -15650 | H16: =Officials!R44 -> 17640 | I16: =Officials!S44 -> 2740 | J16: =I16-H16 -> -14900 | K16: =Officials!T44 -> 19990 | L16: =Officials!U44 -> 2740 | M16: =L16-K16 -> -17250 | N16: =Officials!V44 -> 20240 | O16: =Officials!W44 -> 2740 | P16: =O16-N16 -> -17500
A17: Totaal | E17: =SUM(E3:E16) -> 1626062.6 | F17: =SUM(F3:F16) -> 1710432.6 | G17: =F17-E17 -> 84369.97 | H17: =SUM(H3:H16) -> 1632755.9 | I17: =SUM(I3:I16) -> 1614873.9 | J17: =I17-H17 -> -17882.05 | K17: =SUM(K3:K16) -> 1611097.1 | L17: =SUM(L3:L16) -> 1594030 | M17: =L17-K17 -> -17067.05 | N17: =SUM(N3:N16) -> 1659760 | O17: =SUM(O3:O16) -> 1652580 | P17: =O17-N17 -> -7180
F18: =F17-E17 -> 84369.97 | G18: =F18-E18 -> 84369.97 | I18: =I17-H17 -> -17882.05 | J18: =I18-H18 -> -17882.05 | L18: =L17-K17 -> -17067.05 | M18: =L18-K18 -> -17067.05 | O18: =O17-N17 -> -7180 | P18: =O18-N18 -> -7180
